Workbook
Name CC: 'Sieve Data'!$K$35
Name Clay: 'Sieve Data'!$K$19
Name Coarse_Cummalitive: 'Sieve Data'!$E$7
Name Crushed: 'Sieve Data'!$K$20
Name CU: 'Sieve Data'!$K$36
Name Dry_Density: 'Proctor Report'!$G$14
Name Fineness_Modulus: 'Sieve Data'!$K$30
Name Fines_Cumulative: 'Sieve Data'!$E$30
Name Gravel: 'Sieve Data'!$K$38
Name Liquid_Limit: 'Sieve Data'!$K$26
Name Non_Plastic: 'Sieve Data'!$K$24
Name OptMoist: 'Proctor Report'!$I$14
Name Organic: 'Sieve Data'!$K$17
Name Plastic_Limit: 'Sieve Data'!$K$27
Name Plasticity_Index: 'Sieve Data'!$K$28
Name Sand: 'Sieve Data'!$K$39
Name Silt: 'Sieve Data'!$K$18
Name Silt_Clay: 'Sieve Data'!$K$40
Name Sp.Gr.: 'Proctor Report'!$B$13
Name Split: 'Sieve Data'!$E$3
Name Split_Percent: 'Sieve Data'!$R$18
Name Split_Weight: 'Sieve Data'!$D$31
Name Total_Weight: 'Sieve Data'!$R$1

Sheet Sieve Data
A1: Copyright | B1: Spears Engineering & Technical Services PS, 1996-2004 | O1: Sieve | P1: Size | Q1: Total Weight= | R1: =IF(Split="x",D31,C28) -> 0 | AB1: 1 | AC1: =INDEX(Specs!F3:F398,AB1,1) -> No Specs Max | AF1: =COUNT(AE3:AE31) -> 29 | AG1: =INDEX(Specs!$E$3:$E$222,AB1,1) -> No Specs
D2: Input an "x" if applicable | G2: Date Received: | J2: Project: | O2: US | P2: mm | Q2: Weight | AC2: =INDEX(Specs!F3:F398,AB1+1,1) -> No Specs Min | AF2: =IF(MAX(AE3:AE31)=1,"Yes","No") -> Yes | AH2: Size | AI2: Max | AJ2: Min
D3: ONE SET OF SIEVES ONLY: | G3: Sample #: | J3: Location: | M3: 1 | N3: =IF(AF3="","",AF3) -> 1 | O3: =A11 -> 6.00" | P3: =B11 -> 150 | Q3: =IF(C11="","",C11) | R3: =IF(Q3="","",IF(Coarse_Cummalitive="x",Q3/Total_Weight,SUM(Q$3:Q3)/Total_Weight)) | S3: =IF(R3="","",1-R3) | T3: =IF(AND(Q3="",SUM($R$3:S3)>0),S4+((S2-S4)*(P3-P4)/(P2-P4)),S3) | U3: =TYPE(T3) -> 2 | V3: =IF(OR(U3=1,U3=2),"",P3) | W3: =IF(V3="",IF(OR(AND(U4=16,U2<16),AND(U4<16,U2=16),AND(U4=16,U2=16)),P3,""),"") | X3: =IF(W3="","",S3) | Y3: =IF(V3="","",MIN($X$3:X3)-MAX(X4:$X$31)) | Z3: =IF(V3="","",MIN($W$3:W3)-MAX(W4:$W$31)) | AA3: =IF(V3="","",(V3-MAX(W4:$W$31))/Z3*Y3+MAX(X4:$X$31)) | AB3: =IF(AA3="",IF(T3="",1,T3),AA3) -> 1 | AC3: =IF(VLOOKUP($AC$1,Specs!$F$3:$AI$398,2,FALSE)="","",VLOOKUP($AC$1,Specs!$F$3:$AI$398,2,FALSE)) -> 1 | AD3: =IF(VLOOKUP($AC$2,Specs!$F$3:$AI$398,2,FALSE)="","",VLOOKUP($AC$2,Specs!$F$3:$AI$398,2,FALSE)) -> 0 | AE3: =IF(AC3="","",IF(AND(AB3<=AC3,AB3>=AD3),1,2)) -> 1 | AF3: =IF(AE3="","",1) -> 1 | AG3: =VLOOKUP(MAX($AF$3:$AF$31),AF3:AF31,1) -> 29 | AH3: =IF(AG3="",200,VLOOKUP(AG3,$N$3:$AD$31,3,FALSE)) -> 0.075 | AI3: =IF(AG3="",1,VLOOKUP(AG3,$N$3:$AD$31,16,FALSE)) -> 1 | AJ3: =IF(AG3="",1,VLOOKUP(AG3,$N$3:$AD$31,17,FALSE)) -> 0 | AK3: 1 | AL3: 1 | AM3: =P31 -> 0.075 | AN3: =AB31 -> 1 | AO3: =1-AN3 -> 0 | AP3: =IF(AR3="","",1) | AQ3: =P3 -> 150 | AR3: =S3 | AS3: =VLOOKUP(MAX(AP3:AP31),AP3:AP31,1) -> #N/A | AT3: =IF(AS3="",150,VLOOKUP(AS3,$AP$3:$AR$31,2,FALSE)) -> #N/A | AU3: =IF(AS3="",1,VLOOKUP(AS3,$AP$3:$AR$31,3,FALSE)) -> #N/A | AX3: Size | AY3: %
D4: Input an "x" here if the sample analysis is performed | G4: Sample ID: | J4: Boring #: | M4: 2 | N4: =IF(AF4="","",AF4) -> 2 | O4: =A12 -> 4.00" | P4: =B12 -> 100 | Q4: =IF(C12="","",C12) | R4: =IF(Q4="","",IF(Coarse_Cummalitive="x",Q4/Total_Weight,SUM(Q$3:Q4)/Total_Weight)) | S4: =IF(R4="","",1-R4) | T4: =IF(AND(Q4="",SUM($R$3:S4)>0),S5+((S3-S5)*(P4-P5)/(P3-P5)),S4) | U4: =TYPE(T4) -> 2 | V4: =IF(OR(U4=1,U4=2),"",P4) | W4: =IF(V4="",IF(OR(AND(U5=16,U3<16),AND(U5<16,U3=16),AND(U5=16,U3=16)),P4,""),"") | X4: =IF(W4="","",S4) | Y4: =IF(V4="","",MIN(X3:X4)-MAX(X5:X31)) | Z4: =IF(V4="","",MIN($W$3:W4)-MAX(W5:$W$31)) | AA4: =IF(V4="","",(V4-MAX(W5:$W$31))/Z4*Y4+MAX(X5:$X$31)) | AB4: =IF(AA4="",IF(T4="",1,T4),AA4) -> 1 | AC4: =IF(VLOOKUP($AC$1,Specs!$F$3:$AI$398,3,FALSE)="","",VLOOKUP($AC$1,Specs!$F$3:$AI$398,3,FALSE)) -> 1 | AD4: =IF(VLOOKUP($AC$2,Specs!$F$3:$AI$398,3,FALSE)="","",VLOOKUP($AC$2,Specs!$F$3:$AI$398,3,FALSE)) -> 0 | AE4: =IF(AC4="","",IF(AND(AB4<=AC4,AB4>=AD4),1,2)) -> 1 | AF4: =IF(AE4="","",MAX($AF$3:AF3)+1) -> 2 | AG4: =IF(MIN($AG$3:AG3)-1<=0,"",AG3-1) -> 28 | AH4: =IF(AG4="",200,VLOOKUP(AG4,$N$3:$AD$31,3,FALSE)) -> 0.09 | AI4: =IF(AG4="",1,VLOOKUP(AG4,$N$3:$AD$31,16,FALSE)) -> 1 | AJ4: =IF(AG4="",1,VLOOKUP(AG4,$N$3:$AD$31,17,FALSE)) -> 0 | AK4: 1 | AL4: 2 | AM4: =P30 -> 0.09 | AN4: =AB30 -> 1 | AO4: =1-AN4 -> 0 | AP4: =IF(AR4="","",MAX($AP$3:AP3)+1) | AQ4: =P4 -> 100 | AR4: =S4 | AS4: =IF(MIN($AS$3:AS3)-1<=0,"",AS3-1) -> #N/A | AT4: =IF(AS4="",150,VLOOKUP(AS4,$AP$3:$AR$31,2,FALSE)) -> #N/A | AU4: =IF(AS4="",1,VLOOKUP(AS4,$AP$3:$AR$31,3,FALSE)) -> #N/A | AW4: =MATCH(0.1,AB3:AB31,-1) -> 29 | AX4: =VLOOKUP(AW4,M3:P31,4) -> 0.075 | AY4: =VLOOKUP(AW4,M3:AB31,16) -> 1
D5: using only one set of sieves and it is not a split sample! | G5: Source: | J5: Depth: | M5: 3 | N5: =IF(AF5="","",AF5) -> 3 | O5: =A13 -> 3.00" | P5: =B13 -> 75 | Q5: =IF(C13="","",C13) | R5: =IF(Q5="","",IF(Coarse_Cummalitive="x",Q5/Total_Weight,SUM(Q$3:Q5)/Total_Weight)) | S5: =IF(R5="","",1-R5) | T5: =IF(AND(Q5="",SUM($R$3:S5)>0),S6+((S4-S6)*(P5-P6)/(P4-P6)),S5) | U5: =TYPE(T5) -> 2 | V5: =IF(OR(U5=1,U5=2),"",P5) | W5: =IF(V5="",IF(OR(AND(U6=16,U4<16),AND(U6<16,U4=16),AND(U6=16,U4=16)),P5,""),"") | X5: =IF(W5="","",S5) | Y5: =IF(V5="","",MIN($X$3:X5)-MAX(X6:$X$31)) | Z5: =IF(V5="","",MIN($W$3:W5)-MAX(W6:$W$31)) | AA5: =IF(V5="","",(V5-MAX(W6:$W$31))/Z5*Y5+MAX(X6:$X$31)) | AB5: =IF(AA5="",IF(T5="",1,T5),AA5) -> 1 | AC5: =IF(VLOOKUP($AC$1,Specs!$F$3:$AI$398,4,FALSE)="","",VLOOKUP($AC$1,Specs!$F$3:$AI$398,4,FALSE)) -> 1 | AD5: =IF(VLOOKUP($AC$2,Specs!$F$3:$AI$398,4,FALSE)="","",VLOOKUP($AC$2,Specs!$F$3:$AI$398,4,FALSE)) -> 0 | AE5: =IF(AC5="","",IF(AND(AB5<=AC5,AB5>=AD5),1,2)) -> 1 | AF5: =IF(AE5="","",MAX($AF$3:AF4)+1) -> 3 | AG5: =IF(MIN($AG$3:AG4)-1<=0,"",AG4-1) -> 27 | AH5: =IF(AG5="",200,VLOOKUP(AG5,$N$3:$AD$31,3,FALSE)) -> 0.106 | AI5: =IF(AG5="",1,VLOOKUP(AG5,$N$3:$AD$31,16,FALSE)) -> 1 | AJ5: =IF(AG5="",1,VLOOKUP(AG5,$N$3:$AD$31,17,FALSE)) -> 0 | AK5: 1 | AL5: 3 | AM5: =P29 -> 0.106 | AN5: =AB29 -> 1 | AO5: =1-AN5 -> 0 | AP5: =IF(AR5="","",MAX($AP$3:AP4)+1) | AQ5: =P5 -> 75 | AR5: =S5 | AS5: =IF(MIN($AS$3:AS4)-1<=0,"",AS4-1) -> #N/A | AT5: =IF(AS5="",150,VLOOKUP(AS5,$AP$3:$AR$31,2,FALSE)) -> #N/A | AU5: =IF(AS5="",1,VLOOKUP(AS5,$AP$3:$AR$31,3,FALSE)) -> #N/A | AW5: =MATCH(0.1,AN3:AN31,1) -> #N/A | AX5: =IF(ISNA(MATCH(0.1,AN3:AN31,1)),0,VLOOKUP(AW5,AL3:AN31,2)) -> 0 | AY5: =IF(ISNA(MATCH(0.1,AN3:AN31,1)),0,VLOOKUP(AW5,AL3:AN31,3)) -> 0
C6: Gravel Section | M6: 4 | N6: =IF(AF6="","",AF6) -> 4 | O6: =A14 -> 2.50" | P6: =B14 -> 63 | Q6: =IF(C14="","",C14) | R6: =IF(Q6="","",IF(Coarse_Cummalitive="x",Q6/Total_Weight,SUM(Q$3:Q6)/Total_Weight)) | S6: =IF(R6="","",1-R6) | T6: =IF(AND(Q6="",SUM($R$3:S6)>0),S7+((S5-S7)*(P6-P7)/(P5-P7)),S6) | U6: =TYPE(T6) -> 2 | V6: =IF(OR(U6=1,U6=2),"",P6) | W6: =IF(V6="",IF(OR(AND(U7=16,U5<16),AND(U7<16,U5=16),AND(U7=16,U5=16)),P6,""),"") | X6: =IF(W6="","",S6) | Y6: =IF(V6="","",MIN($X$3:X6)-MAX(X7:$X$31)) | Z6: =IF(V6="","",MIN($W$3:W6)-MAX(W7:$W$31)) | AA6: =IF(V6="","",(V6-MAX(W7:$W$31))/Z6*Y6+MAX(X7:$X$31)) | AB6: =IF(AA6="",IF(T6="",1,T6),AA6) -> 1 | AC6: =IF(VLOOKUP($AC$1,Specs!$F$3:$AI$398,5,FALSE)="","",VLOOKUP($AC$1,Specs!$F$3:$AI$398,5,FALSE)) -> 1 | AD6: =IF(VLOOKUP($AC$2,Specs!$F$3:$AI$398,5,FALSE)="","",VLOOKUP($AC$2,Specs!$F$3:$AI$398,5,FALSE)) -> 0 | AE6: =IF(AC6="","",IF(AND(AB6<=AC6,AB6>=AD6),1,2)) -> 1 | AF6: =IF(AE6="","",MAX($AF$3:AF5)+1) -> 4 | AG6: =IF(MIN($AG$3:AG5)-1<=0,"",AG5-1) -> 26 | AH6: =IF(AG6="",200,VLOOKUP(AG6,$N$3:$AD$31,3,FALSE)) -> 0.15 | AI6: =IF(AG6="",1,VLOOKUP(AG6,$N$3:$AD$31,16,FALSE)) -> 1 | AJ6: =IF(AG6="",1,VLOOKUP(AG6,$N$3:$AD$31,17,FALSE)) -> 0 | AK6: 1 | AL6: 4 | AM6: =P28 -> 0.15 | AN6: =AB28 -> 1 | AO6: =1-AN6 -> 0 | AP6: =IF(AR6="","",MAX($AP$3:AP5)+1) | AQ6: =P6 -> 63 | AR6: =S6 | AS6: =IF(MIN($AS$3:AS5)-1<=0,"",AS5-1) -> #N/A | AT6: =IF(AS6="",150,VLOOKUP(AS6,$AP$3:$AR$31,2,FALSE)) -> #N/A | AU6: =IF(AS6="",1,VLOOKUP(AS6,$AP$3:$AR$31,3,FALSE)) -> #N/A | AW6: =MATCH(0.3,AB3:AB31,-1) -> 29 | AX6: =VLOOKUP(AW6,M3:P31,4) -> 0.075 | AY6: =VLOOKUP(AW6,M3:AB31,16) -> 1
D7: Weights are Cumulative: | M7: 5 | N7: =IF(AF7="","",AF7) -> 5 | O7: =A15 -> 2.00" | P7: =B15 -> 50 | Q7: =IF(C15="","",C15) | R7: =IF(Q7="","",IF(Coarse_Cummalitive="x",Q7/Total_Weight,SUM(Q$3:Q7)/Total_Weight)) | S7: =IF(R7="","",1-R7) | T7: =IF(AND(Q7="",SUM($R$3:S7)>0),S8+((S6-S8)*(P7-P8)/(P6-P8)),S7) | U7: =TYPE(T7) -> 2 | V7: =IF(OR(U7=1,U7=2),"",P7) | W7: =IF(V7="",IF(OR(AND(U8=16,U6<16),AND(U8<16,U6=16),AND(U8=16,U6=16)),P7,""),"") | X7: =IF(W7="","",S7) | Y7: =IF(V7="","",MIN($X$3:X7)-MAX(X8:$X$31)) | Z7: =IF(V7="","",MIN($W$3:W7)-MAX(W8:$W$31)) | AA7: =IF(V7="","",(V7-MAX(W8:$W$31))/Z7*Y7+MAX(X8:$X$31)) | AB7: =IF(AA7="",IF(T7="",1,T7),AA7) -> 1 | AC7: =IF(VLOOKUP($AC$1,Specs!$F$3:$AI$398,6,FALSE)="","",VLOOKUP($AC$1,Specs!$F$3:$AI$398,6,FALSE)) -> 1 | AD7: =IF(VLOOKUP($AC$2,Specs!$F$3:$AI$398,6,FALSE)="","",VLOOKUP($AC$2,Specs!$F$3:$AI$398,6,FALSE)) -> 0 | AE7: =IF(AC7="","",IF(AND(AB7<=AC7,AB7>=AD7),1,2)) -> 1 | AF7: =IF(AE7="","",MAX($AF$3:AF6)+1) -> 5 | AG7: =IF(MIN($AG$3:AG6)-1<=0,"",AG6-1) -> 25 | AH7: =IF(AG7="",200,VLOOKUP(AG7,$N$3:$AD$31,3,FALSE)) -> 0.18 | AI7: =IF(AG7="",1,VLOOKUP(AG7,$N$3:$AD$31,16,FALSE)) -> 1 | AJ7: =IF(AG7="",1,VLOOKUP(AG7,$N$3:$AD$31,17,FALSE)) -> 0 | AK7: 1 | AL7: 5 | AM7: =P27 -> 0.18 | AN7: =AB27 -> 1 | AO7: =1-AN7 -> 0 | AP7: =IF(AR7="","",MAX($AP$3:AP6)+1) | AQ7: =P7 -> 50 | AR7: =S7 | AS7: =IF(MIN($AS$3:AS6)-1<=0,"",AS6-1) -> #N/A | AT7: =IF(AS7="",150,VLOOKUP(AS7,$AP$3:$AR$31,2,FALSE)) -> #N/A | AU7: =IF(AS7="",1,VLOOKUP(AS7,$AP$3:$AR$31,3,FALSE)) -> #N/A | AW7: =MATCH(0.3,AN3:AN31,1) -> #N/A | AX7: =IF(ISNA(MATCH(0.3,AN3:AN31,1)),0,VLOOKUP(AW7,AL3:AN31,2)) -> 0 | AY7: =IF(ISNA(MATCH(0.3,AN3:AN31,1)),0,VLOOKUP(AW7,AL3:AN31,3)) -> 0
C8: =IF(Coarse_Cummalitive="x","Cumulative","Individual") -> Individual | D8: Cumulative | E8: Cumulative | F8: Interpolated | M8: 6 | N8: =IF(AF8="","",AF8) -> 6 | O8: =A16 -> 1.75" | P8: =B16 -> 45 | Q8: =IF(C16="","",C16) | R8: =IF(Q8="","",IF(Coarse_Cummalitive="x",Q8/Total_Weight,SUM(Q$3:Q8)/Total_Weight)) | S8: =IF(R8="","",1-R8) | T8: =IF(AND(Q8="",SUM($R$3:S8)>0),S9+((S7-S9)*(P8-P9)/(P7-P9)),S8) | U8: =TYPE(T8) -> 2 | V8: =IF(OR(U8=1,U8=2),"",P8) | W8: =IF(V8="",IF(OR(AND(U9=16,U7<16),AND(U9<16,U7=16),AND(U9=16,U7=16)),P8,""),"") | X8: =IF(W8="","",S8) | Y8: =IF(V8="","",MIN($X$3:X8)-MAX(X9:$X$31)) | Z8: =IF(V8="","",MIN($W$3:W8)-MAX(W9:$W$31)) | AA8: =IF(V8="","",(V8-MAX(W9:$W$31))/Z8*Y8+MAX(X9:$X$31)) | AB8: =IF(AA8="",IF(T8="",1,T8),AA8) -> 1 | AC8: =IF(VLOOKUP($AC$1,Specs!$F$3:$AI$398,7,FALSE)="","",VLOOKUP($AC$1,Specs!$F$3:$AI$398,7,FALSE)) -> 1 | AD8: =IF(VLOOKUP($AC$2,Specs!$F$3:$AI$398,7,FALSE)="","",VLOOKUP($AC$2,Specs!$F$3:$AI$398,7,FALSE)) -> 0 | AE8: =IF(AC8="","",IF(AND(AB8<=AC8,AB8>=AD8),1,2)) -> 1 | AF8: =IF(AE8="","",MAX($AF$3:AF7)+1) -> 6 | AG8: =IF(MIN($AG$3:AG7)-1<=0,"",AG7-1) -> 24 | AH8: =IF(AG8="",200,VLOOKUP(AG8,$N$3:$AD$31,3,FALSE)) -> 0.25 | AI8: =IF(AG8="",1,VLOOKUP(AG8,$N$3:$AD$31,16,FALSE)) -> 1 | AJ8: =IF(AG8="",1,VLOOKUP(AG8,$N$3:$AD$31,17,FALSE)) -> 0 | AK8: 1 | AL8: 6 | AM8: =P26 -> 0.25 | AN8: =AB26 -> 1 | AO8: =1-AN8 -> 0 | AP8: =IF(AR8="","",MAX($AP$3:AP7)+1) | AQ8: =P8 -> 45 | AR8: =S8 | AS8: =IF(MIN($AS$3:AS7)-1<=0,"",AS7-1) -> #N/A | AT8: =IF(AS8="",150,VLOOKUP(AS8,$AP$3:$AR$31,2,FALSE)) -> #N/A | AU8: =IF(AS8="",1,VLOOKUP(AS8,$AP$3:$AR$31,3,FALSE)) -> #N/A | AW8: =MATCH(0.6,AB3:AB31,-1) -> 29 | AX8: =VLOOKUP(AW8,M3:P31,4) -> 0.075 | AY8: =VLOOKUP(AW8,M3:AB31,16) -> 1
A9: Sieve | B9: Size | C9: Retained | D9: Percent | E9: Percent | F9: Percent | G9: Specs | J9: Sample Meets Specs ? | K9: =IF(ISERROR(AF2),"No Data",AF2) -> Yes | M9: 7 | N9: =IF(AF9="","",AF9) -> 7 | O9: =A17 -> 1.50" | P9: =B17 -> 37.5 | Q9: =IF(C17="","",C17) | R9: =IF(Q9="","",IF(Coarse_Cummalitive="x",Q9/Total_Weight,SUM(Q$3:Q9)/Total_Weight)) | S9: =IF(R9="","",1-R9) | T9: =IF(AND(Q9="",SUM($R$3:S9)>0),S10+((S8-S10)*(P9-P10)/(P8-P10)),S9) | U9: =TYPE(T9) -> 2 | V9: =IF(OR(U9=1,U9=2),"",P9) | W9: =IF(V9="",IF(OR(AND(U10=16,U8<16),AND(U10<16,U8=16),AND(U10=16,U8=16)),P9,""),"") | X9: =IF(W9="","",S9) | Y9: =IF(V9="","",MIN($X$3:X9)-MAX(X10:$X$31)) | Z9: =IF(V9="","",MIN($W$3:W9)-MAX(W10:$W$31)) | AA9: =IF(V9="","",(V9-MAX(W10:$W$31))/Z9*Y9+MAX(X10:$X$31)) | AB9: =IF(AA9="",IF(T9="",1,T9),AA9) -> 1 | AC9: =IF(VLOOKUP($AC$1,Specs!$F$3:$AI$398,8,FALSE)="","",VLOOKUP($AC$1,Specs!$F$3:$AI$398,8,FALSE)) -> 1 | AD9: =IF(VLOOKUP($AC$2,Specs!$F$3:$AI$398,8,FALSE)="","",VLOOKUP($AC$2,Specs!$F$3:$AI$398,8,FALSE)) -> 0 | AE9: =IF(AC9="","",IF(AND(AB9<=AC9,AB9>=AD9),1,2)) -> 1 | AF9: =IF(AE9="","",MAX($AF$3:AF8)+1) -> 7 | AG9: =IF(MIN($AG$3:AG8)-1<=0,"",AG8-1) -> 23 | AH9: =IF(AG9="",200,VLOOKUP(AG9,$N$3:$AD$31,3,FALSE)) -> 0.3 | AI9: =IF(AG9="",1,VLOOKUP(AG9,$N$3:$AD$31,16,FALSE)) -> 1 | AJ9: =IF(AG9="",1,VLOOKUP(AG9,$N$3:$AD$31,17,FALSE)) -> 0 | AK9: 1 | AL9: 7 | AM9: =P25 -> 0.3 | AN9: =AB25 -> 1 | AO9: =1-AN9 -> 0 | AP9: =IF(AR9="","",MAX($AP$3:AP8)+1) | AQ9: =P9 -> 37.5 | AR9: =S9 | AS9: =IF(MIN($AS$3:AS8)-1<=0,"",AS8-1) -> #N/A | AT9: =IF(AS9="",150,VLOOKUP(AS9,$AP$3:$AR$31,2,FALSE)) -> #N/A | AU9: =IF(AS9="",1,VLOOKUP(AS9,$AP$3:$AR$31,3,FALSE)) -> #N/A | AW9: =MATCH(0.6,AN3:AN31,1) -> #N/A | AX9: =IF(ISNA(MATCH(0.6,AN3:AN31,1)),0,VLOOKUP(AW9,AL3:AN31,2)) -> 0 | AY9: =IF(ISNA(MATCH(0.6,AN3:AN31,1)),0,VLOOKUP(AW9,AL3:AN31,3)) -> 0
A10: US | B10: mm | C10: Weight | D10: Retained | E10: Passing | F10: Passing | G10: Max | H10: Min | M10: 8 | N10: =IF(AF10="","",AF10) -> 8 | O10: =A18 -> 1.25" | P10: =B18 -> 31.5 | Q10: =IF(C18="","",C18) | R10: =IF(Q10="","",IF(Coarse_Cummalitive="x",Q10/Total_Weight,SUM(Q$3:Q10)/Total_Weight)) | S10: =IF(R10="","",1-R10) | T10: =IF(AND(Q10="",SUM($R$3:S10)>0),S11+((S9-S11)*(P10-P11)/(P9-P11)),S10) | U10: =TYPE(T10) -> 2 | V10: =IF(OR(U10=1,U10=2),"",P10) | W10: =IF(V10="",IF(OR(AND(U11=16,U9<16),AND(U11<16,U9=16),AND(U11=16,U9=16)),P10,""),"") | X10: =IF(W10="","",S10) | Y10: =IF(V10="","",MIN($X$3:X10)-MAX(X11:$X$31)) | Z10: =IF(V10="","",MIN($W$3:W10)-MAX(W11:$W$31)) | AA10: =IF(V10="","",(V10-MAX(W11:$W$31))/Z10*Y10+MAX(X11:$X$31)) | AB10: =IF(AA10="",IF(T10="",1,T10),AA10) -> 1 | AC10: =IF(VLOOKUP($AC$1,Specs!$F$3:$AI$398,9,FALSE)="","",VLOOKUP($AC$1,Specs!$F$3:$AI$398,9,FALSE)) -> 1 | AD10: =IF(VLOOKUP($AC$2,Specs!$F$3:$AI$398,9,FALSE)="","",VLOOKUP($AC$2,Specs!$F$3:$AI$398,9,FALSE)) -> 0 | AE10: =IF(AC10="","",IF(AND(AB10<=AC10,AB10>=AD10),1,2)) -> 1 | AF10: =IF(AE10="","",MAX($AF$3:AF9)+1) -> 8 | AG10: =IF(MIN($AG$3:AG9)-1<=0,"",AG9-1) -> 22 | AH10: =IF(AG10="",200,VLOOKUP(AG10,$N$3:$AD$31,3,FALSE)) -> 0.425 | AI10: =IF(AG10="",1,VLOOKUP(AG10,$N$3:$AD$31,16,FALSE)) -> 1 | AJ10: =IF(AG10="",1,VLOOKUP(AG10,$N$3:$AD$31,17,FALSE)) -> 0 | AK10: 1 | AL10: 8 | AM10: =P24 -> 0.425 | AN10: =AB24 -> 1 | AO10: =1-AN10 -> 0 | AP10: =IF(AR10="","",MAX($AP$3:AP9)+1) | AQ10: =P10 -> 31.5 | AR10: =S10 | AS10: =IF(MIN($AS$3:AS9)-1<=0,"",AS9-1) -> #N/A | AT10: =IF(AS10="",150,VLOOKUP(AS10,$AP$3:$AR$31,2,FALSE)) -> #N/A | AU10: =IF(AS10="",1,VLOOKUP(AS10,$AP$3:$AR$31,3,FALSE)) -> #N/A | AW10: Delta | AX10: Delta | AY10: Delta
A11: 6.00" | B11: 150 | D11: =IF(ISERROR(R3),"",R3) | E11: =IF(ISERROR(S3),"",IF(S3=0,"",S3)) | F11: =IF(ISERROR(AB3),"",AB3) -> 1 | G11: =IF($AB$1=1, "",AC3) | H11: =IF($AB$1=1, "",AD3) | K11: ASTM D-2487 | M11: 9 | N11: =IF(AF11="","",AF11) -> 9 | O11: =A19 -> 1.00" | P11: =B19 -> 25 | Q11: =IF(C19="","",C19) | R11: =IF(Q11="","",IF(Coarse_Cummalitive="x",Q11/Total_Weight,SUM(Q$3:Q11)/Total_Weight)) | S11: =IF(R11="","",1-R11) | T11: =IF(AND(Q11="",SUM($R$3:S11)>0),S12+((S10-S12)*(P11-P12)/(P10-P12)),S11) | U11: =TYPE(T11) -> 2 | V11: =IF(OR(U11=1,U11=2),"",P11) | W11: =IF(V11="",IF(OR(AND(U12=16,U10<16),AND(U12<16,U10=16),AND(U12=16,U10=16)),P11,""),"") | X11: =IF(W11="","",S11) | Y11: =IF(V11="","",MIN($X$3:X11)-MAX(X12:$X$31)) | Z11: =IF(V11="","",MIN($W$3:W11)-MAX(W12:$W$31)) | AA11: =IF(V11="","",(V11-MAX(W12:$W$31))/Z11*Y11+MAX(X12:$X$31)) | AB11: =IF(AA11="",IF(T11="",1,T11),AA11) -> 1 | AC11: =IF(VLOOKUP($AC$1,Specs!$F$3:$AI$398,10,FALSE)="","",VLOOKUP($AC$1,Specs!$F$3:$AI$398,10,FALSE)) -> 1 | AD11: =IF(VLOOKUP($AC$2,Specs!$F$3:$AI$398,10,FALSE)="","",VLOOKUP($AC$2,Specs!$F$3:$AI$398,10,FALSE)) -> 0 | AE11: =IF(AC11="","",IF(AND(AB11<=AC11,AB11>=AD11),1,2)) -> 1 | AF11: =IF(AE11="","",MAX($AF$3:AF10)+1) -> 9 | AG11: =IF(MIN($AG$3:AG10)-1<=0,"",AG10-1) -> 21 | AH11: =IF(AG11="",200,VLOOKUP(AG11,$N$3:$AD$31,3,FALSE)) -> 0.6 | AI11: =IF(AG11="",1,VLOOKUP(AG11,$N$3:$AD$31,16,FALSE)) -> 1 | AJ11: =IF(AG11="",1,VLOOKUP(AG11,$N$3:$AD$31,17,FALSE)) -> 0 | AK11: 1 | AL11: 9 | AM11: =P23 -> 0.6 | AN11: =AB23 -> 1 | AO11: =1-AN11 -> 0 | AP11: =IF(AR11="","",MAX($AP$3:AP10)+1) | AQ11: =P11 -> 25 | AR11: =S11 | AS11: =IF(MIN($AS$3:AS10)-1<=0,"",AS10-1) -> #N/A | AT11: =IF(AS11="",150,VLOOKUP(AS11,$AP$3:$AR$31,2,FALSE)) -> #N/A | AU11: =IF(AS11="",1,VLOOKUP(AS11,$AP$3:$AR$31,3,FALSE)) -> #N/A | AW11: Given % | AX11: Size | AY11: %
A12: 4.00" | B12: 100 | D12: =IF(ISERROR(R4),"",R4) | E12: =IF(ISERROR(S4),"",IF(S4=0,"",S4)) | F12: =IF(ISERROR(AB4),"",AB4) -> 1 | G12: =IF($AB$1=1, "",AC4) | H12: =IF($AB$1=1, "",AD4) | K12: Unified Soils Classification System | M12: 10 | N12: =IF(AF12="","",AF12) -> 10 | O12: =A20 -> 7/8" | P12: =B20 -> 22.4 | Q12: =IF(C20="","",C20) | R12: =IF(Q12="","",IF(Coarse_Cummalitive="x",Q12/Total_Weight,SUM(Q$3:Q12)/Total_Weight)) | S12: =IF(R12="","",1-R12) | T12: =IF(AND(Q12="",SUM($R$3:S12)>0),S13+((S11-S13)*(P12-P13)/(P11-P13)),S12) | U12: =TYPE(T12) -> 2 | V12: =IF(OR(U12=1,U12=2),"",P12) | W12: =IF(V12="",IF(OR(AND(U13=16,U11<16),AND(U13<16,U11=16),AND(U13=16,U11=16)),P12,""),"") | X12: =IF(W12="","",S12) | Y12: =IF(V12="","",MIN($X$3:X12)-MAX(X13:$X$31)) | Z12: =IF(V12="","",MIN($W$3:W12)-MAX(W13:$W$31)) | AA12: =IF(V12="","",(V12-MAX(W13:$W$31))/Z12*Y12+MAX(X13:$X$31)) | AB12: =IF(AA12="",IF(T12="",1,T12),AA12) -> 1 | AC12: =IF(VLOOKUP($AC$1,Specs!$F$3:$AI$398,11,FALSE)="","",VLOOKUP($AC$1,Specs!$F$3:$AI$398,11,FALSE)) -> 1 | AD12: =IF(VLOOKUP($AC$2,Specs!$F$3:$AI$398,11,FALSE)="","",VLOOKUP($AC$2,Specs!$F$3:$AI$398,11,FALSE)) -> 0 | AE12: =IF(AC12="","",IF(AND(AB12<=AC12,AB12>=AD12),1,2)) -> 1 | AF12: =IF(AE12="","",MAX($AF$3:AF11)+1) -> 10 | AG12: =IF(MIN($AG$3:AG11)-1<=0,"",AG11-1) -> 20 | AH12: =IF(AG12="",200,VLOOKUP(AG12,$N$3:$AD$31,3,FALSE)) -> 0.85 | AI12: =IF(AG12="",1,VLOOKUP(AG12,$N$3:$AD$31,16,FALSE)) -> 1 | AJ12: =IF(AG12="",1,VLOOKUP(AG12,$N$3:$AD$31,17,FALSE)) -> 0 | AK12: 1 | AL12: 10 | AM12: =P22 -> 0.85 | AN12: =AB22 -> 1 | AO12: =1-AN12 -> 0 | AP12: =IF(AR12="","",MAX($AP$3:AP11)+1) | AQ12: =P12 -> 22.4 | AR12: =S12 | AS12: =IF(MIN($AS$3:AS11)-1<=0,"",AS11-1) -> #N/A | AT12: =IF(AS12="",150,VLOOKUP(AS12,$AP$3:$AR$31,2,FALSE)) -> #N/A | AU12: =IF(AS12="",1,VLOOKUP(AS12,$AP$3:$AR$31,3,FALSE)) -> #N/A | AV12: D(10)= | AW12: =0.1-AY5 -> 0.1 | AX12: =AX4-AX5 -> 0.075 | AY12: =AY4-AY5 -> 1
A13: 3.00" | B13: 75 | D13: =IF(ISERROR(R5),"",R5) | E13: =IF(ISERROR(S5),"",IF(S5=0,"",S5)) | F13: =IF(ISERROR(AB5),"",AB5) -> 1 | G13: =IF($AB$1=1, "",AC5) | H13: =IF($AB$1=1, "",AD5) | I13: =IF(SUM(C11:C27,C37:C50)=0,"No Data Provided",IF(Crushed="x",VLOOKUP(1,S33:T35,2,FALSE)&", Crushed",VLOOKUP(1,S33:T35,2,FALSE))) -> No Data Provided | M13: 11 | N13: =IF(AF13="","",AF13) -> 11 | O13: =A21 -> 3/4" | P13: =B21 -> 19 | Q13: =IF(C21="","",C21) | R13: =IF(Q13="","",IF(Coarse_Cummalitive="x",Q13/Total_Weight,SUM(Q$3:Q13)/Total_Weight)) | S13: =IF(R13="","",1-R13) | T13: =IF(AND(Q13="",SUM($R$3:S13)>0),S14+((S12-S14)*(P13-P14)/(P12-P14)),S13) | U13: =TYPE(T13) -> 2 | V13: =IF(OR(U13=1,U13=2),"",P13) | W13: =IF(V13="",IF(OR(AND(U14=16,U12<16),AND(U14<16,U12=16),AND(U14=16,U12=16)),P13,""),"") | X13: =IF(W13="","",S13) | Y13: =IF(V13="","",MIN($X$3:X13)-MAX(X14:$X$31)) | Z13: =IF(V13="","",MIN($W$3:W13)-MAX(W14:$W$31)) | AA13: =IF(V13="","",(V13-MAX(W14:$W$31))/Z13*Y13+MAX(X14:$X$31)) | AB13: =IF(AA13="",IF(T13="",1,T13),AA13) -> 1 | AC13: =IF(VLOOKUP($AC$1,Specs!$F$3:$AI$398,12,FALSE)="","",VLOOKUP($AC$1,Specs!$F$3:$AI$398,12,FALSE)) -> 1 | AD13: =IF(VLOOKUP($AC$2,Specs!$F$3:$AI$398,12,FALSE)="","",VLOOKUP($AC$2,Specs!$F$3:$AI$398,12,FALSE)) -> 0 | AE13: =IF(AC13="","",IF(AND(AB13<=AC13,AB13>=AD13),1,2)) -> 1 | AF13: =IF(AE13="","",MAX($AF$3:AF12)+1) -> 11 | AG13: =IF(MIN($AG$3:AG12)-1<=0,"",AG12-1) -> 19 | AH13: =IF(AG13="",200,VLOOKUP(AG13,$N$3:$AD$31,3,FALSE)) -> 1.18 | AI13: =IF(AG13="",1,VLOOKUP(AG13,$N$3:$AD$31,16,FALSE)) -> 1 | AJ13: =IF(AG13="",1,VLOOKUP(AG13,$N$3:$AD$31,17,FALSE)) -> 0 | AK13: 1 | AL13: 11 | AM13: =P21 -> 1.18 | AN13: =AB21 -> 1 | AO13: =1-AN13 -> 0 | AP13: =IF(AR13="","",MAX($AP$3:AP12)+1) | AQ13: =P13 -> 19 | AR13: =S13 | AS13: =IF(MIN($AS$3:AS12)-1<=0,"",AS12-1) -> #N/A | AT13: =IF(AS13="",150,VLOOKUP(AS13,$AP$3:$AR$31,2,FALSE)) -> #N/A | AU13: =IF(AS13="",1,VLOOKUP(AS13,$AP$3:$AR$31,3,FALSE)) -> #N/A | AV13: D(30)= | AW13: =0.3-AY7 -> 0.3 | AX13: =AX6-AX7 -> 0.075 | AY13: =AY6-AY7 -> 1
A14: 2.50" | B14: 63 | D14: =IF(ISERROR(R6),"",R6) | E14: =IF(ISERROR(S6),"",IF(S6=0,"",S6)) | F14: =IF(ISERROR(AB6),"",AB6) -> 1 | G14: =IF($AB$1=1, "",AC6) | H14: =IF($AB$1=1, "",AD6) | M14: 12 | N14: =IF(AF14="","",AF14) -> 12 | O14: =A22 -> 5/8" | P14: =B22 -> 16 | Q14: =IF(C22="","",C22) | R14: =IF(Q14="","",IF(Coarse_Cummalitive="x",Q14/Total_Weight,SUM(Q$3:Q14)/Total_Weight)) | S14: =IF(R14="","",1-R14) | T14: =IF(AND(Q14="",SUM($R$3:S14)>0),S15+((S13-S15)*(P14-P15)/(P13-P15)),S14) | U14: =TYPE(T14) -> 2 | V14: =IF(OR(U14=1,U14=2),"",P14) | W14: =IF(V14="",IF(OR(AND(U15=16,U13<16),AND(U15<16,U13=16),AND(U15=16,U13=16)),P14,""),"") | X14: =IF(W14="","",S14) | Y14: =IF(V14="","",MIN($X$3:X14)-MAX(X15:$X$31)) | Z14: =IF(V14="","",MIN($W$3:W14)-MAX(W15:$W$31)) | AA14: =IF(V14="","",(V14-MAX(W15:$W$31))/Z14*Y14+MAX(X15:$X$31)) | AB14: =IF(AA14="",IF(T14="",1,T14),AA14) -> 1 | AC14: =IF(VLOOKUP($AC$1,Specs!$F$3:$AI$398,13,FALSE)="","",VLOOKUP($AC$1,Specs!$F$3:$AI$398,13,FALSE)) -> 1 | AD14: =IF(VLOOKUP($AC$2,Specs!$F$3:$AI$398,13,FALSE)="","",VLOOKUP($AC$2,Specs!$F$3:$AI$398,13,FALSE)) -> 0 | AE14: =IF(AC14="","",IF(AND(AB14<=AC14,AB14>=AD14),1,2)) -> 1 | AF14: =IF(AE14="","",MAX($AF$3:AF13)+1) -> 12 | AG14: =IF(MIN($AG$3:AG13)-1<=0,"",AG13-1) -> 18 | AH14: =IF(AG14="",200,VLOOKUP(AG14,$N$3:$AD$31,3,FALSE)) -> 2 | AI14: =IF(AG14="",1,VLOOKUP(AG14,$N$3:$AD$31,16,FALSE)) -> 1 | AJ14: =IF(AG14="",1,VLOOKUP(AG14,$N$3:$AD$31,17,FALSE)) -> 0 | AK14: 1 | AL14: 12 | AM14: =P20 -> 2 | AN14: =AB20 -> 1 | AO14: =1-AN14 -> 0 | AP14: =IF(AR14="","",MAX($AP$3:AP13)+1) | AQ14: =P14 -> 16 | AR14: =S14 | AS14: =IF(MIN($AS$3:AS13)-1<=0,"",AS13-1) -> #N/A | AT14: =IF(AS14="",150,VLOOKUP(AS14,$AP$3:$AR$31,2,FALSE)) -> #N/A | AU14: =IF(AS14="",1,VLOOKUP(AS14,$AP$3:$AR$31,3,FALSE)) -> #N/A | AV14: D(60)= | AW14: =0.6-AY9 -> 0.6 | AX14: =AX8-AX9 -> 0.075 | AY14: =AY8-AY9 -> 1
A15: 2.00" | B15: 50 | D15: =IF(ISERROR(R7),"",R7) | E15: =IF(ISERROR(S7),"",IF(S7=0,"",S7)) | F15: =IF(ISERROR(AB7),"",AB7) -> 1 | G15: =IF($AB$1=1, "",AC7) | H15: =IF($AB$1=1, "",AD7) | K15: Input an "x" | M15: 13 | N15: =IF(AF15="","",AF15) -> 13 | O15: =A23 -> 1/2" | P15: =B23 -> 12.5 | Q15: =IF(C23="","",C23) | R15: =IF(Q15="","",IF(Coarse_Cummalitive="x",Q15/Total_Weight,SUM(Q$3:Q15)/Total_Weight)) | S15: =IF(R15="","",1-R15) | T15: =IF(AND(Q15="",SUM($R$3:S15)>0),S16+((S14-S16)*(P15-P16)/(P14-P16)),S15) | U15: =TYPE(T15) -> 2 | V15: =IF(OR(U15=1,U15=2),"",P15) | W15: =IF(V15="",IF(OR(AND(U16=16,U14<16),AND(U16<16,U14=16),AND(U16=16,U14=16)),P15,""),"") | X15: =IF(W15="","",S15) | Y15: =IF(V15="","",MIN($X$3:X15)-MAX(X16:$X$31)) | Z15: =IF(V15="","",MIN($W$3:W15)-MAX(W16:$W$31)) | AA15: =IF(V15="","",(V15-MAX(W16:$W$31))/Z15*Y15+MAX(X16:$X$31)) | AB15: =IF(AA15="",IF(T15="",1,T15),AA15) -> 1 | AC15: =IF(VLOOKUP($AC$1,Specs!$F$3:$AI$398,14,FALSE)="","",VLOOKUP($AC$1,Specs!$F$3:$AI$398,14,FALSE)) -> 1 | AD15: =IF(VLOOKUP($AC$2,Specs!$F$3:$AI$398,14,FALSE)="","",VLOOKUP($AC$2,Specs!$F$3:$AI$398,14,FALSE)) -> 0 | AE15: =IF(AC15="","",IF(AND(AB15<=AC15,AB15>=AD15),1,2)) -> 1 | AF15: =IF(AE15="","",MAX($AF$3:AF14)+1) -> 13 | AG15: =IF(MIN($AG$3:AG14)-1<=0,"",AG14-1) -> 17 | AH15: =IF(AG15="",200,VLOOKUP(AG15,$N$3:$AD$31,3,FALSE)) -> 2.36 | AI15: =IF(AG15="",1,VLOOKUP(AG15,$N$3:$AD$31,16,FALSE)) -> 1 | AJ15: =IF(AG15="",1,VLOOKUP(AG15,$N$3:$AD$31,17,FALSE)) -> 0 | AK15: 1 | AL15: 13 | AM15: =P19 -> 2.36 | AN15: =AB19 -> 1 | AO15: =1-AN15 -> 0 | AP15: =IF(AR15="","",MAX($AP$3:AP14)+1) | AQ15: =P15 -> 12.5 | AR15: =S15 | AS15: =IF(MIN($AS$3:AS14)-1<=0,"",AS14-1) -> #N/A | AT15: =IF(AS15="",150,VLOOKUP(AS15,$AP$3:$AR$31,2,FALSE)) -> #N/A | AU15: =IF(AS15="",1,VLOOKUP(AS15,$AP$3:$AR$31,3,FALSE)) -> #N/A | AW15: D(10)= | AX15: =IF(AW12=0,AX7,AX5+(AX12*AW12/AY12)) -> 0.0075 | AY15: mm
A16: 1.75" | B16: 45 | D16: =IF(ISERROR(R8),"",R8) | E16: =IF(ISERROR(S8),"",IF(S8=0,"",S8)) | F16: =IF(ISERROR(AB8),"",AB8) -> 1 | G16: =IF($AB$1=1, "",AC8) | H16: =IF($AB$1=1, "",AD8) | J16: Visual Classification | K16: if applicable | M16: 14 | N16: =IF(AF16="","",AF16) -> 14 | O16: =A24 -> 3/8" | P16: =B24 -> 9.5 | Q16: =IF(C24="","",C24) | R16: =IF(Q16="","",IF(Coarse_Cummalitive="x",Q16/Total_Weight,SUM(Q$3:Q16)/Total_Weight)) | S16: =IF(R16="","",1-R16) | T16: =IF(AND(Q16="",SUM($R$3:S16)>0),S17+((S15-S17)*(P16-P17)/(P15-P17)),S16) | U16: =TYPE(T16) -> 2 | V16: =IF(OR(U16=1,U16=2),"",P16) | W16: =IF(V16="",IF(OR(AND(U17=16,U15<16),AND(U17<16,U15=16),AND(U17=16,U15=16)),P16,""),"") | X16: =IF(W16="","",S16) | Y16: =IF(V16="","",MIN($X$3:X16)-MAX(X17:$X$31)) | Z16: =IF(V16="","",MIN($W$3:W16)-MAX(W17:$W$31)) | AA16: =IF(V16="","",(V16-MAX(W17:$W$31))/Z16*Y16+MAX(X17:$X$31)) | AB16: =IF(AA16="",IF(T16="",1,T16),AA16) -> 1 | AC16: =IF(VLOOKUP($AC$1,Specs!$F$3:$AI$398,15,FALSE)="","",VLOOKUP($AC$1,Specs!$F$3:$AI$398,15,FALSE)) -> 1 | AD16: =IF(VLOOKUP($AC$2,Specs!$F$3:$AI$398,15,FALSE)="","",VLOOKUP($AC$2,Specs!$F$3:$AI$398,15,FALSE)) -> 0 | AE16: =IF(AC16="","",IF(AND(AB16<=AC16,AB16>=AD16),1,2)) -> 1 | AF16: =IF(AE16="","",MAX($AF$3:AF15)+1) -> 14 | AG16: =IF(MIN($AG$3:AG15)-1<=0,"",AG15-1) -> 16 | AH16: =IF(AG16="",200,VLOOKUP(AG16,$N$3:$AD$31,3,FALSE)) -> 4.75 | AI16: =IF(AG16="",1,VLOOKUP(AG16,$N$3:$AD$31,16,FALSE)) -> 1 | AJ16: =IF(AG16="",1,VLOOKUP(AG16,$N$3:$AD$31,17,FALSE)) -> 0 | AK16: 1 | AL16: 14 | AM16: =P18 -> 4.75 | AN16: =AB18 -> 1 | AO16: =1-AN16 -> 0 | AP16: =IF(AR16="","",MAX($AP$3:AP15)+1) | AQ16: =P16 -> 9.5 | AR16: =S16 | AS16: =IF(MIN($AS$3:AS15)-1<=0,"",AS15-1) -> #N/A | AT16: =IF(AS16="",150,VLOOKUP(AS16,$AP$3:$AR$31,2,FALSE)) -> #N/A | AU16: =IF(AS16="",1,VLOOKUP(AS16,$AP$3:$AR$31,3,FALSE)) -> #N/A | AW16: D(30)= | AX16: =IF(AW13=0,AX8,AX7+(AX13*AW13/AY13)) -> 0.0225 | AY16: mm
A17: 1.50" | B17: 37.5 | D17: =IF(ISERROR(R9),"",R9) | E17: =IF(ISERROR(S9),"",IF(S9=0,"",S9)) | F17: =IF(ISERROR(AB9),"",AB9) -> 1 | G17: =IF($AB$1=1, "",AC9) | H17: =IF($AB$1=1, "",AD9) | J17: Sample is an Organic Soils: | M17: 15 | N17: =IF(AF17="","",AF17) -> 15 | O17: =A25 -> 1/4" | P17: =B25 -> 6.3 | Q17: =IF(C25="","",C25) | R17: =IF(Q17="","",IF(Coarse_Cummalitive="x",Q17/Total_Weight,SUM(Q$3:Q17)/Total_Weight)) | S17: =IF(R17="","",1-R17) | T17: =IF(AND(Q17="",SUM($R$3:S17)>0),S18+((S16-S18)*(P17-P18)/(P16-P18)),S17) | U17: =TYPE(T17) -> 2 | V17: =IF(OR(U17=1,U17=2),"",P17) | W17: =IF(V17="",IF(OR(AND(U18=16,U16<16),AND(U18<16,U16=16),AND(U18=16,U16=16)),P17,""),"") | X17: =IF(W17="","",S17) | Y17: =IF(V17="","",MIN($X$3:X17)-MAX(X18:$X$31)) | Z17: =IF(V17="","",MIN($W$3:W17)-MAX(W18:$W$31)) | AA17: =IF(V17="","",(V17-MAX(W18:$W$31))/Z17*Y17+MAX(X18:$X$31)) | AB17: =IF(AA17="",IF(T17="",1,T17),AA17) -> 1 | AC17: =IF(VLOOKUP($AC$1,Specs!$F$3:$AI$398,16,FALSE)="","",VLOOKUP($AC$1,Specs!$F$3:$AI$398,16,FALSE)) -> 1 | AD17: =IF(VLOOKUP($AC$2,Specs!$F$3:$AI$398,16,FALSE)="","",VLOOKUP($AC$2,Specs!$F$3:$AI$398,16,FALSE)) -> 0 | AE17: =IF(AC17="","",IF(AND(AB17<=AC17,AB17>=AD17),1,2)) -> 1 | AF17: =IF(AE17="","",MAX($AF$3:AF16)+1) -> 15 | AG17: =IF(MIN($AG$3:AG16)-1<=0,"",AG16-1) -> 15 | AH17: =IF(AG17="",200,VLOOKUP(AG17,$N$3:$AD$31,3,FALSE)) -> 6.3 | AI17: =IF(AG17="",1,VLOOKUP(AG17,$N$3:$AD$31,16,FALSE)) -> 1 | AJ17: =IF(AG17="",1,VLOOKUP(AG17,$N$3:$AD$31,17,FALSE)) -> 0 | AK17: 1 | AL17: 15 | AM17: =P17 -> 6.3 | AN17: =AB17 -> 1 | AO17: =1-AN17 -> 0 | AP17: =IF(AR17="","",MAX($AP$3:AP16)+1) | AQ17: =P17 -> 6.3 | AR17: =S17 | AS17: =IF(MIN($AS$3:AS16)-1<=0,"",AS16-1) -> #N/A | AT17: =IF(AS17="",150,VLOOKUP(AS17,$AP$3:$AR$31,2,FALSE)) -> #N/A | AU17: =IF(AS17="",1,VLOOKUP(AS17,$AP$3:$AR$31,3,FALSE)) -> #N/A | AW17: D(60)= | AX17: =IF(AW14=0,AX9,AX9+(AX14*AW14/AY14)) -> 0.045 | AY17: mm
A18: 1.25" | B18: 31.5 | D18: =IF(ISERROR(R10),"",R10) | E18: =IF(ISERROR(S10),"",IF(S10=0,"",S10)) | F18: =IF(ISERROR(AB10),"",AB10) -> 1 | G18: =IF($AB$1=1, "",AC10) | H18: =IF($AB$1=1, "",AD10) | J18: Sample contains Silt: | M18: 16 | N18: =IF(AF18="","",AF18) -> 16 | O18: =A26 -> #4 | P18: =B26 -> 4.75 | Q18: =IF(C26="","",C26) | R18: =IF(Q18="","",IF(Coarse_Cummalitive="x",Q18/Total_Weight,SUM(Q$3:Q18)/Total_Weight)) | S18: =IF(R18="","",1-R18) | T18: =IF(AND(Q18="",SUM($R$3:S18)>0),S19+((S17-S19)*(P18-P19)/(P17-P19)),S18) | U18: =TYPE(T18) -> 2 | V18: =IF(OR(U18=1,U18=2),"",P18) | W18: =IF(V18="",IF(OR(AND(U19=16,U17<16),AND(U19<16,U17=16),AND(U19=16,U17=16)),P18,""),"") | X18: =IF(W18="","",S18) | Y18: =IF(V18="","",MIN($X$3:X18)-MAX(X19:$X$31)) | Z18: =IF(V18="","",MIN($W$3:W18)-MAX(W19:$W$31)) | AA18: =IF(V18="","",(V18-MAX(W19:$W$31))/Z18*Y18+MAX(X19:$X$31)) | AB18: =IF(AA18="",IF(T18="",1,T18),AA18) -> 1 | AC18: =IF(VLOOKUP($AC$1,Specs!$F$3:$AI$398,17,FALSE)="","",VLOOKUP($AC$1,Specs!$F$3:$AI$398,17,FALSE)) -> 1 | AD18: =IF(VLOOKUP($AC$2,Specs!$F$3:$AI$398,17,FALSE)="","",VLOOKUP($AC$2,Specs!$F$3:$AI$398,17,FALSE)) -> 0 | AE18: =IF(AC18="","",IF(AND(AB18<=AC18,AB18>=AD18),1,2)) -> 1 | AF18: =IF(AE18="","",MAX($AF$3:AF17)+1) -> 16 | AG18: =IF(MIN($AG$3:AG17)-1<=0,"",AG17-1) -> 14 | AH18: =IF(AG18="",200,VLOOKUP(AG18,$N$3:$AD$31,3,FALSE)) -> 9.5 | AI18: =IF(AG18="",1,VLOOKUP(AG18,$N$3:$AD$31,16,FALSE)) -> 1 | AJ18: =IF(AG18="",1,VLOOKUP(AG18,$N$3:$AD$31,17,FALSE)) -> 0 | AK18: 1 | AL18: 16 | AM18: =P16 -> 9.5 | AN18: =AB16 -> 1 | AO18: =1-AN18 -> 0 | AP18: =IF(AR18="","",MAX($AP$3:AP17)+1) | AQ18: =P18 -> 4.75 | AR18: =S18 | AS18: =IF(MIN($AS$3:AS17)-1<=0,"",AS17-1) -> #N/A | AT18: =IF(AS18="",150,VLOOKUP(AS18,$AP$3:$AR$31,2,FALSE)) -> #N/A | AU18: =IF(AS18="",1,VLOOKUP(AS18,$AP$3:$AR$31,3,FALSE)) -> #N/A
A19: 1.00" | B19: 25 | D19: =IF(ISERROR(R11),"",R11) | E19: =IF(ISERROR(S11),"",IF(S11=0,"",S11)) | F19: =IF(ISERROR(AB11),"",AB11) -> 1 | G19: =IF($AB$1=1, "",AC11) | H19: =IF($AB$1=1, "",AD11) | J19: Sample contains Clay: | M19: 17 | N19: =IF(AF19="","",AF19) -> 17 | O19: =A37 -> #8 | P19: =B37 -> 2.36 | Q19: =IF(C37="","",C37) | R19: =IF(Q19="","",IF(Split="x",IF(Fines_Cumulative="x",Q19/Split_Weight,SUM($Q$19:Q19)/Split_Weight+Split_Percent),IF(Fines_Cumulative="x",Q19/Split_Weight*(1-Split_Percent)+Split_Percent,SUM($Q$19:Q19)/Split_Weight*(1-Split_Percent)+Split_Percent))) | S19: =IF(R19="","",1-R19) | T19: =IF(AND(Q19="",SUM($R$3:S19)>0),S20+((S18-S20)*(P19-P20)/(P18-P20)),S19) | U19: =TYPE(T19) -> 2 | V19: =IF(OR(U19=1,U19=2),"",P19) | W19: =IF(V19="",IF(OR(AND(U20=16,U18<16),AND(U20<16,U18=16),AND(U20=16,U18=16)),P19,""),"") | X19: =IF(W19="","",S19) | Y19: =IF(V19="","",MIN($X$3:X19)-MAX(X20:$X$31)) | Z19: =IF(V19="","",MIN($W$3:W19)-MAX(W20:$W$31)) | AA19: =IF(V19="","",(V19-MAX(W20:$W$31))/Z19*Y19+MAX(X20:$X$31)) | AB19: =IF(AA19="",IF(T19="",1,T19),AA19) -> 1 | AC19: =IF(VLOOKUP($AC$1,Specs!$F$3:$AI$398,18,FALSE)="","",VLOOKUP($AC$1,Specs!$F$3:$AI$398,18,FALSE)) -> 1 | AD19: =IF(VLOOKUP($AC$2,Specs!$F$3:$AI$398,18,FALSE)="","",VLOOKUP($AC$2,Specs!$F$3:$AI$398,18,FALSE)) -> 0 | AE19: =IF(AC19="","",IF(AND(AB19<=AC19,AB19>=AD19),1,2)) -> 1 | AF19: =IF(AE19="","",MAX($AF$3:AF18)+1) -> 17 | AG19: =IF(MIN($AG$3:AG18)-1<=0,"",AG18-1) -> 13 | AH19: =IF(AG19="",200,VLOOKUP(AG19,$N$3:$AD$31,3,FALSE)) -> 12.5 | AI19: =IF(AG19="",1,VLOOKUP(AG19,$N$3:$AD$31,16,FALSE)) -> 1 | AJ19: =IF(AG19="",1,VLOOKUP(AG19,$N$3:$AD$31,17,FALSE)) -> 0 | AK19: 1 | AL19: 17 | AM19: =P15 -> 12.5 | AN19: =AB15 -> 1 | AO19: =1-AN19 -> 0 | AP19: =IF(AR19="","",MAX($AP$3:AP18)+1) | AQ19: =P19 -> 2.36 | AR19: =S19 | AS19: =IF(MIN($AS$3:AS18)-1<=0,"",AS18-1) -> #N/A | AT19: =IF(AS19="",150,VLOOKUP(AS19,$AP$3:$AR$31,2,FALSE)) -> #N/A | AU19: =IF(AS19="",1,VLOOKUP(AS19,$AP$3:$AR$31,3,FALSE)) -> #N/A
A20: 7/8" | B20: 22.4 | D20: =IF(ISERROR(R12),"",R12) | E20: =IF(ISERROR(S12),"",IF(S12=0,"",S12)) | F20: =IF(ISERROR(AB12),"",AB12) -> 1 | G20: =IF($AB$1=1, "",AC12) | H20: =IF($AB$1=1, "",AD12) | J20: Sample is Crushed: | M20: 18 | N20: =IF(AF20="","",AF20) -> 18 | O20: =A38 -> #10 | P20: =B38 -> 2 | Q20: =IF(C38="","",C38) | R20: =IF(Q20="","",IF(Split="x",IF(Fines_Cumulative="x",Q20/Split_Weight,SUM($Q$19:Q20)/Split_Weight+Split_Percent),IF(Fines_Cumulative="x",Q20/Split_Weight*(1-Split_Percent)+Split_Percent,SUM($Q$19:Q20)/Split_Weight*(1-Split_Percent)+Split_Percent))) | S20: =IF(R20="","",1-R20) | T20: =IF(AND(Q20="",SUM($R$3:S20)>0),S21+((S19-S21)*(P20-P21)/(P19-P21)),S20) | U20: =TYPE(T20) -> 2 | V20: =IF(OR(U20=1,U20=2),"",P20) | W20: =IF(V20="",IF(OR(AND(U21=16,U19<16),AND(U21<16,U19=16),AND(U21=16,U19=16)),P20,""),"") | X20: =IF(W20="","",S20) | Y20: =IF(V20="","",MIN($X$3:X20)-MAX(X21:$X$31)) | Z20: =IF(V20="","",MIN($W$3:W20)-MAX(W21:$W$31)) | AA20: =IF(V20="","",(V20-MAX(W21:$W$31))/Z20*Y20+MAX(X21:$X$31)) | AB20: =IF(AA20="",IF(T20="",1,T20),AA20) -> 1 | AC20: =IF(VLOOKUP($AC$1,Specs!$F$3:$AI$398,19,FALSE)="","",VLOOKUP($AC$1,Specs!$F$3:$AI$398,19,FALSE)) -> 1 | AD20: =IF(VLOOKUP($AC$2,Specs!$F$3:$AI$398,19,FALSE)="","",VLOOKUP($AC$2,Specs!$F$3:$AI$398,19,FALSE)) -> 0 | AE20: =IF(AC20="","",IF(AND(AB20<=AC20,AB20>=AD20),1,2)) -> 1 | AF20: =IF(AE20="","",MAX($AF$3:AF19)+1) -> 18 | AG20: =IF(MIN($AG$3:AG19)-1<=0,"",AG19-1) -> 12 | AH20: =IF(AG20="",200,VLOOKUP(AG20,$N$3:$AD$31,3,FALSE)) -> 16 | AI20: =IF(AG20="",1,VLOOKUP(AG20,$N$3:$AD$31,16,FALSE)) -> 1 | AJ20: =IF(AG20="",1,VLOOKUP(AG20,$N$3:$AD$31,17,FALSE)) -> 0 | AK20: 1 | AL20: 18 | AM20: =P14 -> 16 | AN20: =AB14 -> 1 | AO20: =1-AN20 -> 0 | AP20: =IF(AR20="","",MAX($AP$3:AP19)+1) | AQ20: =P20 -> 2 | AR20: =S20 | AS20: =IF(MIN($AS$3:AS19)-1<=0,"",AS19-1) -> #N/A | AT20: =IF(AS20="",150,VLOOKUP(AS20,$AP$3:$AR$31,2,FALSE)) -> #N/A | AU20: =IF(AS20="",1,VLOOKUP(AS20,$AP$3:$AR$31,3,FALSE)) -> #N/A
A21: 3/4" | B21: 19 | D21: =IF(ISERROR(R13),"",R13) | E21: =IF(ISERROR(S13),"",IF(S13=0,"",S13)) | F21: =IF(ISERROR(AB13),"",AB13) -> 1 | G21: =IF($AB$1=1, "",AC13) | H21: =IF($AB$1=1, "",AD13) | M21: 19 | N21: =IF(AF21="","",AF21) -> 19 | O21: =A39 -> #16 | P21: =B39 -> 1.18 | Q21: =IF(C39="","",C39) | R21: =IF(Q21="","",IF(Split="x",IF(Fines_Cumulative="x",Q21/Split_Weight,SUM($Q$19:Q21)/Split_Weight+Split_Percent),IF(Fines_Cumulative="x",Q21/Split_Weight*(1-Split_Percent)+Split_Percent,SUM($Q$19:Q21)/Split_Weight*(1-Split_Percent)+Split_Percent))) | S21: =IF(R21="","",1-R21) | T21: =IF(AND(Q21="",SUM($R$3:S21)>0),S22+((S20-S22)*(P21-P22)/(P20-P22)),S21) | U21: =TYPE(T21) -> 2 | V21: =IF(OR(U21=1,U21=2),"",P21) | W21: =IF(V21="",IF(OR(AND(U22=16,U20<16),AND(U22<16,U20=16),AND(U22=16,U20=16)),P21,""),"") | X21: =IF(W21="","",S21) | Y21: =IF(V21="","",MIN($X$3:X21)-MAX(X22:$X$31)) | Z21: =IF(V21="","",MIN($W$3:W21)-MAX(W22:$W$31)) | AA21: =IF(V21="","",(V21-MAX(W22:$W$31))/Z21*Y21+MAX(X22:$X$31)) | AB21: =IF(AA21="",IF(T21="",1,T21),AA21) -> 1 | AC21: =IF(VLOOKUP($AC$1,Specs!$F$3:$AI$398,20,FALSE)="","",VLOOKUP($AC$1,Specs!$F$3:$AI$398,20,FALSE)) -> 1 | AD21: =IF(VLOOKUP($AC$2,Specs!$F$3:$AI$398,20,FALSE)="","",VLOOKUP($AC$2,Specs!$F$3:$AI$398,20,FALSE)) -> 0 | AE21: =IF(AC21="","",IF(AND(AB21<=AC21,AB21>=AD21),1,2)) -> 1 | AF21: =IF(AE21="","",MAX($AF$3:AF20)+1) -> 19 | AG21: =IF(MIN($AG$3:AG20)-1<=0,"",AG20-1) -> 11 | AH21: =IF(AG21="",200,VLOOKUP(AG21,$N$3:$AD$31,3,FALSE)) -> 19 | AI21: =IF(AG21="",1,VLOOKUP(AG21,$N$3:$AD$31,16,FALSE)) -> 1 | AJ21: =IF(AG21="",1,VLOOKUP(AG21,$N$3:$AD$31,17,FALSE)) -> 0 | AK21: 1 | AL21: 19 | AM21: =P13 -> 19 | AN21: =AB13 -> 1 | AO21: =1-AN21 -> 0 | AP21: =IF(AR21="","",MAX($AP$3:AP20)+1) | AQ21: =P21 -> 1.18 | AR21: =S21 | AS21: =IF(MIN($AS$3:AS20)-1<=0,"",AS20-1) -> #N/A | AT21: =IF(AS21="",150,VLOOKUP(AS21,$AP$3:$AR$31,2,FALSE)) -> #N/A | AU21: =IF(AS21="",1,VLOOKUP(AS21,$AP$3:$AR$31,3,FALSE)) -> #N/A
A22: 5/8" | B22: 16 | D22: =IF(ISERROR(R14),"",R14) | E22: =IF(ISERROR(S14),"",IF(S14=0,"",S14)) | F22: =IF(ISERROR(AB14),"",AB14) -> 1 | G22: =IF($AB$1=1, "",AC14) | H22: =IF($AB$1=1, "",AD14) | I22: =IF(AND(Silt_Clay>=0.5,K24=""),"Need Atterberg Limits to classify sample!","") | M22: 20 | N22: =IF(AF22="","",AF22) -> 20 | O22: =A40 -> #20 | P22: =B40 -> 0.85 | Q22: =IF(C40="","",C40) | R22: =IF(Q22="","",IF(Split="x",IF(Fines_Cumulative="x",Q22/Split_Weight,SUM($Q$19:Q22)/Split_Weight+Split_Percent),IF(Fines_Cumulative="x",Q22/Split_Weight*(1-Split_Percent)+Split_Percent,SUM($Q$19:Q22)/Split_Weight*(1-Split_Percent)+Split_Percent))) | S22: =IF(R22="","",1-R22) | T22: =IF(AND(Q22="",SUM($R$3:S22)>0),S23+((S21-S23)*(P22-P23)/(P21-P23)),S22) | U22: =TYPE(T22) -> 2 | V22: =IF(OR(U22=1,U22=2),"",P22) | W22: =IF(V22="",IF(OR(AND(U23=16,U21<16),AND(U23<16,U21=16),AND(U23=16,U21=16)),P22,""),"") | X22: =IF(W22="","",S22) | Y22: =IF(V22="","",MIN($X$3:X22)-MAX(X23:$X$31)) | Z22: =IF(V22="","",MIN($W$3:W22)-MAX(W23:$W$31)) | AA22: =IF(V22="","",(V22-MAX(W23:$W$31))/Z22*Y22+MAX(X23:$X$31)) | AB22: =IF(AA22="",IF(T22="",1,T22),AA22) -> 1 | AC22: =IF(VLOOKUP($AC$1,Specs!$F$3:$AI$398,21,FALSE)="","",VLOOKUP($AC$1,Specs!$F$3:$AI$398,21,FALSE)) -> 1 | AD22: =IF(VLOOKUP($AC$2,Specs!$F$3:$AI$398,21,FALSE)="","",VLOOKUP($AC$2,Specs!$F$3:$AI$398,21,FALSE)) -> 0 | AE22: =IF(AC22="","",IF(AND(AB22<=AC22,AB22>=AD22),1,2)) -> 1 | AF22: =IF(AE22="","",MAX($AF$3:AF21)+1) -> 20 | AG22: =IF(MIN($AG$3:AG21)-1<=0,"",AG21-1) -> 10 | AH22: =IF(AG22="",200,VLOOKUP(AG22,$N$3:$AD$31,3,FALSE)) -> 22.4 | AI22: =IF(AG22="",1,VLOOKUP(AG22,$N$3:$AD$31,16,FALSE)) -> 1 | AJ22: =IF(AG22="",1,VLOOKUP(AG22,$N$3:$AD$31,17,FALSE)) -> 0 | AK22: 1 | AL22: 20 | AM22: =P12 -> 22.4 | AN22: =AB12 -> 1 | AO22: =1-AN22 -> 0 | AP22: =IF(AR22="","",MAX($AP$3:AP21)+1) | AQ22: =P22 -> 0.85 | AR22: =S22 | AS22: =IF(MIN($AS$3:AS21)-1<=0,"",AS21-1) -> #N/A | AT22: =IF(AS22="",150,VLOOKUP(AS22,$AP$3:$AR$31,2,FALSE)) -> #N/A | AU22: =IF(AS22="",1,VLOOKUP(AS22,$AP$3:$AR$31,3,FALSE)) -> #N/A
A23: 1/2" | B23: 12.5 | D23: =IF(ISERROR(R15),"",R15) | E23: =IF(ISERROR(S15),"",IF(S15=0,"",S15)) | F23: =IF(ISERROR(AB15),"",AB15) -> 1 | G23: =IF($AB$1=1, "",AC15) | H23: =IF($AB$1=1, "",AD15) | J23: Atterberg Limits | M23: 21 | N23: =IF(AF23="","",AF23) -> 21 | O23: =A41 -> #30 | P23: =B41 -> 0.6 | Q23: =IF(C41="","",C41) | R23: =IF(Q23="","",IF(Split="x",IF(Fines_Cumulative="x",Q23/Split_Weight,SUM($Q$19:Q23)/Split_Weight+Split_Percent),IF(Fines_Cumulative="x",Q23/Split_Weight*(1-Split_Percent)+Split_Percent,SUM($Q$19:Q23)/Split_Weight*(1-Split_Percent)+Split_Percent))) | S23: =IF(R23="","",1-R23) | T23: =IF(AND(Q23="",SUM($R$3:S23)>0),S24+((S22-S24)*(P23-P24)/(P22-P24)),S23) | U23: =TYPE(T23) -> 2 | V23: =IF(OR(U23=1,U23=2),"",P23) | W23: =IF(V23="",IF(OR(AND(U24=16,U22<16),AND(U24<16,U22=16),AND(U24=16,U22=16)),P23,""),"") | X23: =IF(W23="","",S23) | Y23: =IF(V23="","",MIN($X$3:X23)-MAX(X24:$X$31)) | Z23: =IF(V23="","",MIN($W$3:W23)-MAX(W24:$W$31)) | AA23: =IF(V23="","",(V23-MAX(W24:$W$31))/Z23*Y23+MAX(X24:$X$31)) | AB23: =IF(AA23="",IF(T23="",1,T23),AA23) -> 1 | AC23: =IF(VLOOKUP($AC$1,Specs!$F$3:$AI$398,22,FALSE)="","",VLOOKUP($AC$1,Specs!$F$3:$AI$398,22,FALSE)) -> 1 | AD23: =IF(VLOOKUP($AC$2,Specs!$F$3:$AI$398,22,FALSE)="","",VLOOKUP($AC$2,Specs!$F$3:$AI$398,22,FALSE)) -> 0 | AE23: =IF(AC23="","",IF(AND(AB23<=AC23,AB23>=AD23),1,2)) -> 1 | AF23: =IF(AE23="","",MAX($AF$3:AF22)+1) -> 21 | AG23: =IF(MIN($AG$3:AG22)-1<=0,"",AG22-1) -> 9 | AH23: =IF(AG23="",200,VLOOKUP(AG23,$N$3:$AD$31,3,FALSE)) -> 25 | AI23: =IF(AG23="",1,VLOOKUP(AG23,$N$3:$AD$31,16,FALSE)) -> 1 | AJ23: =IF(AG23="",1,VLOOKUP(AG23,$N$3:$AD$31,17,FALSE)) -> 0 | AK23: 1 | AL23: 21 | AM23: =P11 -> 25 | AN23: =AB11 -> 1 | AO23: =1-AN23 -> 0 | AP23: =IF(AR23="","",MAX($AP$3:AP22)+1) | AQ23: =P23 -> 0.6 | AR23: =S23 | AS23: =IF(MIN($AS$3:AS22)-1<=0,"",AS22-1) -> #N/A | AT23: =IF(AS23="",150,VLOOKUP(AS23,$AP$3:$AR$31,2,FALSE)) -> #N/A | AU23: =IF(AS23="",1,VLOOKUP(AS23,$AP$3:$AR$31,3,FALSE)) -> #N/A
A24: 3/8" | B24: 9.5 | D24: =IF(ISERROR(R16),"",R16) | E24: =IF(ISERROR(S16),"",IF(S16=0,"",S16)) | F24: =IF(ISERROR(AB16),"",AB16) -> 1 | G24: =IF($AB$1=1, "",AC16) | H24: =IF($AB$1=1, "",AD16) | J24: Non-Plastic: | K24: x | M24: 22 | N24: =IF(AF24="","",AF24) -> 22 | O24: =A42 -> #40 | P24: =B42 -> 0.425 | Q24: =IF(C42="","",C42) | R24: =IF(Q24="","",IF(Split="x",IF(Fines_Cumulative="x",Q24/Split_Weight,SUM($Q$19:Q24)/Split_Weight+Split_Percent),IF(Fines_Cumulative="x",Q24/Split_Weight*(1-Split_Percent)+Split_Percent,SUM($Q$19:Q24)/Split_Weight*(1-Split_Percent)+Split_Percent))) | S24: =IF(R24="","",1-R24) | T24: =IF(AND(Q24="",SUM($R$3:S24)>0),S25+((S23-S25)*(P24-P25)/(P23-P25)),S24) | U24: =TYPE(T24) -> 2 | V24: =IF(OR(U24=1,U24=2),"",P24) | W24: =IF(V24="",IF(OR(AND(U25=16,U23<16),AND(U25<16,U23=16),AND(U25=16,U23=16)),P24,""),"") | X24: =IF(W24="","",S24) | Y24: =IF(V24="","",MIN($X$3:X24)-MAX(X25:$X$31)) | Z24: =IF(V24="","",MIN($W$3:W24)-MAX(W25:$W$31)) | AA24: =IF(V24="","",(V24-MAX(W25:$W$31))/Z24*Y24+MAX(X25:$X$31)) | AB24: =IF(AA24="",IF(T24="",1,T24),AA24) -> 1 | AC24: =IF(VLOOKUP($AC$1,Specs!$F$3:$AI$398,23,FALSE)="","",VLOOKUP($AC$1,Specs!$F$3:$AI$398,23,FALSE)) -> 1 | AD24: =IF(VLOOKUP($AC$2,Specs!$F$3:$AI$398,23,FALSE)="","",VLOOKUP($AC$2,Specs!$F$3:$AI$398,23,FALSE)) -> 0 | AE24: =IF(AC24="","",IF(AND(AB24<=AC24,AB24>=AD24),1,2)) -> 1 | AF24: =IF(AE24="","",MAX($AF$3:AF23)+1) -> 22 | AG24: =IF(MIN($AG$3:AG23)-1<=0,"",AG23-1) -> 8 | AH24: =IF(AG24="",200,VLOOKUP(AG24,$N$3:$AD$31,3,FALSE)) -> 31.5 | AI24: =IF(AG24="",1,VLOOKUP(AG24,$N$3:$AD$31,16,FALSE)) -> 1 | AJ24: =IF(AG24="",1,VLOOKUP(AG24,$N$3:$AD$31,17,FALSE)) -> 0 | AK24: 1 | AL24: 22 | AM24: =P10 -> 31.5 | AN24: =AB10 -> 1 | AO24: =1-AN24 -> 0 | AP24: =IF(AR24="","",MAX($AP$3:AP23)+1) | AQ24: =P24 -> 0.425 | AR24: =S24 | AS24: =IF(MIN($AS$3:AS23)-1<=0,"",AS23-1) -> #N/A | AT24: =IF(AS24="",150,VLOOKUP(AS24,$AP$3:$AR$31,2,FALSE)) -> #N/A | AU24: =IF(AS24="",1,VLOOKUP(AS24,$AP$3:$AR$31,3,FALSE)) -> #N/A
A25: 1/4" | B25: 6.3 | D25: =IF(ISERROR(R17),"",R17) | E25: =IF(ISERROR(S17),"",IF(S17=0,"",S17)) | F25: =IF(ISERROR(AB17),"",AB17) -> 1 | G25: =IF($AB$1=1, "",AC17) | H25: =IF($AB$1=1, "",AD17) | J25: Liquid Limit, Oven Dried: | K25: =IF('Atterberg Limits'!D19="N/A",IF($K$24="x",0,"n/a"),'Atterberg Limits'!D19) -> 0 | M25: 23 | N25: =IF(AF25="","",AF25) -> 23 | O25: =A43 -> #50 | P25: =B43 -> 0.3 | Q25: =IF(C43="","",C43) | R25: =IF(Q25="","",IF(Split="x",IF(Fines_Cumulative="x",Q25/Split_Weight,SUM($Q$19:Q25)/Split_Weight+Split_Percent),IF(Fines_Cumulative="x",Q25/Split_Weight*(1-Split_Percent)+Split_Percent,SUM($Q$19:Q25)/Split_Weight*(1-Split_Percent)+Split_Percent))) | S25: =IF(R25="","",1-R25) | T25: =IF(AND(Q25="",SUM($R$3:S25)>0),S26+((S24-S26)*(P25-P26)/(P24-P26)),S25) | U25: =TYPE(T25) -> 2 | V25: =IF(OR(U25=1,U25=2),"",P25) | W25: =IF(V25="",IF(OR(AND(U26=16,U24<16),AND(U26<16,U24=16),AND(U26=16,U24=16)),P25,""),"") | X25: =IF(W25="","",S25) | Y25: =IF(V25="","",MIN($X$3:X25)-MAX(X26:$X$31)) | Z25: =IF(V25="","",MIN($W$3:W25)-MAX(W26:$W$31)) | AA25: =IF(V25="","",(V25-MAX(W26:$W$31))/Z25*Y25+MAX(X26:$X$31)) | AB25: =IF(AA25="",IF(T25="",1,T25),AA25) -> 1 | AC25: =IF(VLOOKUP($AC$1,Specs!$F$3:$AI$398,24,FALSE)="","",VLOOKUP($AC$1,Specs!$F$3:$AI$398,24,FALSE)) -> 1 | AD25: =IF(VLOOKUP($AC$2,Specs!$F$3:$AI$398,24,FALSE)="","",VLOOKUP($AC$2,Specs!$F$3:$AI$398,24,FALSE)) -> 0 | AE25: =IF(AC25="","",IF(AND(AB25<=AC25,AB25>=AD25),1,2)) -> 1 | AF25: =IF(AE25="","",MAX($AF$3:AF24)+1) -> 23 | AG25: =IF(MIN($AG$3:AG24)-1<=0,"",AG24-1) -> 7 | AH25: =IF(AG25="",200,VLOOKUP(AG25,$N$3:$AD$31,3,FALSE)) -> 37.5 | AI25: =IF(AG25="",1,VLOOKUP(AG25,$N$3:$AD$31,16,FALSE)) -> 1 | AJ25: =IF(AG25="",1,VLOOKUP(AG25,$N$3:$AD$31,17,FALSE)) -> 0 | AK25: 1 | AL25: 23 | AM25: =P9 -> 37.5 | AN25: =AB9 -> 1 | AO25: =1-AN25 -> 0 | AP25: =IF(AR25="","",MAX($AP$3:AP24)+1) | AQ25: =P25 -> 0.3 | AR25: =S25 | AS25: =IF(MIN($AS$3:AS24)-1<=0,"",AS24-1) -> #N/A | AT25: =IF(AS25="",150,VLOOKUP(AS25,$AP$3:$AR$31,2,FALSE)) -> #N/A | AU25: =IF(AS25="",1,VLOOKUP(AS25,$AP$3:$AR$31,3,FALSE)) -> #N/A
A26: #4 | B26: 4.75 | D26: =IF(ISERROR(R18),"",R18) | E26: =IF(ISERROR(S18),"",IF(S18=0,"",S18)) | F26: =IF(ISERROR(AB18),"",AB18) -> 1 | G26: =IF($AB$1=1, "",AC18) | H26: =IF($AB$1=1, "",AD18) | J26: Liquid Limit, Not Dried: | K26: =IF('Atterberg Limits'!D19="N/A",IF($K$24="x",0,"n/a"),'Atterberg Limits'!D19) -> 0 | M26: 24 | N26: =IF(AF26="","",AF26) -> 24 | O26: =A44 -> #60 | P26: =B44 -> 0.25 | Q26: =IF(C44="","",C44) | R26: =IF(Q26="","",IF(Split="x",IF(Fines_Cumulative="x",Q26/Split_Weight,SUM($Q$19:Q26)/Split_Weight+Split_Percent),IF(Fines_Cumulative="x",Q26/Split_Weight*(1-Split_Percent)+Split_Percent,SUM($Q$19:Q26)/Split_Weight*(1-Split_Percent)+Split_Percent))) | S26: =IF(R26="","",1-R26) | T26: =IF(AND(Q26="",SUM($R$3:S26)>0),S27+((S25-S27)*(P26-P27)/(P25-P27)),S26) | U26: =TYPE(T26) -> 2 | V26: =IF(OR(U26=1,U26=2),"",P26) | W26: =IF(V26="",IF(OR(AND(U27=16,U25<16),AND(U27<16,U25=16),AND(U27=16,U25=16)),P26,""),"") | X26: =IF(W26="","",S26) | Y26: =IF(V26="","",MIN($X$3:X26)-MAX(X27:$X$31)) | Z26: =IF(V26="","",MIN($W$3:W26)-MAX(W27:$W$31)) | AA26: =IF(V26="","",(V26-MAX(W27:$W$31))/Z26*Y26+MAX(X27:$X$31)) | AB26: =IF(AA26="",IF(T26="",1,T26),AA26) -> 1 | AC26: =IF(VLOOKUP($AC$1,Specs!$F$3:$AI$398,25,FALSE)="","",VLOOKUP($AC$1,Specs!$F$3:$AI$398,25,FALSE)) -> 1 | AD26: =IF(VLOOKUP($AC$2,Specs!$F$3:$AI$398,25,FALSE)="","",VLOOKUP($AC$2,Specs!$F$3:$AI$398,25,FALSE)) -> 0 | AE26: =IF(AC26="","",IF(AND(AB26<=AC26,AB26>=AD26),1,2)) -> 1 | AF26: =IF(AE26="","",MAX($AF$3:AF25)+1) -> 24 | AG26: =IF(MIN($AG$3:AG25)-1<=0,"",AG25-1) -> 6 | AH26: =IF(AG26="",200,VLOOKUP(AG26,$N$3:$AD$31,3,FALSE)) -> 45 | AI26: =IF(AG26="",1,VLOOKUP(AG26,$N$3:$AD$31,16,FALSE)) -> 1 | AJ26: =IF(AG26="",1,VLOOKUP(AG26,$N$3:$AD$31,17,FALSE)) -> 0 | AK26: 1 | AL26: 24 | AM26: =P8 -> 45 | AN26: =AB8 -> 1 | AO26: =1-AN26 -> 0 | AP26: =IF(AR26="","",MAX($AP$3:AP25)+1) | AQ26: =P26 -> 0.25 | AR26: =S26 | AS26: =IF(MIN($AS$3:AS25)-1<=0,"",AS25-1) -> #N/A | AT26: =IF(AS26="",150,VLOOKUP(AS26,$AP$3:$AR$31,2,FALSE)) -> #N/A | AU26: =IF(AS26="",1,VLOOKUP(AS26,$AP$3:$AR$31,3,FALSE)) -> #N/A
B27: =IF(E3="x","Leave Blank","Pan Weight") -> Pan Weight | D27: =IF(ISERROR(T18),"",IF(T18=0,"",T18)) | J27: Plastic Limit: | K27: =IF('Atterberg Limits'!D20="N/A",IF($K$24="x",0,"n/a"),'Atterberg Limits'!D20) -> 0 | M27: 25 | N27: =IF(AF27="","",AF27) -> 25 | O27: =A45 -> #80 | P27: =B45 -> 0.18 | Q27: =IF(C45="","",C45) | R27: =IF(Q27="","",IF(Split="x",IF(Fines_Cumulative="x",Q27/Split_Weight,SUM($Q$19:Q27)/Split_Weight+Split_Percent),IF(Fines_Cumulative="x",Q27/Split_Weight*(1-Split_Percent)+Split_Percent,SUM($Q$19:Q27)/Split_Weight*(1-Split_Percent)+Split_Percent))) | S27: =IF(R27="","",1-R27) | T27: =IF(AND(Q27="",SUM($R$3:S27)>0),S28+((S26-S28)*(P27-P28)/(P26-P28)),S27) | U27: =TYPE(T27) -> 2 | V27: =IF(OR(U27=1,U27=2),"",P27) | W27: =IF(V27="",IF(OR(AND(U28=16,U26<16),AND(U28<16,U26=16),AND(U28=16,U26=16)),P27,""),"") | X27: =IF(W27="","",S27) | Y27: =IF(V27="","",MIN($X$3:X27)-MAX(X28:$X$31)) | Z27: =IF(V27="","",MIN($W$3:W27)-MAX(W28:$W$31)) | AA27: =IF(V27="","",(V27-MAX(W28:$W$31))/Z27*Y27+MAX(X28:$X$31)) | AB27: =IF(AA27="",IF(T27="",1,T27),AA27) -> 1 | AC27: =IF(VLOOKUP($AC$1,Specs!$F$3:$AI$398,26,FALSE)="","",VLOOKUP($AC$1,Specs!$F$3:$AI$398,26,FALSE)) -> 1 | AD27: =IF(VLOOKUP($AC$2,Specs!$F$3:$AI$398,26,FALSE)="","",VLOOKUP($AC$2,Specs!$F$3:$AI$398,26,FALSE)) -> 0 | AE27: =IF(AC27="","",IF(AND(AB27<=AC27,AB27>=AD27),1,2)) -> 1 | AF27: =IF(AE27="","",MAX($AF$3:AF26)+1) -> 25 | AG27: =IF(MIN($AG$3:AG26)-1<=0,"",AG26-1) -> 5 | AH27: =IF(AG27="",200,VLOOKUP(AG27,$N$3:$AD$31,3,FALSE)) -> 50 | AI27: =IF(AG27="",1,VLOOKUP(AG27,$N$3:$AD$31,16,FALSE)) -> 1 | AJ27: =IF(AG27="",1,VLOOKUP(AG27,$N$3:$AD$31,17,FALSE)) -> 0 | AK27: 1 | AL27: 25 | AM27: =P7 -> 50 | AN27: =AB7 -> 1 | AO27: =1-AN27 -> 0 | AP27: =IF(AR27="","",MAX($AP$3:AP26)+1) | AQ27: =P27 -> 0.18 | AR27: =S27 | AS27: =IF(MIN($AS$3:AS26)-1<=0,"",AS26-1) -> #N/A | AT27: =IF(AS27="",150,VLOOKUP(AS27,$AP$3:$AR$31,2,FALSE)) -> #N/A | AU27: =IF(AS27="",1,VLOOKUP(AS27,$AP$3:$AR$31,3,FALSE)) -> #N/A
B28: Total Weight | C28: =IF(E3="x",D31,IF(E7="x",(MAX(C11:C26)+C27),SUM(C11:C27))) -> 0 | J28: Plasticity Index: | K28: =IF('Atterberg Limits'!D21="N/A",IF($K$24="x",0,"n/a"),'Atterberg Limits'!D21) -> 0 | M28: 26 | N28: =IF(AF28="","",AF28) -> 26 | O28: =A46 -> #100 | P28: =B46 -> 0.15 | Q28: =IF(C46="","",C46) | R28: =IF(Q28="","",IF(Split="x",IF(Fines_Cumulative="x",Q28/Split_Weight,SUM($Q$19:Q28)/Split_Weight+Split_Percent),IF(Fines_Cumulative="x",Q28/Split_Weight*(1-Split_Percent)+Split_Percent,SUM($Q$19:Q28)/Split_Weight*(1-Split_Percent)+Split_Percent))) | S28: =IF(R28="","",1-R28) | T28: =IF(AND(Q28="",SUM($R$3:S28)>0),S29+((S27-S29)*(P28-P29)/(P27-P29)),S28) | U28: =TYPE(T28) -> 2 | V28: =IF(OR(U28=1,U28=2),"",P28) | W28: =IF(V28="",IF(OR(AND(U29=16,U27<16),AND(U29<16,U27=16),AND(U29=16,U27=16)),P28,""),"") | X28: =IF(W28="","",S28) | Y28: =IF(V28="","",MIN($X$3:X28)-MAX(X29:$X$31)) | Z28: =IF(V28="","",MIN($W$3:W28)-MAX(W29:$W$31)) | AA28: =IF(V28="","",(V28-MAX(W29:$W$31))/Z28*Y28+MAX(X29:$X$31)) | AB28: =IF(AA28="",IF(T28="",1,T28),AA28) -> 1 | AC28: =IF(VLOOKUP($AC$1,Specs!$F$3:$AI$398,27,FALSE)="","",VLOOKUP($AC$1,Specs!$F$3:$AI$398,27,FALSE)) -> 1 | AD28: =IF(VLOOKUP($AC$2,Specs!$F$3:$AI$398,27,FALSE)="","",VLOOKUP($AC$2,Specs!$F$3:$AI$398,27,FALSE)) -> 0 | AE28: =IF(AC28="","",IF(AND(AB28<=AC28,AB28>=AD28),1,2)) -> 1 | AF28: =IF(AE28="","",MAX($AF$3:AF27)+1) -> 26 | AG28: =IF(MIN($AG$3:AG27)-1<=0,"",AG27-1) -> 4 | AH28: =IF(AG28="",200,VLOOKUP(AG28,$N$3:$AD$31,3,FALSE)) -> 63 | AI28: =IF(AG28="",1,VLOOKUP(AG28,$N$3:$AD$31,16,FALSE)) -> 1 | AJ28: =IF(AG28="",1,VLOOKUP(AG28,$N$3:$AD$31,17,FALSE)) -> 0 | AK28: 1 | AL28: 26 | AM28: =P6 -> 63 | AN28: =AB6 -> 1 | AO28: =1-AN28 -> 0 | AP28: =IF(AR28="","",MAX($AP$3:AP27)+1) | AQ28: =P28 -> 0.15 | AR28: =S28 | AS28: =IF(MIN($AS$3:AS27)-1<=0,"",AS27-1) -> #N/A | AT28: =IF(AS28="",150,VLOOKUP(AS28,$AP$3:$AR$31,2,FALSE)) -> #N/A | AU28: =IF(AS28="",1,VLOOKUP(AS28,$AP$3:$AR$31,3,FALSE)) -> #N/A
C29: Fines Section | M29: 27 | N29: =IF(AF29="","",AF29) -> 27 | O29: =A47 -> #140 | P29: =B47 -> 0.106 | Q29: =IF(C47="","",C47) | R29: =IF(Q29="","",IF(Split="x",IF(Fines_Cumulative="x",Q29/Split_Weight,SUM($Q$19:Q29)/Split_Weight+Split_Percent),IF(Fines_Cumulative="x",Q29/Split_Weight*(1-Split_Percent)+Split_Percent,SUM($Q$19:Q29)/Split_Weight*(1-Split_Percent)+Split_Percent))) | S29: =IF(R29="","",1-R29) | T29: =IF(AND(Q29="",SUM($R$3:S29)>0),S30+((S28-S30)*(P29-P30)/(P28-P30)),S29) | U29: =TYPE(T29) -> 2 | V29: =IF(OR(U29=1,U29=2),"",P29) | W29: =IF(V29="",IF(OR(AND(U30=16,U28<16),AND(U30<16,U28=16),AND(U30=16,U28=16)),P29,""),"") | X29: =IF(W29="","",S29) | Y29: =IF(V29="","",MIN($X$3:X29)-MAX(X30:$X$31)) | Z29: =IF(V29="","",MIN($W$3:W29)-MAX(W30:$W$31)) | AA29: =IF(V29="","",(V29-MAX(W30:$W$31))/Z29*Y29+MAX(X30:$X$31)) | AB29: =IF(AA29="",IF(T29="",1,T29),AA29) -> 1 | AC29: =IF(VLOOKUP($AC$1,Specs!$F$3:$AI$398,28,FALSE)="","",VLOOKUP($AC$1,Specs!$F$3:$AI$398,28,FALSE)) -> 1 | AD29: =IF(VLOOKUP($AC$2,Specs!$F$3:$AI$398,28,FALSE)="","",VLOOKUP($AC$2,Specs!$F$3:$AI$398,28,FALSE)) -> 0 | AE29: =IF(AC29="","",IF(AND(AB29<=AC29,AB29>=AD29),1,2)) -> 1 | AF29: =IF(AE29="","",MAX($AF$3:AF28)+1) -> 27 | AG29: =IF(MIN($AG$3:AG28)-1<=0,"",AG28-1) -> 3 | AH29: =IF(AG29="",200,VLOOKUP(AG29,$N$3:$AD$31,3,FALSE)) -> 75 | AI29: =IF(AG29="",1,VLOOKUP(AG29,$N$3:$AD$31,16,FALSE)) -> 1 | AJ29: =IF(AG29="",1,VLOOKUP(AG29,$N$3:$AD$31,17,FALSE)) -> 0 | AK29: 1 | AL29: 27 | AM29: =P5 -> 75 | AN29: =AB5 -> 1 | AO29: =1-AN29 -> 0 | AP29: =IF(AR29="","",MAX($AP$3:AP28)+1) | AQ29: =P29 -> 0.106 | AR29: =S29 | AS29: =IF(MIN($AS$3:AS28)-1<=0,"",AS28-1) -> #N/A | AT29: =IF(AS29="",150,VLOOKUP(AS29,$AP$3:$AR$31,2,FALSE)) -> #N/A | AU29: =IF(AS29="",1,VLOOKUP(AS29,$AP$3:$AR$31,3,FALSE)) -> #N/A
D30: Weights are Cumulative: | E30: x | J30: Fineness Modulus: | K30: =IF(ISERROR((1-AB28+1-AB25+1-AB23+1-AB21+1-AB19+1-AB18+1-AB16+1-AB13+1-AB9+1-AB5)),"",(1-AB28+1-AB25+1-AB23+1-AB21+1-AB19+1-AB18+1-AB16+1-AB13+1-AB9+1-AB5)) -> 0 | M30: 28 | N30: =IF(AF30="","",AF30) -> 28 | O30: =A48 -> #170 | P30: =B48 -> 0.09 | Q30: =IF(C48="","",C48) | R30: =IF(Q30="","",IF(Split="x",IF(Fines_Cumulative="x",Q30/Split_Weight,SUM($Q$19:Q30)/Split_Weight+Split_Percent),IF(Fines_Cumulative="x",Q30/Split_Weight*(1-Split_Percent)+Split_Percent,SUM($Q$19:Q30)/Split_Weight*(1-Split_Percent)+Split_Percent))) | S30: =IF(R30="","",1-R30) | T30: =IF(AND(Q30="",SUM($R$3:S30)>0),S31+((S29-S31)*(P30-P31)/(P29-P31)),S30) | U30: =TYPE(T30) -> 2 | V30: =IF(OR(U30=1,U30=2),"",P30) | W30: =IF(V30="",IF(OR(AND(U31=16,U29<16),AND(U31<16,U29=16),AND(U31=16,U29=16)),P30,""),"") | X30: =IF(W30="","",S30) | Y30: =IF(V30="","",MIN($X$3:X30)-MAX(X31:$X$31)) | Z30: =IF(V30="","",MIN($W$3:W30)-MAX(W31:$W$31)) | AA30: =IF(V30="","",(V30-MAX(W31:$W$31))/Z30*Y30+MAX(X31:$X$31)) | AB30: =IF(AA30="",IF(T30="",1,T30),AA30) -> 1 | AC30: =IF(VLOOKUP($AC$1,Specs!$F$3:$AI$398,29,FALSE)="","",VLOOKUP($AC$1,Specs!$F$3:$AI$398,29,FALSE)) -> 1 | AD30: =IF(VLOOKUP($AC$2,Specs!$F$3:$AI$398,29,FALSE)="","",VLOOKUP($AC$2,Specs!$F$3:$AI$398,29,FALSE)) -> 0 | AE30: =IF(AC30="","",IF(AND(AB30<=AC30,AB30>=AD30),1,2)) -> 1 | AF30: =IF(AE30="","",MAX($AF$3:AF29)+1) -> 28 | AG30: =IF(MIN($AG$3:AG29)-1<=0,"",AG29-1) -> 2 | AH30: =IF(AG30="",200,VLOOKUP(AG30,$N$3:$AD$31,3,FALSE)) -> 100 | AI30: =IF(AG30="",1,VLOOKUP(AG30,$N$3:$AD$31,16,FALSE)) -> 1 | AJ30: =IF(AG30="",1,VLOOKUP(AG30,$N$3:$AD$31,17,FALSE)) -> 0 | AK30: 1 | AL30: 28 | AM30: =P4 -> 100 | AN30: =AB4 -> 1 | AO30: =1-AN30 -> 0 | AP30: =IF(AR30="","",MAX($AP$3:AP29)+1) | AQ30: =P30 -> 0.09 | AR30: =S30 | AS30: =IF(MIN($AS$3:AS29)-1<=0,"",AS29-1) -> #N/A | AT30: =IF(AS30="",150,VLOOKUP(AS30,$AP$3:$AR$31,2,FALSE)) -> #N/A | AU30: =IF(AS30="",1,VLOOKUP(AS30,$AP$3:$AR$31,3,FALSE)) -> #N/A
C31: Before Wash Weight: | E31: =IF(E3="x"," « Enter Total Sample Weight Here!","") | M31: 29 | N31: =IF(AF31="","",AF31) -> 29 | O31: =A49 -> #200 | P31: =B49 -> 0.075 | Q31: =IF(C49="","",C49) | R31: =IF(Q31="","",IF(Split="x",IF(Fines_Cumulative="x",Q31/Split_Weight,SUM($Q$19:Q31)/Split_Weight+Split_Percent),IF(Fines_Cumulative="x",Q31/Split_Weight*(1-Split_Percent)+Split_Percent,SUM($Q$19:Q31)/Split_Weight*(1-Split_Percent)+Split_Percent))) | S31: =IF(R31="","",1-R31) | T31: =IF(AND(Q31="",SUM($R$3:S31)>0),S32+((S30-S32)*(P31-P32)/(P30-P32)),S31) | U31: =TYPE(T31) -> 2 | V31: =IF(OR(U31=1,U31=2),"",P31) | W31: =IF(V31="",IF(OR(AND(U32=16,U30<16),AND(U32<16,U30=16),AND(U32=16,U30=16)),P31,""),"") | X31: =IF(W31="","",S31) | Y31: =IF(V31="","",MIN($X$3:X31)-MAX(X$31:$X32)) | Z31: =IF(V31="","",MIN($W$3:W31)-MAX(W$31:$W32)) | AA31: =IF(V31="","",(V31-MAX(W$31:$W32))/Z31*Y31) | AB31: =IF(AA31="",IF(T31="",1,T31),AA31) -> 1 | AC31: =IF(VLOOKUP($AC$1,Specs!$F$3:$AI$398,30,FALSE)="","",VLOOKUP($AC$1,Specs!$F$3:$AI$398,30,FALSE)) -> 1 | AD31: =IF(VLOOKUP($AC$2,Specs!$F$3:$AI$398,30,FALSE)="","",VLOOKUP($AC$2,Specs!$F$3:$AI$398,30,FALSE)) -> 0 | AE31: =IF(AC31="","",IF(AND(AB31<=AC31,AB31>=AD31),1,2)) -> 1 | AF31: =IF(AE31="","",MAX($AF$3:AF30)+1) -> 29 | AG31: =IF(MIN($AG$3:AG30)-1<=0,"",AG30-1) -> 1 | AH31: =IF(AG31="",200,VLOOKUP(AG31,$N$3:$AD$31,3,FALSE)) -> 150 | AI31: =IF(AG31="",1,VLOOKUP(AG31,$N$3:$AD$31,16,FALSE)) -> 1 | AJ31: =IF(AG31="",1,VLOOKUP(AG31,$N$3:$AD$31,17,FALSE)) -> 0 | AK31: 1 | AL31: 29 | AM31: =P3 -> 150 | AN31: =AB3 -> 1 | AO31: =1-AN31 -> 0 | AP31: =IF(AR31="","",MAX($AP$3:AP30)+1) | AQ31: =P31 -> 0.075 | AR31: =S31 | AS31: =IF(MIN($AS$3:AS30)-1<=0,"",AS30-1) -> #N/A | AT31: =IF(AS31="",150,VLOOKUP(AS31,$AP$3:$AR$31,2,FALSE)) -> #N/A | AU31: =IF(AS31="",1,VLOOKUP(AS31,$AP$3:$AR$31,3,FALSE)) -> #N/A
C32: After Wash Weight: | E32: Accuracy: | F32: =IF(ISERROR(ABS((D32-D33)/D32)),"",ABS((D32-D33)/D32)) | G32: =IF(AND(E3="x",E7="",D31<>C28),"There appears to be a weighing error !","") | J32: D(10)= | K32: =IF(ISERROR(AX15),"",AX15) -> 0.0075 | L32: mm | AF32: =IF(AE32="","",MAX(AF31:AF32)+1)
C33: After Sieving Weight: | D33: =IF(E30="x",C50,SUM(C37:C50)) -> 0 | F33: =IF(F32>0.003,"Invalid, Repeat Test","Valid Test") -> Invalid, Repeat Test | J33: D(30)= | K33: =IF(ISERROR(AX16),"",AX16) -> 0.0225 | L33: mm | S33: =IF(ISNA(T33),ERROR.TYPE(T33),1) -> 7 | T33: =IF(R40="","",VLOOKUP(R40,Q41:W76,3)) -> #N/A | AH33: =AH3 -> 0.075 | AI33: =1-AI3 -> 0 | AJ33: =1-AJ3 -> 1
C34: =IF(Fines_Cumulative="x","Cumulative","Individual") -> Cumulative | D34: Cumulative | E34: Cumulative | F34: Interpolated | J34: D(60)= | K34: =IF(ISERROR(AX17),"",AX17) -> 0.045 | L34: mm | R34: Coarse | S34: =IF(ISNA(T34),ERROR.TYPE(T34),1) -> 1 | T34: =IF(ISERROR(VLOOKUP(T40,Q41:W76,5)),#N/A,IF(T40="","",VLOOKUP(T40,Q41:W76,5))) -> ML, Silt | AH34: =AH4 -> 0.09 | AI34: =1-AI4 -> 0 | AJ34: =1-AJ4 -> 1
A35: Sieve | B35: Size | C35: Retained | D35: Percent | E35: Percent | F35: Percent | G35: Specs | J35: Coeff. of Curvature, CC = | K35: =IF(ISERROR((K33*K33)/(K32*K34)),"",(K33*K33)/(K32*K34)) -> 1.5 | Q35: Type | R35: %Fines | S35: =IF(ISNA(T35),ERROR.TYPE(T35),1) -> 7 | T35: =IF(V40="","",VLOOKUP(V40,Q41:W76,7)) -> #N/A | AH35: =AH5 -> 0.106 | AI35: =1-AI5 -> 0 | AJ35: =1-AJ5 -> 1
A36: US | B36: mm | C36: Weight | D36: Retained | E36: Passing | F36: Passing | G36: Max | H36: Min | J36: Coeff. of Uniformity, CU = | K36: =IF(ISERROR(K34/K32),"",K34/K32) -> 6 | Q36: =IF(Silt_Clay<0.5,"Coarse","") | R36: =IF(K42<0.05,"Yes","") | AH36: =AH6 -> 0.15 | AI36: =1-AI6 -> 0 | AJ36: =1-AJ6 -> 1
A37: #8 | B37: 2.36 | D37: =IF(R19=0,"",R19) | E37: =IF(S19=0,"",S19) | F37: =IF(ISERROR(AB19),"",AB19) -> 1 | G37: =IF($AB$1=1, "",AC19) | H37: =IF($AB$1=1, "",AD19) | Q37: =IF(K42>=0.5,"Fine","") -> Fine | R37: =IF(AND(K42>=0.05,K42<=0.12),"Yes","") | AH37: =AH7 -> 0.18 | AI37: =1-AI7 -> 0 | AJ37: =1-AJ7 -> 1
A38: #10 | B38: 2 | D38: =IF(R20=0,"",R20) | E38: =IF(S20=0,"",S20) | F38: =IF(ISERROR(AB20),"",AB20) -> 1 | G38: =IF($AB$1=1, "",AC20) | H38: =IF($AB$1=1, "",AD20) | J38: % Gravel = | K38: =IF(ISERROR(1-F26),"",1-F26) -> 0 | Q38: =IF(OR(Liquid_Limit=0,Liquid_Limit="",K25=0,K25=""),"",IF(K25/Liquid_Limit<0.75,"Organic","")) | R38: =IF(K42>0.12,"Yes","") -> Yes | AH38: =AH8 -> 0.25 | AI38: =1-AI8 -> 0 | AJ38: =1-AJ8 -> 1
A39: #16 | B39: 1.18 | D39: =IF(R21=0,"",R21) | E39: =IF(S21=0,"",S21) | F39: =IF(ISERROR(AB21),"",AB21) -> 1 | G39: =IF($AB$1=1, "",AC21) | H39: =IF($AB$1=1, "",AD21) | J39: % Sand = | K39: =IF(ISERROR(F26-F49),"",F26-F49) -> 0 | Q39: =COUNT(Q36:Q38) -> 0 | AH39: =AH9 -> 0.3 | AI39: =1-AI9 -> 0 | AJ39: =1-AJ9 -> 1
A40: #20 | B40: 0.85 | D40: =IF(R22=0,"",R22) | E40: =IF(S22=0,"",S22) | F40: =IF(ISERROR(AB22),"",AB22) -> 1 | G40: =IF($AB$1=1, "",AC22) | H40: =IF($AB$1=1, "",AD22) | J40: % Silt & Clay = | K40: =F49 -> 1 | R40: =MAX(R41:R76) -> 0 | S40: COARSE GRAINED SOILS | T40: =MAX(T41:T75) -> 15 | U40: FINE GRAINED SOILS | V40: =MAX(V41:V68) -> 0 | W40: ORGANIC FINE GRAINED SOILS | AH40: =AH10 -> 0.425 | AI40: =1-AI10 -> 0 | AJ40: =1-AJ10 -> 1
A41: #30 | B41: 0.6 | D41: =IF(R23=0,"",R23) | E41: =IF(S23=0,"",S23) | F41: =IF(ISERROR(AB23),"",AB23) -> 1 | G41: =IF($AB$1=1, "",AC23) | H41: =IF($AB$1=1, "",AD23) | J41: % Silt: | K41: =IF(ISERROR(Hydrometer!B24),"N/A, Run Hydrometer",Hydrometer!B24) -> N/A, Run Hydrometer | Q41: 1 | R41: =IF(AND(Organic="",Silt_Clay<0.5),IF(Gravel>Sand,IF(Silt_Clay<0.05,IF(AND(CU>=4,CC>=1,CC<=3),IF(Sand<0.15,Q41,""),""),""),""),"") | S41: GW, Well-graded Gravel | T41: =IF(AND(Organic="",Silt_Clay>=0.5,Liquid_Limit<0.5),IF(AND(Plasticity_Index>0.07,Plasticity_Index>=0.73*(Liquid_Limit-0.2)),IF(Silt_Clay>0.7,IF(Silt_Clay>0.85,Q41,""),""),""),"") | U41: CL, Lean Clay | V41: =IF(Organic="x",IF(Liquid_Limit<0.5,IF(AND(Plasticity_Index>=0.04,Plasticity_Index>=0.73*(Liquid_Limit-0.2)),IF(Silt_Clay>0.7,IF(Silt_Clay>0.85,Q41,""),""),""),""),"") | W41: OL, Organic Clay | AH41: =AH11 -> 0.6 | AI41: =1-AI11 -> 0 | AJ41: =1-AJ11 -> 1
A42: #40 | B42: 0.425 | D42: =IF(R24=0,"",R24) | E42: =IF(S24=0,"",S24) | F42: =IF(ISERROR(AB24),"",AB24) -> 1 | G42: =IF($AB$1=1, "",AC24) | H42: =IF($AB$1=1, "",AD24) | J42: % Clay: | K42: =IF(ISERROR(Hydrometer!B25),"N/A, Run Hydrometer",Hydrometer!B25) -> N/A, Run Hydrometer | Q42: 2 | R42: =IF(AND(Organic="",Silt_Clay<0.5),IF(Gravel>Sand,IF(Silt_Clay<0.05,IF(AND(CU>=4,CC>=1,CC<=3),IF(Sand>=0.15,Q42,""),""),""),""),"") | S42: GW, Well-graded Gravel with Sand | T42: =IF(AND(Organic="",Silt_Clay>=0.5,Liquid_Limit<0.5),IF(AND(Plasticity_Index>0.07,Plasticity_Index>=0.73*(Liquid_Limit-0.2)),IF(Silt_Clay>0.7,IF(AND(Silt_Clay<=0.85,Silt_Clay>0.7),IF(Gravel<=Sand,Q42,""),""),""),""),"") | U42: CL, Lean Clay with Sand | V42: =IF(Organic="x",IF(Liquid_Limit<0.5,IF(AND(Plasticity_Index>=0.04,Plasticity_Index>=0.73*(Liquid_Limit-0.2)),IF(Silt_Clay>0.7,IF(AND(Silt_Clay<=0.85,Silt_Clay>0.7),IF(Sand>=Gravel,Q42,""),""),""),""),""),"") | W42: OL, Organic Clay with Sand | AH42: =AH12 -> 0.85 | AI42: =1-AI12 -> 0 | AJ42: =1-AJ12 -> 1
A43: #50 | B43: 0.3 | D43: =IF(R25=0,"",R25) | E43: =IF(S25=0,"",S25) | F43: =IF(ISERROR(AB25),"",AB25) -> 1 | G43: =IF($AB$1=1, "",AC25) | H43: =IF($AB$1=1, "",AD25) | Q43: 3 | R43: =IF(AND(Organic="",Silt_Clay<0.5),IF(Gravel>Sand,IF(Silt_Clay<0.05,IF(OR(CU<4,CC<1,CC>3),IF(Sand<0.15,Q43,""),""),""),""),"") | S43: GP, Poorly graded Gravel | T43: =IF(AND(Organic="",Silt_Clay>=0.5,Liquid_Limit<0.5),IF(AND(Plasticity_Index>0.07,Plasticity_Index>=0.73*(Liquid_Limit-0.2)),IF(Silt_Clay>0.7,IF(AND(Silt_Clay<=0.85,Silt_Clay>0.7),IF(Gravel>Sand,Q43,""),""),""),""),"") | U43: CL, Lean Clay with Gravel | V43: =IF(Organic="x",IF(Liquid_Limit<0.5,IF(AND(Plasticity_Index>=0.04,Plasticity_Index>=0.73*(Liquid_Limit-0.2)),IF(Silt_Clay>0.7,IF(AND(Silt_Clay<=0.85,Silt_Clay>0.7),IF(Sand<Gravel,Q43,""),""),""),""),""),"") | W43: OL, Organic Clay with Gravel | AH43: =AH13 -> 1.18 | AI43: =1-AI13 -> 0 | AJ43: =1-AJ13 -> 1
A44: #60 | B44: 0.25 | D44: =IF(R26=0,"",R26) | E44: =IF(S26=0,"",S26) | F44: =IF(ISERROR(AB26),"",AB26) -> 1 | G44: =IF($AB$1=1, "",AC26) | H44: =IF($AB$1=1, "",AD26) | J44: % Moisture: | K44: ='Moisture Content'!D11 -> #DIV/0! | Q44: 4 | R44: =IF(AND(Organic="",Silt_Clay<0.5),IF(Gravel>Sand,IF(Silt_Clay<0.05,IF(OR(CU<4,CC<1,CC>3),IF(Sand>=0.15,Q44,""),""),""),""),"") | S44: GP, Poorly graded Gravel with Sand | T44: =IF(AND(Organic="",Silt_Clay>=0.5,Liquid_Limit<0.5),IF(AND(Plasticity_Index>0.07,Plasticity_Index>=0.73*(Liquid_Limit-0.2)),IF(Silt_Clay<=0.7,IF(Sand>=Gravel,IF(Gravel<0.15,Q44,""),""),""),""),"") | U44: CL, Sandy Lean Clay | V44: =IF(Organic="x",IF(Liquid_Limit<0.5,IF(AND(Plasticity_Index>=0.04,Plasticity_Index>=0.73*(Liquid_Limit-0.2)),IF(Silt_Clay<=0.7,IF(Sand>=Gravel,IF(Gravel<0.15,Q44,""),""),""),""),""),"") | W44: OL, Sandy Organic Clay | AH44: =AH14 -> 2 | AI44: =1-AI14 -> 0 | AJ44: =1-AJ14 -> 1
A45: #80 | B45: 0.18 | D45: =IF(R27=0,"",R27) | E45: =IF(S27=0,"",S27) | F45: =IF(ISERROR(AB27),"",AB27) -> 1 | G45: =IF($AB$1=1, "",AC27) | H45: =IF($AB$1=1, "",AD27) | Q45: 5 | R45: =IF(AND(Organic="",Silt_Clay<0.5),IF(Gravel>Sand,IF(AND(Silt_Clay>=0.05,Silt_Clay<=0.12),IF(AND(CU>=4,CC>=1,CC<=3),IF(AND(OR(Silt="x",Silt=""),Clay=""),IF(Sand<0.15,Q45,""),""),""),""),""),"") | S45: GW-GM, Well-graded Gravel with Silt | T45: =IF(AND(Organic="",Silt_Clay>=0.5,Liquid_Limit<0.5),IF(AND(Plasticity_Index>0.07,Plasticity_Index>=0.73*(Liquid_Limit-0.2)),IF(Silt_Clay<=0.7,IF(Sand>=Gravel,IF(Gravel>=0.15,Q45,""),""),""),""),"") | U45: CL, Sandy Lean Clay with Gravel | V45: =IF(Organic="x",IF(Liquid_Limit<0.5,IF(AND(Plasticity_Index>=0.04,Plasticity_Index>=0.73*(Liquid_Limit-0.2)),IF(Silt_Clay<=0.7,IF(Sand>=Gravel,IF(Gravel>=0.15,Q45,""),""),""),""),""),"") | W45: OL, Sandy Organic Clay with Gravel | AH45: =AH15 -> 2.36 | AI45: =1-AI15 -> 0 | AJ45: =1-AJ15 -> 1
A46: #100 | B46: 0.15 | D46: =IF(R28=0,"",R28) | E46: =IF(S28=0,"",S28) | F46: =IF(ISERROR(AB28),"",AB28) -> 1 | G46: =IF($AB$1=1, "",AC28) | H46: =IF($AB$1=1, "",AD28) | Q46: 6 | R46: =IF(AND(Organic="",Silt_Clay<0.5),IF(Gravel>Sand,IF(AND(Silt_Clay>=0.05,Silt_Clay<=0.12),IF(AND(CU>=4,CC>=1,CC<=3),IF(OR(Silt="x",Plasticity_Index="Non-Plastic",Plasticity_Index=0,Plasticity_Index="n/a"),IF(Sand>=0.15,Q46,""),""),""),""),""),"") | S46: GW-GM, Well-graded Gravel with Silt and Sand | T46: =IF(AND(Organic="",Silt_Clay>=0.5,Liquid_Limit<0.5),IF(AND(Plasticity_Index>0.07,Plasticity_Index>=0.73*(Liquid_Limit-0.2)),IF(Silt_Clay<=0.7,IF(Sand<Gravel,IF(Sand<0.15,Q46,""),""),""),""),"") | U46: CL, Gravelly Lean Clay | V46: =IF(Organic="x",IF(Liquid_Limit<0.5,IF(AND(Plasticity_Index>=0.04,Plasticity_Index>=0.73*(Liquid_Limit-0.2)),IF(Silt_Clay<=0.7,IF(Sand<Gravel,IF(Sand<0.15,Q46,""),""),""),""),""),"") | W46: OL, Gravelly Organic Clay | AH46: =AH16 -> 4.75 | AI46: =1-AI16 -> 0 | AJ46: =1-AJ16 -> 1
A47: #140 | B47: 0.106 | D47: =IF(R29=0,"",R29) | E47: =IF(S29=0,"",S29) | F47: =IF(ISERROR(AB29),"",AB29) -> 1 | G47: =IF($AB$1=1, "",AC29) | H47: =IF($AB$1=1, "",AD29) | Q47: 7 | R47: =IF(AND(Organic="",Silt_Clay<0.5),IF(Gravel>Sand,IF(AND(Silt_Clay>=0.05,Silt_Clay<=0.12),IF(AND(CU>=4,CC>=1,CC<=3),IF(OR(Silt="",Clay="x"),IF(Sand<0.15,Q47,""),""),""),""),""),"") | S47: GW-GC, Well-graded Gravel with Silty Clay | T47: =IF(AND(Organic="",Silt_Clay>=0.5,Liquid_Limit<0.5),IF(AND(Plasticity_Index>0.07,Plasticity_Index>=0.73*(Liquid_Limit-0.2)),IF(Silt_Clay<=0.7,IF(Sand<Gravel,IF(Sand>=0.15,Q47,""),""),""),""),"") | U47: CL, Gravelly Lean Clay with Sand | V47: =IF(Organic="x",IF(Liquid_Limit<0.5,IF(AND(Plasticity_Index>=0.04,Plasticity_Index>=0.73*(Liquid_Limit-0.2)),IF(Silt_Clay<=0.7,IF(Sand<Gravel,IF(Sand>=0.15,Q47,""),""),""),""),""),"") | W47: OL, Gravelly Organic Clay with Sand | AH47: =AH17 -> 6.3 | AI47: =1-AI17 -> 0 | AJ47: =1-AJ17 -> 1
A48: #170 | B48: 0.09 | D48: =IF(R30=0,"",R30) | E48: =IF(S30=0,"",S30) | F48: =IF(ISERROR(AB30),"",AB30) -> 1 | G48: =IF($AB$1=1, "",AC30) | H48: =IF($AB$1=1, "",AD30) | Q48: 8 | R48: =IF(AND(Organic="",Silt_Clay<0.5),IF(Gravel>Sand,IF(AND(Silt_Clay>=0.05,Silt_Clay<=0.12),IF(AND(CU>=4,CC>=1,CC<=3),IF(OR(Silt="",Clay="x"),IF(Sand>=0.15,Q48,""),""),""),""),""),"") | S48: GW-GC, Well-graded Gravel with Silty Clay and Sand | T48: =IF(AND(Organic="",Silt_Clay>=0.5,Liquid_Limit<0.5),IF(AND(AND(Plasticity_Index>=0.04,Plasticity_Index<=0.07),Plasticity_Index>=0.73*(Liquid_Limit-0.2)),IF(Silt_Clay>=0.7,IF(Silt_Clay>0.85,Q48,""),""),""),"") | U48: CL-ML, Silty Clay | V48: =IF(Organic="x",IF(Liquid_Limit<0.5,IF(OR(Plasticity_Index<0.04,Plasticity_Index<0.73*(Liquid_Limit-0.2)),IF(Silt_Clay>0.7,IF(Silt_Clay>0.85,Q48,""),""),""),""),"") | W48: OL, Organic Silt | AH48: =AH18 -> 9.5 | AI48: =1-AI18 -> 0 | AJ48: =1-AJ18 -> 1
A49: #200 | B49: 0.075 | D49: =IF(R31=0,"",R31) | E49: =IF(S31=0,"",S31) | F49: =IF(ISERROR(AB31),"",AB31) -> 1 | G49: =IF($AB$1=1, "",AC31) | H49: =IF($AB$1=1, "",AD31) | Q49: 9 | R49: =IF(AND(Organic="",Silt_Clay<0.5),IF(Gravel>Sand,IF(AND(Silt_Clay>=0.05,Silt_Clay<=0.12),IF(OR(CU<4,CC<1,CC>3),IF(AND(Silt="x",Clay=""),IF(Sand<0.15,Q49,""),""),""),""),""),"") | S49: GP-GM, Poorly graded Gravel with Silt | T49: =IF(AND(Organic="",Silt_Clay>=0.5,Liquid_Limit<0.5),IF(AND(AND(Plasticity_Index>=0.04,Plasticity_Index<=0.07),Plasticity_Index>=0.73*(Liquid_Limit-0.2)),IF(Silt_Clay>=0.7,IF(AND(Silt_Clay<=0.85,Silt_Clay>=0.7),IF(Sand>=Gravel,Q49,""),""),""),""),"") | U49: CL-ML, Silty Clay with Sand | V49: =IF(Organic="x",IF(Liquid_Limit<0.5,IF(OR(Plasticity_Index<0.04,Plasticity_Index<0.73*(Liquid_Limit-0.2)),IF(Silt_Clay>0.7,IF(AND(Silt_Clay<=0.85,Silt_Clay>0.7),IF(Sand>=Gravel,Q49,""),""),""),""),""),"") | W49: OL, Organic Silt with Sand | AH49: =AH19 -> 12.5 | AI49: =1-AI19 -> 0 | AJ49: =1-AJ19 -> 1
A50: Pan | Q50: 10 | R50: =IF(AND(Organic="",Silt_Clay<0.5),IF(Gravel>Sand,IF(AND(Silt_Clay>=0.05,Silt_Clay<=0.12),IF(OR(CU<4,CC<1,CC>3),IF(AND(OR(Silt="x",Silt=""),Clay=""),IF(Sand>=0.15,Q50,""),""),""),""),""),"") | S50: GP-GM, Poorly graded Gravel with Silt and Sand | T50: =IF(AND(Organic="",Silt_Clay>=0.5,Liquid_Limit<0.5),IF(AND(AND(Plasticity_Index>=0.04,Plasticity_Index<=0.07),Plasticity_Index>=0.73*(Liquid_Limit-0.2)),IF(Silt_Clay>=0.7,IF(AND(Silt_Clay<=0.85,Silt_Clay>=0.7),IF(Sand<Gravel,Q50,""),""),""),""),"") | U50: CL-ML, Silty Clay with Gravel | V50: =IF(Organic="x",IF(Liquid_Limit<0.5,IF(OR(Plasticity_Index<0.04,Plasticity_Index<0.73*(Liquid_Limit-0.2)),IF(Silt_Clay>0.7,IF(AND(Silt_Clay<=0.85,Silt_Clay>0.7),IF(Sand<Gravel,Q50,""),""),""),""),""),"") | W50: OL, Organic Silt with Gravel | AH50: =AH20 -> 16 | AI50: =1-AI20 -> 0 | AJ50: =1-AJ20 -> 1
Q51: 11 | R51: =IF(AND(Organic="",Silt_Clay<0.5),IF(Gravel>Sand,IF(AND(Silt_Clay>=0.05,Silt_Clay<=0.12),IF(OR(CU<4,CC<1,CC>3),IF(AND(Silt="x",Clay="x"),IF(Sand<0.15,Q51,""),""),""),""),""),"") | S51: GP-GC, Poorly graded Gravel with Silty Clay | T51: =IF(AND(Organic="",Silt_Clay>=0.5,Liquid_Limit<0.5),IF(AND(AND(Plasticity_Index>=0.04,Plasticity_Index<=0.07),Plasticity_Index>=0.73*(Liquid_Limit-0.2)),IF(Silt_Clay<0.7,IF(Sand>=Gravel,IF(Gravel<0.15,Q51,""),""),""),""),"") | U51: CL-ML, Sandy Silty Clay | V51: =IF(Organic="x",IF(Liquid_Limit<0.5,IF(OR(Plasticity_Index<0.04,Plasticity_Index<0.73*(Liquid_Limit-0.2)),IF(Silt_Clay<=0.7,IF(Sand>=Gravel,IF(Gravel<0.15,Q51,""),""),""),""),""),"") | W51: OL, Sandy Organic Silt | AH51: =AH21 -> 19 | AI51: =1-AI21 -> 0 | AJ51: =1-AJ21 -> 1
Q52: 12 | R52: =IF(AND(Organic="",Silt_Clay<0.5),IF(Gravel>Sand,IF(AND(Silt_Clay>=0.05,Silt_Clay<=0.12),IF(OR(CU<4,CC<1,CC>3),IF(AND(OR(Silt="x",Silt=""),Clay="x"),IF(Sand>=0.15,Q52,""),""),""),""),""),"") | S52: GP-GC, Poorly graded Gravel with Silty Clay and Sand | T52: =IF(AND(Organic="",Silt_Clay>=0.5,Liquid_Limit<0.5),IF(AND(AND(Plasticity_Index>=0.04,Plasticity_Index<=0.07),Plasticity_Index>=0.73*(Liquid_Limit-0.2)),IF(Silt_Clay<0.7,IF(Sand>=Gravel,IF(Gravel>=0.15,Q52,""),""),""),""),"") | U52: CL-ML, Sandy Silty Clay with Gravel | V52: =IF(Organic="x",IF(Liquid_Limit<0.5,IF(OR(Plasticity_Index<0.04,Plasticity_Index<0.73*(Liquid_Limit-0.2)),IF(Silt_Clay<=0.7,IF(Sand>=Gravel,IF(Gravel>=0.15,Q52,""),""),""),""),""),"") | W52: OL, Sandy Organic Silt with Gravel | AH52: =AH22 -> 22.4 | AI52: =1-AI22 -> 0 | AJ52: =1-AJ22 -> 1
Q53: 13 | R53: =IF(AND(Organic="",Silt_Clay<0.5),IF(Gravel>Sand,IF(Silt_Clay>0.12,IF(OR(Silt="x",Plasticity_Index="Non-Plastic"),IF(Sand<0.15,Q53,""),""),""),""),"") | S53: GM, Silty Gravel | T53: =IF(AND(Organic="",Silt_Clay>=0.5,Liquid_Limit<0.5),IF(AND(AND(Plasticity_Index>=0.04,Plasticity_Index<=0.07),Plasticity_Index>=0.73*(Liquid_Limit-0.2)),IF(Silt_Clay<0.7,IF(Sand<Gravel,IF(Sand<0.15,Q53,""),""),""),""),"") | U53: CL-ML, Gravelly Silty Clay | V53: =IF(Organic="x",IF(Liquid_Limit<0.5,IF(OR(Plasticity_Index<0.04,Plasticity_Index<0.73*(Liquid_Limit-0.2)),IF(Silt_Clay<=0.7,IF(Sand<Gravel,IF(Sand<0.15,Q53,""),""),""),""),""),"") | W53: OL, Gravelly Organic Silt | AH53: =AH23 -> 25 | AI53: =1-AI23 -> 0 | AJ53: =1-AJ23 -> 1
Q54: 14 | R54: =IF(AND(Organic="",Silt_Clay<0.5),IF(Gravel>Sand,IF(Silt_Clay>0.12,IF(AND(OR(Silt="x",Silt=""),Clay=""),IF(Sand>=0.15,Q54,""),""),""),""),"") | S54: GM, Silty Gravel with Sand | T54: =IF(AND(Organic="",Silt_Clay>=0.5,Liquid_Limit<0.5),IF(AND(AND(Plasticity_Index>=0.04,Plasticity_Index<=0.07),Plasticity_Index>=0.73*(Liquid_Limit-0.2)),IF(Silt_Clay<0.7,IF(Sand<Gravel,IF(Sand>=0.15,Q54,""),""),""),""),"") | U54: CL-ML, Gravelly Silty Clay with Sand | V54: =IF(Organic="x",IF(Liquid_Limit<0.5,IF(OR(Plasticity_Index<0.04,Plasticity_Index<0.73*(Liquid_Limit-0.2)),IF(Silt_Clay<=0.7,IF(Sand<Gravel,IF(Sand>=0.15,Q54,""),""),""),""),""),"") | W54: OL, Gravelly Organic Silt with Sand | AH54: =AH24 -> 31.5 | AI54: =1-AI24 -> 0 | AJ54: =1-AJ24 -> 1
Q55: 15 | R55: =IF(AND(Organic="",Silt_Clay<0.5),IF(Gravel>Sand,IF(Silt_Clay>0.12,IF(OR(Silt="",Clay="x"),IF(Sand<0.15,Q55,""),""),""),""),"") | S55: GC, Clayey Gravel | T55: =IF(AND(Organic="",Silt_Clay>=0.5,Liquid_Limit<0.5),IF(OR(Plasticity_Index<0.04,Plasticity_Index<0.73*(Liquid_Limit-0.2)),IF(Silt_Clay>0.7,IF(Silt_Clay>0.85,Q55,""),""),""),"") -> 15 | U55: ML, Silt | V55: =IF(Organic="x",IF(Liquid_Limit>=0.5,IF(AND(Plasticity_Index>=0.04,Plasticity_Index>=0.73*(Liquid_Limit-0.2)),IF(Silt_Clay>0.7,IF(Silt_Clay>0.85,Q55,""),""),""),""),"") | W55: OH, Organic Clay | AH55: =AH25 -> 37.5 | AI55: =1-AI25 -> 0 | AJ55: =1-AJ25 -> 1
Q56: 16 | R56: =IF(AND(Organic="",Silt_Clay<0.5),IF(Gravel>Sand,IF(Silt_Clay>0.12,IF(AND(Silt="",Clay="x"),IF(Sand>=0.15,Q56,""),""),""),""),"") | S56: GC, Clayey Gravel with Sand | T56: =IF(AND(Organic="",Silt_Clay>=0.5,Liquid_Limit<0.5),IF(OR(Plasticity_Index<0.04,Plasticity_Index<0.73*(Liquid_Limit-0.2)),IF(Silt_Clay>0.7,IF(AND(Silt_Clay>0.7,Silt_Clay<=0.85),IF(Sand>=Gravel,Q56,""),""),""),""),"") | U56: ML, Silt with Sand | V56: =IF(Organic="x",IF(Liquid_Limit>=0.5,IF(AND(Plasticity_Index>=0.04,Plasticity_Index>=0.73*(Liquid_Limit-0.2)),IF(Silt_Clay>0.7,IF(AND(Silt_Clay<=0.85,Silt_Clay>0.7),IF(Sand>=Gravel,Q56,""),""),""),""),""),"") | W56: OH, Organic Clay with Sand | AH56: =AH26 -> 45 | AI56: =1-AI26 -> 0 | AJ56: =1-AJ26 -> 1
Q57: 17 | R57: =IF(AND(Organic="",Silt_Clay<0.5),IF(Gravel>Sand,IF(Silt_Clay>0.12,IF(AND(Silt="x",Clay="x"),IF(Sand<0.15,Q57,""),""),""),""),"") | S57: GC-GM, Silty, Clayey Gravel | T57: =IF(AND(Organic="",Silt_Clay>=0.5,Liquid_Limit<0.5),IF(OR(Plasticity_Index<0.04,Plasticity_Index<0.73*(Liquid_Limit-0.2)),IF(Silt_Clay>0.7,IF(AND(Silt_Clay>0.7,Silt_Clay<=0.85),IF(Sand<Gravel,Q57,""),""),""),""),"") | U57: ML, Silt with Gravel | V57: =IF(Organic="x",IF(Liquid_Limit>=0.5,IF(AND(Plasticity_Index>=0.04,Plasticity_Index>=0.73*(Liquid_Limit-0.2)),IF(Silt_Clay>0.7,IF(AND(Silt_Clay<=0.85,Silt_Clay>0.7),IF(Sand<Gravel,Q57,""),""),""),""),""),"") | W57: OH, Organic Clay with Gravel | AH57: =AH27 -> 50 | AI57: =1-AI27 -> 0 | AJ57: =1-AJ27 -> 1
Q58: 18 | R58: =IF(AND(Organic="",Silt_Clay<0.5),IF(Gravel>Sand,IF(Silt_Clay>0.12,IF(AND(Silt="x",Clay="x"),IF(Sand>=0.15,Q58,""),""),""),""),"") | S58: GC-GM, Silty,Clayey Gravel with Sand | T58: =IF(AND(Organic="",Silt_Clay>=0.5,Liquid_Limit<0.5),IF(OR(Plasticity_Index<0.04,Plasticity_Index<0.73*(Liquid_Limit-0.2)),IF(Silt_Clay<=0.7,IF(Sand>=Gravel,IF(Gravel<0.15,Q58,""),""),""),""),"") | U58: ML, Sandy Silt | V58: =IF(Organic="x",IF(Liquid_Limit>=0.5,IF(AND(Plasticity_Index>=0.04,Plasticity_Index>=0.73*(Liquid_Limit-0.2)),IF(Silt_Clay<=0.7,IF(Sand>=Gravel,IF(Gravel<0.15,Q58,""),""),""),""),""),"") | W58: OH, Sandy Organic Clay | AH58: =AH28 -> 63 | AI58: =1-AI28 -> 0 | AJ58: =1-AJ28 -> 1
Q59: 19 | R59: =IF(AND(Organic="",Silt_Clay<0.5),IF(Gravel<=Sand,IF(Silt_Clay<0.05,IF(AND(CU>=6,CC>=1,CC<=3),IF(Gravel<0.15,Q59,""),""),""),""),"") | S59: SW, Well-graded Sand | T59: =IF(AND(Organic="",Silt_Clay>=0.5,Liquid_Limit<0.5),IF(OR(Plasticity_Index<0.04,Plasticity_Index<0.73*(Liquid_Limit-0.2)),IF(Silt_Clay<=0.7,IF(Sand>=Gravel,IF(Gravel>=0.15,Q59,""),""),""),""),"") | U59: ML, Sandy Silt with Gravel | V59: =IF(Organic="x",IF(Liquid_Limit>=0.5,IF(AND(Plasticity_Index>=0.04,Plasticity_Index>=0.73*(Liquid_Limit-0.2)),IF(Silt_Clay<=0.7,IF(Sand>=Gravel,IF(Gravel>=0.15,Q59,""),""),""),""),""),"") | W59: OH, Sandy Organic Clay with Gravel | AH59: =AH29 -> 75 | AI59: =1-AI29 -> 0 | AJ59: =1-AJ29 -> 1
Q60: 20 | R60: =IF(AND(Organic="",Silt_Clay<0.5),IF(Gravel<=Sand,IF(Silt_Clay<0.05,IF(AND(CU>=6,CC>=1,CC<=3),IF(Gravel>=0.15,Q60,""),""),""),""),"") | S60: SW, Well-graded Sand with Gravel | T60: =IF(AND(Organic="",Silt_Clay>=0.5,Liquid_Limit<0.5),IF(OR(Plasticity_Index<0.04,Plasticity_Index<0.73*(Liquid_Limit-0.2)),IF(Silt_Clay<=0.7,IF(Sand<Gravel,IF(Sand<0.15,Q60,""),""),""),""),"") | U60: ML, Gravelly Silt | V60: =IF(Organic="x",IF(Liquid_Limit>=0.5,IF(AND(Plasticity_Index>=0.04,Plasticity_Index>=0.73*(Liquid_Limit-0.2)),IF(Silt_Clay<=0.7,IF(Sand<Gravel,IF(Sand<0.15,Q60,""),""),""),""),""),"") | W60: OH, Gravelly Organic Clay | AH60: =AH30 -> 100 | AI60: =1-AI30 -> 0 | AJ60: =1-AJ30 -> 1
Q61: 21 | R61: =IF(AND(Organic="",Silt_Clay<0.5),IF(Gravel<=Sand,IF(Silt_Clay<0.05,IF(OR(CU<6,CC<1,CC>3),IF(Gravel<0.15,Q61,""),""),""),""),"") | S61: SP, Poorly graded Sand | T61: =IF(AND(Organic="",Silt_Clay>=0.5,Liquid_Limit<0.5),IF(OR(Plasticity_Index<0.04,Plasticity_Index<0.73*(Liquid_Limit-0.2)),IF(Silt_Clay<=0.7,IF(Sand<Gravel,IF(Sand>=0.15,Q61,""),""),""),""),"") | U61: ML, Gravelly Silt with Sand | V61: =IF(Organic="x",IF(Liquid_Limit>=0.5,IF(AND(Plasticity_Index>=0.04,Plasticity_Index>=0.73*(Liquid_Limit-0.2)),IF(Silt_Clay<=0.7,IF(Sand<Gravel,IF(Sand>=0.15,Q61,""),""),""),""),""),"") | W61: OH, Gravelly Organic Clay with Sand | AH61: =AH31 -> 150 | AI61: =1-AI31 -> 0 | AJ61: =1-AJ31 -> 1
Q62: 22 | R62: =IF(AND(Organic="",Silt_Clay<0.5),IF(Gravel<=Sand,IF(Silt_Clay<0.05,IF(OR(CU<6,CC<1,CC>3),IF(Gravel>=0.15,Q62,""),""),""),""),"") | S62: SP, Poorly graded Sand with Gravel | T62: =IF(AND(Organic="",Silt_Clay>=0.5,Liquid_Limit>=0.5,Non_Plastic=""),IF(Plasticity_Index>=0.73*(Liquid_Limit-0.2),IF(Silt_Clay>0.7,IF(Silt_Clay>0.85,$P$55,""),""),""),"") | U62: CH, Fat Clay | V62: =IF(Organic="x",IF(Liquid_Limit>=0.5,IF(OR(Plasticity_Index<0.04,Plasticity_Index<0.73*(Liquid_Limit-0.2)),IF(Silt_Clay>0.7,IF(Silt_Clay>0.85,Q62,""),""),""),""),"") | W62: OH, Organic Silt
Q63: 23 | R63: =IF(AND(Organic="",Silt_Clay<0.5),IF(Gravel<=Sand,IF(AND(Silt_Clay>=0.05,Silt_Clay<=0.12),IF(AND(CU>=6,CC>=1,CC<=3),IF(OR(Silt="x",Plasticity_Index="n/a",Plasticity_Index=0),IF(Gravel<0.15,Q63,""),""),""),""),""),"") | S63: SW-SM, Well-graded Sand with Silt | T63: =IF(AND(Organic="",Silt_Clay>=0.5,Liquid_Limit>=0.5,Non_Plastic=""),IF(Plasticity_Index>=0.73*(Liquid_Limit-0.2),IF(Silt_Clay>0.7,IF(AND(Silt_Clay>0.7,Silt_Clay<=0.85),IF(Sand>=Gravel,Q63,""),""),""),""),"") | U63: CH, Fat Clay with Sand | V63: =IF(Organic="x",IF(Liquid_Limit>=0.5,IF(OR(Plasticity_Index<0.04,Plasticity_Index<0.73*(Liquid_Limit-0.2)),IF(Silt_Clay>0.7,IF(AND(Silt_Clay<=0.85,Silt_Clay>0.7),IF(Sand>=Gravel,Q63,""),""),""),""),""),"") | W63: OH, Organic Silt with Sand
Q64: 24 | R64: =IF(AND(Organic="",Silt_Clay<0.5),IF(Gravel<=Sand,IF(AND(Silt_Clay>=0.05,Silt_Clay<=0.12),IF(AND(CU>=6,CC>=1,CC<=3),IF(OR(Silt="x",Plasticity_Index="n/a",Plasticity_Index=0),IF(Gravel>=0.15,Q64,""),""),""),""),""),"") | S64: SW-SM, Well-graded Sand with Silt and Gravel | T64: =IF(AND(Organic="",Silt_Clay>=0.5,Liquid_Limit>=0.5,Non_Plastic=""),IF(Plasticity_Index>=0.73*(Liquid_Limit-0.2),IF(Silt_Clay>0.7,IF(AND(Silt_Clay>0.7,Silt_Clay<=0.85),IF(Sand<Gravel,Q64,""),""),""),""),"") | U64: CH, Fat Clay with Gravel | V64: =IF(Organic="x",IF(Liquid_Limit>=0.5,IF(OR(Plasticity_Index<0.04,Plasticity_Index<0.73*(Liquid_Limit-0.2)),IF(Silt_Clay>0.7,IF(AND(Silt_Clay<=0.85,Silt_Clay>0.7),IF(Sand<Gravel,Q64,""),""),""),""),""),"") | W64: OH, Organic Silt with Gravel
Q65: 25 | R65: =IF(AND(Organic="",Silt_Clay<0.5),IF(Gravel<=Sand,IF(AND(Silt_Clay>=0.05,Silt_Clay<=0.12),IF(AND(CU>=6,CC>=1,CC<=3),IF(OR(Silt="",Clay="x"),IF(Gravel<0.15,Q65,""),""),""),""),""),"") | S65: SW-SC, Well-graded Sand with Silty Clay | T65: =IF(AND(Organic="",Silt_Clay>=0.5,Liquid_Limit>=0.5,Non_Plastic=""),IF(Plasticity_Index>=0.73*(Liquid_Limit-0.2),IF(Silt_Clay<=0.7,IF(Sand>=Gravel,IF(Gravel<0.15,Q65,""),""),""),""),"") | U65: CH, Sandy Fat Clay | V65: =IF(Organic="x",IF(Liquid_Limit>=0.5,IF(OR(Plasticity_Index<0.04,Plasticity_Index<0.73*(Liquid_Limit-0.2)),IF(Silt_Clay<=0.7,IF(Sand>=Gravel,IF(Gravel<0.15,Q65,""),""),""),""),""),"") | W65: OH, Sandy Organic Silt
Q66: 26 | R66: =IF(AND(Organic="",Silt_Clay<0.5),IF(Gravel<=Sand,IF(AND(Silt_Clay>=0.05,Silt_Clay<=0.12),IF(AND(CU>=6,CC>=1,CC<=3),IF(OR(Silt="",Clay="x"),IF(Gravel>=0.15,Q66,""),""),""),""),""),"") | S66: SW-SC, Well-graded Sand with Silty Clay and Gravel | T66: =IF(AND(Organic="",Silt_Clay>=0.5,Liquid_Limit>=0.5,Non_Plastic=""),IF(Plasticity_Index>=0.73*(Liquid_Limit-0.2),IF(Silt_Clay<=0.7,IF(Sand>=Gravel,IF(Gravel>=0.15,Q66,""),""),""),""),"") | U66: CH, Sandy Fat Clay with Gravel | V66: =IF(Organic="x",IF(Liquid_Limit>=0.5,IF(OR(Plasticity_Index<0.04,Plasticity_Index<0.73*(Liquid_Limit-0.2)),IF(Silt_Clay<=0.7,IF(Sand>=Gravel,IF(Gravel>=0.15,Q66,""),""),""),""),""),"") | W66: OH, Sandy Organic Silt with Gravel
Q67: 27 | R67: =IF(AND(Organic="",Silt_Clay<0.5),IF(Gravel<=Sand,IF(AND(Silt_Clay>=0.05,Silt_Clay<=0.12),IF(OR(CU<6,CC<1,CC>3),IF(OR(Silt="x",Plasticity_Index="n/a",Plasticity_Index=0),IF(Gravel<0.15,Q67,""),""),""),""),""),"") | S67: SP-SM, Poorly graded Sand with Silt | T67: =IF(AND(Organic="",Silt_Clay>=0.5,Liquid_Limit>=0.5,Non_Plastic=""),IF(Plasticity_Index>=0.73*(Liquid_Limit-0.2),IF(Silt_Clay<=0.7,IF(Sand<Gravel,IF(Sand<0.15,Q67,""),""),""),""),"") | U67: CH, Gravelly Fat Clay | V67: =IF(Organic="x",IF(Liquid_Limit>=0.5,IF(OR(Plasticity_Index<0.04,Plasticity_Index<0.73*(Liquid_Limit-0.2)),IF(Silt_Clay<=0.7,IF(Sand<Gravel,IF(Sand<0.15,Q67,""),""),""),""),""),"") | W67: OH, Gravelly Organic Silt
Q68: 28 | R68: =IF(AND(Organic="",Silt_Clay<0.5),IF(Gravel<=Sand,IF(AND(Silt_Clay>=0.05,Silt_Clay<=0.12),IF(OR(CU<6,CC<1,CC>3),IF(AND(OR(Silt="x",Silt=""),Clay=""),IF(Gravel>=0.15,Q68,""),""),""),""),""),"") | S68: SP-SM, Poorly graded Sand with Silt and Gravel | T68: =IF(AND(Organic="",Silt_Clay>=0.5,Liquid_Limit>=0.5,Non_Plastic=""),IF(Plasticity_Index>=0.73*(Liquid_Limit-0.2),IF(Silt_Clay<=0.7,IF(Sand<Gravel,IF(Sand>=0.15,Q68,""),""),""),""),"") | U68: CH, Gravelly Fat Clay with Sand | V68: =IF(Organic="x",IF(Liquid_Limit>=0.5,IF(OR(Plasticity_Index<0.04,Plasticity_Index<0.73*(Liquid_Limit-0.2)),IF(Silt_Clay<=0.7,IF(Sand<Gravel,IF(Sand>=0.15,Q68,""),""),""),""),""),"") | W68: OH, Gravelly Organic Silt with Sand
Q69: 29 | R69: =IF(AND(Organic="",Silt_Clay<0.5),IF(Gravel<=Sand,IF(AND(Silt_Clay>=0.05,Silt_Clay<=0.12),IF(OR(CU<6,CC<1,CC>3),IF(AND(Silt="",Clay="x"),IF(Gravel<0.15,Q69,""),""),""),""),""),"") | S69: SP-SC, Poorly graded Sand with Silty Clay | T69: =IF(AND(Organic="",Silt_Clay>=0.5,Liquid_Limit>=0.5,Non_Plastic=""),IF(Plasticity_Index<0.73*(Liquid_Limit-0.2),IF(Silt_Clay>0.7,IF(Silt_Clay>0.85,Q69,""),""),""),"") | U69: MH, Elastic Silt
Q70: 30 | R70: =IF(AND(Organic="",Silt_Clay<0.5),IF(Gravel<=Sand,IF(AND(Silt_Clay>=0.05,Silt_Clay<=0.12),IF(OR(CU<6,CC<1,CC>3),IF(AND(Silt="",Clay="x"),IF(Gravel>=0.15,Q70,""),""),""),""),""),"") | S70: SP-SC, Poorly graded Sand with Silty Clay and Gravel | T70: =IF(AND(Organic="",Silt_Clay>=0.5,Liquid_Limit>=0.5,Non_Plastic=""),IF(Plasticity_Index<0.73*(Liquid_Limit-0.2),IF(Silt_Clay>0.7,IF(AND(Silt_Clay>0.7,Silt_Clay<=0.85),IF(Sand>=Gravel,Q70,""),""),""),""),"") | U70: MH, Elastic Silt with Sand
Q71: 31 | R71: =IF(AND(Organic="",Silt_Clay<0.5),IF(Gravel<=Sand,IF(Silt_Clay>0.12,IF(OR(AND(Silt="x",Silt=""),Clay=""),IF(Gravel<0.15,Q71,""),""),""),""),"") | S71: SM, Silty Sand | T71: =IF(AND(Organic="",Silt_Clay>=0.5,Liquid_Limit>=0.5,Non_Plastic=""),IF(Plasticity_Index<0.73*(Liquid_Limit-0.2),IF(Silt_Clay>0.7,IF(AND(Silt_Clay>0.7,Silt_Clay<=0.85),IF(Sand<Gravel,Q71,""),""),""),""),"") | U71: MH, Elastic Silt with Gravel
Q72: 32 | R72: =IF(AND(Organic="",Silt_Clay<0.5),IF(Gravel<=Sand,IF(Silt_Clay>0.12,IF(AND(OR(Silt="x",Silt=""),Clay=""),IF(Gravel>=0.15,Q72,""),""),""),""),"") | S72: SM, Silty Sand with Gravel | T72: =IF(AND(Organic="",Silt_Clay>=0.5,Liquid_Limit>=0.5,Non_Plastic=""),IF(Plasticity_Index<0.73*(Liquid_Limit-0.2),IF(Silt_Clay<=0.7,IF(Sand>=Gravel,IF(Gravel<0.15,Q72,""),""),""),""),"") | U72: MH, Sandy Elastic Silt
Q73: 33 | R73: =IF(AND(Organic="",Silt_Clay<0.5),IF(Gravel<=Sand,IF(Silt_Clay>0.12,IF(AND(Silt="",Clay="x"),IF(Gravel<0.15,Q73,""),""),""),""),"") | S73: SC, Clayey Sand | T73: =IF(AND(Organic="",Silt_Clay>=0.5,Liquid_Limit>=0.5,Non_Plastic=""),IF(Plasticity_Index<0.73*(Liquid_Limit-0.2),IF(Silt_Clay<=0.7,IF(Sand>=Gravel,IF(Gravel>=0.15,Q73,""),""),""),""),"") | U73: MH, Sandy Elastic Silt with Gravel
Q74: 34 | R74: =IF(AND(Organic="",Silt_Clay<0.5),IF(Gravel<=Sand,IF(Silt_Clay>0.12,IF(AND(Silt="",Clay="x"),IF(Gravel>=0.15,Q74,""),""),""),""),"") | S74: SC, Clayey Sand with Gravel | T74: =IF(AND(Organic="",Silt_Clay>=0.5,Liquid_Limit>=0.5,Non_Plastic=""),IF(Plasticity_Index<0.73*(Liquid_Limit-0.2),IF(Silt_Clay<=0.7,IF(Sand<Gravel,IF(Sand<0.15,Q74,""),""),""),""),"") | U74: MH, Gravelly Elastic Silt
Q75: 35 | R75: =IF(AND(Organic="",Silt_Clay<0.5),IF(Gravel<=Sand,IF(Silt_Clay>0.12,IF(AND(Silt="x",Clay="x"),IF(Gravel<0.15,Q75,""),""),""),""),"") | S75: SC-SM, Silty, Clayey Sand | T75: =IF(AND(Organic="",Silt_Clay>=0.5,Liquid_Limit>=0.5,Non_Plastic=""),IF(Plasticity_Index<0.73*(Liquid_Limit-0.2),IF(Silt_Clay<=0.7,IF(Sand<Gravel,IF(Sand>=0.15,Q75,""),""),""),""),"") | U75: MH, Gravelly Elastic Silt with Sand
Q76: 36 | R76: =IF(AND(Organic="",Silt_Clay<0.5),IF(Gravel<=Sand,IF(Silt_Clay>0.12,IF(AND(Silt="x",Clay="x"),IF(Gravel>=0.15,Q76,""),""),""),""),"") | S76: SC-SM, Silty,Clayey Sand with Gravel

Sheet Sieve Report
A31: Date : | B31: =IF('Sieve Data'!H2="","",'Sieve Data'!H2) | F31: D10 = | G31: ='Sieve Data'!AX15 -> 0.0075 | H31: Classification | L31: % Gravel
A32: Sample #: | B32: =IF('Sieve Data'!H3="","",'Sieve Data'!H3) | F32: D30 = | G32: ='Sieve Data'!AX16 -> 0.0225 | H32: ='Sieve Data'!I13 -> No Data Provided | L32: =Gravel -> 0
A33: Sample ID: | B33: =IF('Sieve Data'!H4="","",'Sieve Data'!H4) | F33: D60 = | G33: ='Sieve Data'!AX17 -> 0.045 | L33: % Sand
A34: Source: | B34: =IF('Sieve Data'!H5="","",'Sieve Data'!H5) | F34: CC = | G34: =CC -> 1.5 | H34: Specifications | L34: =Sand -> 0
A35: Project: | B35: =IF('Sieve Data'!K2="","",'Sieve Data'!K2) | F35: CU = | G35: =CU -> 6 | H35: ='Sieve Data'!AG1 -> No Specs | L35: % Silt & Clay
A36: Location: | B36: =IF('Sieve Data'!K3="","",'Sieve Data'!K3) | F36: Liquid Limit= | G36: =Liquid_Limit -> 0 | L36: =Silt_Clay -> 1
A37: Boring #: | B37: =IF('Sieve Data'!K4="","",'Sieve Data'!K4) | F37: Plastic Limit= | G37: =Plastic_Limit -> 0 | H37: Fineness Modulus | K37: Sample Meets Specs
A38: Depth: | B38: =IF('Sieve Data'!K5="","",'Sieve Data'!K5) | F38: Plasticity Index= | G38: =Plasticity_Index -> 0 | H38: =Fineness_Modulus -> 0 | K38: ='Sieve Data'!K9 -> Yes
A39: Coarse | C39: Actual | D39: Interpolated | G39: Fines | I39: Actual | J39: Interpolated
A40: Section | C40: Cumulative | D40: Cumulative | G40: Section | I40: Cumulative | J40: Cumulative
A41: Sieve | B41: Size | C41: Percent | D41: Percent | E41: Specs | F41: Specs | G41: Sieve | H41: Size | I41: Percent | J41: Percent | K41: Specs | L41: Specs
A42: US | B42: Metric | C42: Passing | D42: Passing | E42: Max | F42: Min | G42: US | H42: Metric | I42: Passing | J42: Passing | K42: Max | L42: Min
A43: ='Sieve Data'!O3 -> 6.00" | B43: ='Sieve Data'!P3 -> 150 | C43: ='Sieve Data'!S3 | D43: ='Sieve Data'!AB3 -> 1 | E43: =IF('Sieve Data'!$AB$1=1,"",'Sieve Data'!AC3) | F43: =IF('Sieve Data'!$AB$1=1,"",'Sieve Data'!AD3) | G43: ='Sieve Data'!O18 -> #4 | H43: ='Sieve Data'!P18 -> 4.75 | I43: ='Sieve Data'!S18 | J43: ='Sieve Data'!AB18 -> 1 | K43: =IF('Sieve Data'!$AB$1=1,"",'Sieve Data'!AC18) | L43: =IF('Sieve Data'!$AB$1=1,"",'Sieve Data'!AD18)
A44: ='Sieve Data'!O4 -> 4.00" | B44: ='Sieve Data'!P4 -> 100 | C44: ='Sieve Data'!S4 | D44: ='Sieve Data'!AB4 -> 1 | E44: =IF('Sieve Data'!$AB$1=1,"",'Sieve Data'!AC4) | F44: =IF('Sieve Data'!$AB$1=1,"",'Sieve Data'!AD4) | G44: ='Sieve Data'!O19 -> #8 | H44: ='Sieve Data'!P19 -> 2.36 | I44: ='Sieve Data'!S19 | J44: ='Sieve Data'!AB19 -> 1 | K44: =IF('Sieve Data'!$AB$1=1,"",'Sieve Data'!AC19) | L44: =IF('Sieve Data'!$AB$1=1,"",'Sieve Data'!AD19)
A45: ='Sieve Data'!O5 -> 3.00" | B45: ='Sieve Data'!P5 -> 75 | C45: ='Sieve Data'!S5 | D45: ='Sieve Data'!AB5 -> 1 | E45: =IF('Sieve Data'!$AB$1=1,"",'Sieve Data'!AC5) | F45: =IF('Sieve Data'!$AB$1=1,"",'Sieve Data'!AD5) | G45: ='Sieve Data'!O20 -> #10 | H45: ='Sieve Data'!P20 -> 2 | I45: ='Sieve Data'!S20 | J45: ='Sieve Data'!AB20 -> 1 | K45: =IF('Sieve Data'!$AB$1=1,"",'Sieve Data'!AC20) | L45: =IF('Sieve Data'!$AB$1=1,"",'Sieve Data'!AD20)
A46: ='Sieve Data'!O6 -> 2.50" | B46: ='Sieve Data'!P6 -> 63 | C46: ='Sieve Data'!S6 | D46: ='Sieve Data'!AB6 -> 1 | E46: =IF('Sieve Data'!$AB$1=1,"",'Sieve Data'!AC6) | F46: =IF('Sieve Data'!$AB$1=1,"",'Sieve Data'!AD6) | G46: ='Sieve Data'!O21 -> #16 | H46: ='Sieve Data'!P21 -> 1.18 | I46: ='Sieve Data'!S21 | J46: ='Sieve Data'!AB21 -> 1 | K46: =IF('Sieve Data'!$AB$1=1,"",'Sieve Data'!AC21) | L46: =IF('Sieve Data'!$AB$1=1,"",'Sieve Data'!AD21)
A47: ='Sieve Data'!O7 -> 2.00" | B47: ='Sieve Data'!P7 -> 50 | C47: ='Sieve Data'!S7 | D47: ='Sieve Data'!AB7 -> 1 | E47: =IF('Sieve Data'!$AB$1=1,"",'Sieve Data'!AC7) | F47: =IF('Sieve Data'!$AB$1=1,"",'Sieve Data'!AD7) | G47: ='Sieve Data'!O22 -> #20 | H47: ='Sieve Data'!P22 -> 0.85 | I47: ='Sieve Data'!S22 | J47: ='Sieve Data'!AB22 -> 1 | K47: =IF('Sieve Data'!$AB$1=1,"",'Sieve Data'!AC22) | L47: =IF('Sieve Data'!$AB$1=1,"",'Sieve Data'!AD22)
A48: ='Sieve Data'!O8 -> 1.75" | B48: ='Sieve Data'!P8 -> 45 | C48: ='Sieve Data'!S8 | D48: ='Sieve Data'!AB8 -> 1 | E48: =IF('Sieve Data'!$AB$1=1,"",'Sieve Data'!AC8) | F48: =IF('Sieve Data'!$AB$1=1,"",'Sieve Data'!AD8) | G48: ='Sieve Data'!O23 -> #30 | H48: ='Sieve Data'!P23 -> 0.6 | I48: ='Sieve Data'!S23 | J48: ='Sieve Data'!AB23 -> 1 | K48: =IF('Sieve Data'!$AB$1=1,"",'Sieve Data'!AC23) | L48: =IF('Sieve Data'!$AB$1=1,"",'Sieve Data'!AD23)
A49: ='Sieve Data'!O9 -> 1.50" | B49: ='Sieve Data'!P9 -> 37.5 | C49: ='Sieve Data'!S9 | D49: ='Sieve Data'!AB9 -> 1 | E49: =IF('Sieve Data'!$AB$1=1,"",'Sieve Data'!AC9) | F49: =IF('Sieve Data'!$AB$1=1,"",'Sieve Data'!AD9) | G49: ='Sieve Data'!O24 -> #40 | H49: ='Sieve Data'!P24 -> 0.425 | I49: ='Sieve Data'!S24 | J49: ='Sieve Data'!AB24 -> 1 | K49: =IF('Sieve Data'!$AB$1=1,"",'Sieve Data'!AC24) | L49: =IF('Sieve Data'!$AB$1=1,"",'Sieve Data'!AD24)
A50: ='Sieve Data'!O10 -> 1.25" | B50: ='Sieve Data'!P10 -> 31.5 | C50: ='Sieve Data'!S10 | D50: ='Sieve Data'!AB10 -> 1 | E50: =IF('Sieve Data'!$AB$1=1,"",'Sieve Data'!AC10) | F50: =IF('Sieve Data'!$AB$1=1,"",'Sieve Data'!AD10) | G50: ='Sieve Data'!O25 -> #50 | H50: ='Sieve Data'!P25 -> 0.3 | I50: ='Sieve Data'!S25 | J50: ='Sieve Data'!AB25 -> 1 | K50: =IF('Sieve Data'!$AB$1=1,"",'Sieve Data'!AC25) | L50: =IF('Sieve Data'!$AB$1=1,"",'Sieve Data'!AD25)
A51: ='Sieve Data'!O11 -> 1.00" | B51: ='Sieve Data'!P11 -> 25 | C51: ='Sieve Data'!S11 | D51: ='Sieve Data'!AB11 -> 1 | E51: =IF('Sieve Data'!$AB$1=1,"",'Sieve Data'!AC11) | F51: =IF('Sieve Data'!$AB$1=1,"",'Sieve Data'!AD11) | G51: ='Sieve Data'!O26 -> #60 | H51: ='Sieve Data'!P26 -> 0.25 | I51: ='Sieve Data'!S26 | J51: ='Sieve Data'!AB26 -> 1 | K51: =IF('Sieve Data'!$AB$1=1,"",'Sieve Data'!AC26) | L51: =IF('Sieve Data'!$AB$1=1,"",'Sieve Data'!AD26)
A52: ='Sieve Data'!O12 -> 7/8" | B52: ='Sieve Data'!P12 -> 22.4 | C52: ='Sieve Data'!S12 | D52: ='Sieve Data'!AB12 -> 1 | E52: =IF('Sieve Data'!$AB$1=1,"",'Sieve Data'!AC12) | F52: =IF('Sieve Data'!$AB$1=1,"",'Sieve Data'!AD12) | G52: ='Sieve Data'!O27 -> #80 | H52: ='Sieve Data'!P27 -> 0.18 | I52: ='Sieve Data'!S27 | J52: ='Sieve Data'!AB27 -> 1 | K52: =IF('Sieve Data'!$AB$1=1,"",'Sieve Data'!AC27) | L52: =IF('Sieve Data'!$AB$1=1,"",'Sieve Data'!AD27)
A53: ='Sieve Data'!O13 -> 3/4" | B53: ='Sieve Data'!P13 -> 19 | C53: ='Sieve Data'!S13 | D53: ='Sieve Data'!AB13 -> 1 | E53: =IF('Sieve Data'!$AB$1=1,"",'Sieve Data'!AC13) | F53: =IF('Sieve Data'!$AB$1=1,"",'Sieve Data'!AD13) | G53: ='Sieve Data'!O28 -> #100 | H53: ='Sieve Data'!P28 -> 0.15 | I53: ='Sieve Data'!S28 | J53: ='Sieve Data'!AB28 -> 1 | K53: =IF('Sieve Data'!$AB$1=1,"",'Sieve Data'!AC28) | L53: =IF('Sieve Data'!$AB$1=1,"",'Sieve Data'!AD28)
A54: ='Sieve Data'!O14 -> 5/8" | B54: ='Sieve Data'!P14 -> 16 | C54: ='Sieve Data'!S14 | D54: ='Sieve Data'!AB14 -> 1 | E54: =IF('Sieve Data'!$AB$1=1,"",'Sieve Data'!AC14) | F54: =IF('Sieve Data'!$AB$1=1,"",'Sieve Data'!AD14) | G54: ='Sieve Data'!O29 -> #140 | H54: ='Sieve Data'!P29 -> 0.106 | I54: ='Sieve Data'!S29 | J54: ='Sieve Data'!AB29 -> 1 | K54: =IF('Sieve Data'!$AB$1=1,"",'Sieve Data'!AC29) | L54: =IF('Sieve Data'!$AB$1=1,"",'Sieve Data'!AD29)
... A56: ='Sieve Data'!O16 -> 3/8" | B56: ='Sieve Data'!P16 -> 9.5 | C56: ='Sieve Data'!S16 | D56: ='Sieve Data'!AB16 -> 1 | E56: =IF('Sieve Data'!$AB$1=1,"",'Sieve Data'!AC16) | F56: =IF('Sieve Data'!$AB$1=1,"",'Sieve Data'!AD16) | G56: ='Sieve Data'!O31 -> #200 | H56: ='Sieve Data'!P31 -> 0.075 | I56: ='Sieve Data'!S31 | J56: ='Sieve Data'!AB31 -> 1 | K56: =IF('Sieve Data'!$AB$1=1,"",'Sieve Data'!AC31) | L56: =IF('Sieve Data'!$AB$1=1,"",'Sieve Data'!AD31)
A57: ='Sieve Data'!O17 -> 1/4" | B57: ='Sieve Data'!P17 -> 6.3 | C57: ='Sieve Data'!S17 | D57: ='Sieve Data'!AB17 -> 1 | E57: =IF('Sieve Data'!$AB$1=1,"",'Sieve Data'!AC17) | F57: =IF('Sieve Data'!$AB$1=1,"",'Sieve Data'!AD17) | G57: #270 | H57: 0.053
A58: ='Sieve Data'!O18 -> #4 | B58: ='Sieve Data'!P18 -> 4.75 | C58: ='Sieve Data'!S18 | D58: ='Sieve Data'!AB18 -> 1 | E58: =IF('Sieve Data'!$AB$1=1,"",'Sieve Data'!AC18) | F58: =IF('Sieve Data'!$AB$1=1,"",'Sieve Data'!AD18)
G59: Copyright | H59: Spears Engineering & Technical Services PS, 1996-2004

Sheet Proctor Data
B1: Date Received: | C1: =IF('Sieve Data'!H2="","",'Sieve Data'!H2) | E1: Project: | F1: =IF('Sieve Data'!K2="","",'Sieve Data'!K2)
B2: Sample #: | C2: =IF('Sieve Data'!H3="","",'Sieve Data'!H3) | E2: Location: | F2: =IF('Sieve Data'!K3="","",'Sieve Data'!K3)
B3: Sample ID: | C3: =IF('Sieve Data'!H4="","",'Sieve Data'!H4) | E3: Boring #: | F3: =IF('Sieve Data'!K4="","",'Sieve Data'!K4)
B4: Source: | C4: =IF('Sieve Data'!H5="","",'Sieve Data'!H5) | E4: Depth: | F4: =IF('Sieve Data'!K5="","",'Sieve Data'!K5)
C6: #1 | D6: #2 | E6: #3 | F6: #4 | G6: #5 | H6: #6
A7: A: | B7: Weight of Mold & Soils | C7: 6349.4 | D7: 6412 | E7: 6525 | F7: 6475
A8: B: | B8: Weight of Mold | C8: 4237.9 | D8: =IF(D7="","",C8) -> 4237.9 | E8: =IF(E7="","",D8) -> 4237.9 | F8: =IF(F7="","",E8) -> 4237.9
A9: C: | B9: Wet Weight of Soils (A-B) | C9: =C7-C8 -> 2111.5 | D9: =D7-D8 -> 2174.1 | E9: =E7-E8 -> 2287.1 | F9: =F7-F8 -> 2237.1 | G9: =G7-G8 -> 0 | H9: =H7-H8 -> 0
A10: D: | B10: Wet Density of Soils (CxZ*) | C10: =C9*$C$20 -> 139.57015 | D10: =D9*$C$20 -> 143.70801 | E10: =E9*$C$20 -> 151.17731 | F10: =F9*$C$20 -> 147.87231 | G10: =G9*$C$20 -> 0 | H10: =H9*$C$20 -> 0
A12: E: | B12: Wet Weight of Soils & Pan | C12: 703.9 | D12: 711.3 | E12: 509.4 | F12: 655
A13: F: | B13: Dry Weight of Soils & Pan | C13: 675.6 | D13: 676.8 | E13: 478 | F13: 599.3
A14: G: | B14: Weight of Pan | C14: 229.4 | D14: 224.5 | E14: 112.9 | F14: 115.7
A15: H: | B15: Weight of Moisture (E-F) | C15: =C12-C13 -> 28.3 | D15: =D12-D13 -> 34.5 | E15: =E12-E13 -> 31.4 | F15: =F12-F13 -> 55.7 | G15: =G12-G13 -> 0 | H15: =H12-H13 -> 0
A16: I: | B16: Dry Weight of Soils (F-G) | C16: =C13-C14 -> 446.2 | D16: =D13-D14 -> 452.3 | E16: =E13-E14 -> 365.1 | F16: =F13-F14 -> 483.6 | G16: =G13-G14 -> 0 | H16: =H13-H14 -> 0
A17: J: | B17: % Moisture (H/I) x 100 | C17: =C15/C16 -> 0.063424473 | D17: =D15/D16 -> 0.076276807 | E17: =E15/E16 -> 0.086003835 | F17: =F15/F16 -> 0.11517783 | G17: =G15/G16 -> #DIV/0! | H17: =H15/H16 -> #DIV/0!
A18: K: | B18: Dry Density D/[1+(J/100)] | C18: =C10/(1+C17) -> 131.24595 | D18: =D10/(1+D17) -> 133.52328 | E18: =E10/(1+E17) -> 139.20513 | F18: =F10/(1+F17) -> 132.59976 | G18: =G10/(1+G17) -> #DIV/0! | H18: =H10/(1+H17) -> #DIV/0!
B20: Use Z= | C20: 0.0661
B22: * Z = a constant which is determined by the size of the mold that is being used. It is as follows;
B23: 4" molds and weight is in Grams: | C23: Z = | D23: 0.0661
B24: 4" molds and weight is in Pounds: | C24: Z = | D24: 30
B25: 6" molds and weight is in Grams: | C25: Z = | D25: 0.0294
B26: 6" molds and weight is in Pounds: | C26: Z = | D26: 13.34
B27: Copyright | C27: Spears Engineering & Technical Services PS, 1996-2004

Sheet Proctor Report
C1: Date Received: | D1: =IF('Sieve Data'!H2="","",'Sieve Data'!H2) | F1: Project: | G1: =IF('Sieve Data'!K2="","",'Sieve Data'!K2) | Q1: y=ax2+bx+c
C2: Sample #: | D2: =IF('Sieve Data'!H3="","",'Sieve Data'!H3) | F2: Location: | G2: =IF('Sieve Data'!K3="","",'Sieve Data'!K3) | P2: x | Q2: y | S2: ZAV | U2: 1 | V2: =D14 -> 0.063424473 | W2: =V2^2 -> 0.0040226638
C3: Sample ID: | D3: =IF('Sieve Data'!H4="","",'Sieve Data'!H4) | F3: Boring #: | G3: =IF('Sieve Data'!K4="","",'Sieve Data'!K4) | J3: Sieve | K3: Size | M3: Specifications | P3: =MIN($D$14:$D$17)-0.03 -> 0.033424473 | Q3: =$V$10*P3^2+$V$9*P3+$V$8 -> 106.75039 | R3: =Q3*16.02 -> 1710.1413 | S3: =(62.43*$B$13)/(P3*$B$13+1) -> 162.45051 | U3: 1 | V3: =D15 -> 0.076276807 | W3: =V3^2 -> 0.0058181514
C4: Source: | D4: =IF('Sieve Data'!H5="","",'Sieve Data'!H5) | F4: Depth: | G4: =IF('Sieve Data'!K5="","",'Sieve Data'!K5) | J4: US | K4: mm | L4: ='Sieve Data'!D16 | M4: Max | N4: Min | P4: =P3+0.001 -> 0.034424473 | Q4: =$V$10*P4^2+$V$9*P4+$V$8 -> 107.80961 | R4: =Q4*16.02 -> 1727.1099 | S4: =(62.43*$B$13)/(P4*$B$13+1) -> 162.02889 | T4: M= | U4: 1 | V4: =D16 -> 0.086003835 | W4: =V4^2 -> 0.0073966596
C5: ASTM D-2487, Unified Soils Classification System | J5: ='Sieve Data'!A11 -> 6.00" | K5: ='Sieve Data'!B11 -> 150 | L5: ='Sieve Data'!S3 | M5: =IF('Sieve Data'!$AB$1=1, "",'Sieve Data'!AC3) | N5: =IF('Sieve Data'!$AB$1=1, "",'Sieve Data'!AD3) | P5: =P4+0.001 -> 0.035424473 | Q5: =$V$10*P5^2+$V$9*P5+$V$8 -> 108.85047 | R5: =Q5*16.02 -> 1743.7846 | S5: =(62.43*$B$13)/(P5*$B$13+1) -> 161.60945 | U5: 1 | V5: =D17 -> 0.11517783 | W5: =V5^2 -> 0.013265933
C6: ='Sieve Data'!I13 -> No Data Provided | J6: ='Sieve Data'!A12 -> 4.00" | K6: ='Sieve Data'!B12 -> 100 | L6: ='Sieve Data'!S4 | M6: =IF('Sieve Data'!$AB$1=1, "",'Sieve Data'!AC4) | N6: =IF('Sieve Data'!$AB$1=1, "",'Sieve Data'!AD4) | P6: =P5+0.001 -> 0.036424473 | Q6: =$V$10*P6^2+$V$9*P6+$V$8 -> 109.87299 | R6: =Q6*16.02 -> 1760.1653 | S6: =(62.43*$B$13)/(P6*$B$13+1) -> 161.19218
C7: Sample Prepared: | D7: Moist: | E7: X | G7: Manual: | H7: X | J7: ='Sieve Data'!A13 -> 3.00" | K7: ='Sieve Data'!B13 -> 75 | L7: ='Sieve Data'!S5 | M7: =IF('Sieve Data'!$AB$1=1, "",'Sieve Data'!AC5) | N7: =IF('Sieve Data'!$AB$1=1, "",'Sieve Data'!AD5) | P7: =P6+0.001 -> 0.037424473 | Q7: =$V$10*P7^2+$V$9*P7+$V$8 -> 110.87716 | R7: =Q7*16.02 -> 1776.2521 | S7: =(62.43*$B$13)/(P7*$B$13+1) -> 160.77706
D8: Dry: | G8: Mechanical: | J8: ='Sieve Data'!A14 -> 2.50" | K8: ='Sieve Data'!B14 -> 63 | L8: ='Sieve Data'!S6 | M8: =IF('Sieve Data'!$AB$1=1, "",'Sieve Data'!AC6) | N8: =IF('Sieve Data'!$AB$1=1, "",'Sieve Data'!AD6) | P8: =P7+0.001 -> 0.038424473 | Q8: =$V$10*P8^2+$V$9*P8+$V$8 -> 111.86298 | R8: =Q8*16.02 -> 1792.0449 | S8: =(62.43*$B$13)/(P8*$B$13+1) -> 160.36407 | T8: Y= | U8: =E14 -> 131.24595 | V8: {=MMULT(MINVERSE(MMULT(TRANSPOSE(U2:W5),U2:W5)),MMULT(TRANSPOSE(U2:W5),U8:U11))} -> 60.790894 | W8: c
B9: Test Standard: | D9: AASHTO T 99: | G9: AASHTO T 180: | I9: Method | J9: ='Sieve Data'!A15 -> 2.00" | K9: ='Sieve Data'!B15 -> 50 | L9: ='Sieve Data'!S7 | M9: =IF('Sieve Data'!$AB$1=1, "",'Sieve Data'!AC7) | N9: =IF('Sieve Data'!$AB$1=1, "",'Sieve Data'!AD7) | P9: =P8+0.001 -> 0.039424473 | Q9: =$V$10*P9^2+$V$9*P9+$V$8 -> 112.83045 | R9: =Q9*16.02 -> 1807.5439 | S9: =(62.43*$B$13)/(P9*$B$13+1) -> 159.9532 | U9: =E15 -> 133.52328 | V9: 1681.6631 | W9: b
D10: ASTM D 698: | G10: ASTM D 1557: | H10: X | I10: C | J10: ='Sieve Data'!A16 -> 1.75" | K10: ='Sieve Data'!B16 -> 45 | L10: ='Sieve Data'!S8 | M10: =IF('Sieve Data'!$AB$1=1, "",'Sieve Data'!AC8) | N10: =IF('Sieve Data'!$AB$1=1, "",'Sieve Data'!AD8) | P10: =P9+0.001 -> 0.040424473 | Q10: =$V$10*P10^2+$V$9*P10+$V$8 -> 113.77958 | R10: =Q10*16.02 -> 1822.7488 | S10: =(62.43*$B$13)/(P10*$B$13+1) -> 159.54443 | U10: =E16 -> 139.20513 | V10: -9174.0484 | W10: a
E11: Dry | F11: Dry | J11: ='Sieve Data'!A17 -> 1.50" | K11: ='Sieve Data'!B17 -> 37.5 | L11: ='Sieve Data'!S9 | M11: =IF('Sieve Data'!$AB$1=1, "",'Sieve Data'!AC9) | N11: =IF('Sieve Data'!$AB$1=1, "",'Sieve Data'!AD9) | P11: =P10+0.001 -> 0.041424473 | Q11: =$V$10*P11^2+$V$9*P11+$V$8 -> 114.71036 | R11: =Q11*16.02 -> 1837.6599 | S11: =(62.43*$B$13)/(P11*$B$13+1) -> 159.13774 | U11: =E17 -> 132.59976
B12: Assumed Sp. Gr. | C12: Point | D12: Percent | E12: Density | F12: Density | G12: Maximum | I12: Optimum | J12: ='Sieve Data'!A18 -> 1.25" | K12: ='Sieve Data'!B18 -> 31.5 | L12: ='Sieve Data'!S10 | M12: =IF('Sieve Data'!$AB$1=1, "",'Sieve Data'!AC10) | N12: =IF('Sieve Data'!$AB$1=1, "",'Sieve Data'!AD10) | P12: =P11+0.001 -> 0.042424473 | Q12: =$V$10*P12^2+$V$9*P12+$V$8 -> 115.62278 | R12: =Q12*16.02 -> 1852.277 | S12: =(62.43*$B$13)/(P12*$B$13+1) -> 158.73312
B13: 2.85 | C13: Number | D13: Moisture | E13: lbs/ft3 | F13: Kgs/m3 | G13: Dry Density | I13: % Moisture | J13: ='Sieve Data'!A19 -> 1.00" | K13: ='Sieve Data'!B19 -> 25 | L13: ='Sieve Data'!S11 | M13: =IF('Sieve Data'!$AB$1=1, "",'Sieve Data'!AC11) | N13: =IF('Sieve Data'!$AB$1=1, "",'Sieve Data'!AD11) | P13: =P12+0.001 -> 0.043424473 | Q13: =$V$10*P13^2+$V$9*P13+$V$8 -> 116.51687 | R13: =Q13*16.02 -> 1866.6002 | S13: =(62.43*$B$13)/(P13*$B$13+1) -> 158.33055
C14: 1 | D14: ='Proctor Data'!C17 -> 0.063424473 | E14: ='Proctor Data'!C18 -> 131.24595 | F14: =E14*16.02 -> 2102.56 | G14: =MAX(Q3:Q240) -> 137.85538 | H14: lbs/ft3 | I14: =INDEX(P3:P240,MATCH(G14,Q3:Q240,0),1) -> 0.091424473 | J14: ='Sieve Data'!A20 -> 7/8" | K14: ='Sieve Data'!B20 -> 22.4 | L14: ='Sieve Data'!S12 | M14: =IF('Sieve Data'!$AB$1=1, "",'Sieve Data'!AC12) | N14: =IF('Sieve Data'!$AB$1=1, "",'Sieve Data'!AD12) | P14: =P13+0.001 -> 0.044424473 | Q14: =$V$10*P14^2+$V$9*P14+$V$8 -> 117.3926 | R14: =Q14*16.02 -> 1880.6294 | S14: =(62.43*$B$13)/(P14*$B$13+1) -> 157.93002 | V14: w=[(62.43*SG)-Dry]/(Dry*SG)
C15: 2 | D15: ='Proctor Data'!D17 -> 0.076276807 | E15: ='Proctor Data'!D18 -> 133.52328 | F15: =E15*16.02 -> 2139.043 | G15: =Dry_Density*16.02 -> 2208.4432 | H15: Kgs/m3 | J15: ='Sieve Data'!A21 -> 3/4" | K15: ='Sieve Data'!B21 -> 19 | L15: ='Sieve Data'!S13 | M15: =IF('Sieve Data'!$AB$1=1, "",'Sieve Data'!AC13) | N15: =IF('Sieve Data'!$AB$1=1, "",'Sieve Data'!AD13) | P15: =P14+0.001 -> 0.045424473 | Q15: =$V$10*P15^2+$V$9*P15+$V$8 -> 118.24998 | R15: =Q15*16.02 -> 1894.3647 | S15: =(62.43*$B$13)/(P15*$B$13+1) -> 157.53151
C16: 3 | D16: ='Proctor Data'!E17 -> 0.086003835 | E16: ='Proctor Data'!E18 -> 139.20513 | F16: =E16*16.02 -> 2230.0663 | J16: ='Sieve Data'!A22 -> 5/8" | K16: ='Sieve Data'!B22 -> 16 | L16: ='Sieve Data'!S14 | M16: =IF('Sieve Data'!$AB$1=1, "",'Sieve Data'!AC14) | N16: =IF('Sieve Data'!$AB$1=1, "",'Sieve Data'!AD14) | P16: =P15+0.001 -> 0.046424473 | Q16: =$V$10*P16^2+$V$9*P16+$V$8 -> 119.08902 | R16: =Q16*16.02 -> 1907.8061 | S16: =(62.43*$B$13)/(P16*$B$13+1) -> 157.13501 | V16: Dry=[(62.43*SG)/(W*SG+1)]
C17: 4 | D17: ='Proctor Data'!F17 -> 0.11517783 | E17: ='Proctor Data'!F18 -> 132.59976 | F17: =E17*16.02 -> 2124.2481 | J17: ='Sieve Data'!A23 -> 1/2" | K17: ='Sieve Data'!B23 -> 12.5 | L17: ='Sieve Data'!S15 | M17: =IF('Sieve Data'!$AB$1=1, "",'Sieve Data'!AC15) | N17: =IF('Sieve Data'!$AB$1=1, "",'Sieve Data'!AD15) | P17: =P16+0.001 -> 0.047424473 | Q17: =$V$10*P17^2+$V$9*P17+$V$8 -> 119.90971 | R17: =Q17*16.02 -> 1920.9535 | S17: =(62.43*$B$13)/(P17*$B$13+1) -> 156.74049
J18: ='Sieve Data'!A24 -> 3/8" | K18: ='Sieve Data'!B24 -> 9.5 | L18: ='Sieve Data'!S16 | M18: =IF('Sieve Data'!$AB$1=1, "",'Sieve Data'!AC16) | N18: =IF('Sieve Data'!$AB$1=1, "",'Sieve Data'!AD16) | P18: =P17+0.001 -> 0.048424473 | Q18: =$V$10*P18^2+$V$9*P18+$V$8 -> 120.71205 | R18: =Q18*16.02 -> 1933.807 | S18: =(62.43*$B$13)/(P18*$B$13+1) -> 156.34796
J19: ='Sieve Data'!A25 -> 1/4" | K19: ='Sieve Data'!B25 -> 6.3 | L19: ='Sieve Data'!S17 | M19: =IF('Sieve Data'!$AB$1=1, "",'Sieve Data'!AC17) | N19: =IF('Sieve Data'!$AB$1=1, "",'Sieve Data'!AD17) | P19: =P18+0.001 -> 0.049424473 | Q19: =$V$10*P19^2+$V$9*P19+$V$8 -> 121.49604 | R19: =Q19*16.02 -> 1946.3666 | S19: =(62.43*$B$13)/(P19*$B$13+1) -> 155.95738
J20: ='Sieve Data'!A26 -> #4 | K20: ='Sieve Data'!B26 -> 4.75 | L20: ='Sieve Data'!S18 | M20: =IF('Sieve Data'!$AB$1=1, "",'Sieve Data'!AC18) | N20: =IF('Sieve Data'!$AB$1=1, "",'Sieve Data'!AD18) | P20: =P19+0.001 -> 0.050424473 | Q20: =$V$10*P20^2+$V$9*P20+$V$8 -> 122.26168 | R20: =Q20*16.02 -> 1958.6322 | S20: =(62.43*$B$13)/(P20*$B$13+1) -> 155.56875
J21: ='Sieve Data'!A37 -> #8 | K21: ='Sieve Data'!B37 -> 2.36 | L21: ='Sieve Data'!S19 | M21: =IF('Sieve Data'!$AB$1=1, "",'Sieve Data'!AC19) | N21: =IF('Sieve Data'!$AB$1=1, "",'Sieve Data'!AD19) | P21: =P20+0.001 -> 0.051424473 | Q21: =$V$10*P21^2+$V$9*P21+$V$8 -> 123.00898 | R21: =Q21*16.02 -> 1970.6038 | S21: =(62.43*$B$13)/(P21*$B$13+1) -> 155.18206
J22: ='Sieve Data'!A38 -> #10 | K22: ='Sieve Data'!B38 -> 2 | L22: ='Sieve Data'!S20 | M22: =IF('Sieve Data'!$AB$1=1, "",'Sieve Data'!AC20) | N22: =IF('Sieve Data'!$AB$1=1, "",'Sieve Data'!AD20) | P22: =P21+0.001 -> 0.052424473 | Q22: =$V$10*P22^2+$V$9*P22+$V$8 -> 123.73793 | R22: =Q22*16.02 -> 1982.2816 | S22: =(62.43*$B$13)/(P22*$B$13+1) -> 154.79728
J23: ='Sieve Data'!A39 -> #16 | K23: ='Sieve Data'!B39 -> 1.18 | L23: ='Sieve Data'!S21 | M23: =IF('Sieve Data'!$AB$1=1, "",'Sieve Data'!AC21) | N23: =IF('Sieve Data'!$AB$1=1, "",'Sieve Data'!AD21) | P23: =P22+0.001 -> 0.053424473 | Q23: =$V$10*P23^2+$V$9*P23+$V$8 -> 124.44853 | R23: =Q23*16.02 -> 1993.6654 | S23: =(62.43*$B$13)/(P23*$B$13+1) -> 154.4144
J24: ='Sieve Data'!A40 -> #20 | K24: ='Sieve Data'!B40 -> 0.85 | L24: ='Sieve Data'!S22 | M24: =IF('Sieve Data'!$AB$1=1, "",'Sieve Data'!AC22) | N24: =IF('Sieve Data'!$AB$1=1, "",'Sieve Data'!AD22) | P24: =P23+0.001 -> 0.054424473 | Q24: =$V$10*P24^2+$V$9*P24+$V$8 -> 125.14078 | R24: =Q24*16.02 -> 2004.7553 | S24: =(62.43*$B$13)/(P24*$B$13+1) -> 154.03342
J25: ='Sieve Data'!A41 -> #30 | K25: ='Sieve Data'!B41 -> 0.6 | L25: ='Sieve Data'!S23 | M25: =IF('Sieve Data'!$AB$1=1, "",'Sieve Data'!AC23) | N25: =IF('Sieve Data'!$AB$1=1, "",'Sieve Data'!AD23) | P25: =P24+0.001 -> 0.055424473 | Q25: =$V$10*P25^2+$V$9*P25+$V$8 -> 125.81468 | R25: =Q25*16.02 -> 2015.5512 | S25: =(62.43*$B$13)/(P25*$B$13+1) -> 153.6543
J26: ='Sieve Data'!A42 -> #40 | K26: ='Sieve Data'!B42 -> 0.425 | L26: ='Sieve Data'!S24 | M26: =IF('Sieve Data'!$AB$1=1, "",'Sieve Data'!AC24) | N26: =IF('Sieve Data'!$AB$1=1, "",'Sieve Data'!AD24) | P26: =P25+0.001 -> 0.056424473 | Q26: =$V$10*P26^2+$V$9*P26+$V$8 -> 126.47024 | R26: =Q26*16.02 -> 2026.0532 | S26: =(62.43*$B$13)/(P26*$B$13+1) -> 153.27706
J27: ='Sieve Data'!A43 -> #50 | K27: ='Sieve Data'!B43 -> 0.3 | L27: ='Sieve Data'!S25 | M27: =IF('Sieve Data'!$AB$1=1, "",'Sieve Data'!AC25) | N27: =IF('Sieve Data'!$AB$1=1, "",'Sieve Data'!AD25) | P27: =P26+0.001 -> 0.057424473 | Q27: =$V$10*P27^2+$V$9*P27+$V$8 -> 127.10745 | R27: =Q27*16.02 -> 2036.2613 | S27: =(62.43*$B$13)/(P27*$B$13+1) -> 152.90165
J28: ='Sieve Data'!A44 -> #60 | K28: ='Sieve Data'!B44 -> 0.25 | L28: ='Sieve Data'!S26 | M28: =IF('Sieve Data'!$AB$1=1, "",'Sieve Data'!AC26) | N28: =IF('Sieve Data'!$AB$1=1, "",'Sieve Data'!AD26) | P28: =P27+0.001 -> 0.058424473 | Q28: =$V$10*P28^2+$V$9*P28+$V$8 -> 127.7263 | R28: =Q28*16.02 -> 2046.1754 | S28: =(62.43*$B$13)/(P28*$B$13+1) -> 152.52809
J29: ='Sieve Data'!A45 -> #80 | K29: ='Sieve Data'!B45 -> 0.18 | L29: ='Sieve Data'!S27 | M29: =IF('Sieve Data'!$AB$1=1, "",'Sieve Data'!AC27) | N29: =IF('Sieve Data'!$AB$1=1, "",'Sieve Data'!AD27) | P29: =P28+0.001 -> 0.059424473 | Q29: =$V$10*P29^2+$V$9*P29+$V$8 -> 128.32682 | R29: =Q29*16.02 -> 2055.7956 | S29: =(62.43*$B$13)/(P29*$B$13+1) -> 152.15634
J30: ='Sieve Data'!A46 -> #100 | K30: ='Sieve Data'!B46 -> 0.15 | L30: ='Sieve Data'!S28 | M30: =IF('Sieve Data'!$AB$1=1, "",'Sieve Data'!AC28) | N30: =IF('Sieve Data'!$AB$1=1, "",'Sieve Data'!AD28) | P30: =P29+0.001 -> 0.060424473 | Q30: =$V$10*P30^2+$V$9*P30+$V$8 -> 128.90898 | R30: =Q30*16.02 -> 2065.1218 | S30: =(62.43*$B$13)/(P30*$B$13+1) -> 151.7864
J31: ='Sieve Data'!A47 -> #140 | K31: ='Sieve Data'!B47 -> 0.106 | L31: ='Sieve Data'!S29 | M31: =IF('Sieve Data'!$AB$1=1, "",'Sieve Data'!AC29) | N31: =IF('Sieve Data'!$AB$1=1, "",'Sieve Data'!AD29) | P31: =P30+0.001 -> 0.061424473 | Q31: =$V$10*P31^2+$V$9*P31+$V$8 -> 129.47279 | R31: =Q31*16.02 -> 2074.1542 | S31: =(62.43*$B$13)/(P31*$B$13+1) -> 151.41826
J32: ='Sieve Data'!A48 -> #170 | K32: ='Sieve Data'!B48 -> 0.09 | L32: ='Sieve Data'!S30 | M32: =IF('Sieve Data'!$AB$1=1, "",'Sieve Data'!AC30) | N32: =IF('Sieve Data'!$AB$1=1, "",'Sieve Data'!AD30) | P32: =P31+0.001 -> 0.062424473 | Q32: =$V$10*P32^2+$V$9*P32+$V$8 -> 130.01826 | R32: =Q32*16.02 -> 2082.8925 | S32: =(62.43*$B$13)/(P32*$B$13+1) -> 151.0519
J33: ='Sieve Data'!A49 -> #200 | K33: ='Sieve Data'!B49 -> 0.075 | L33: ='Sieve Data'!S31 | M33: =IF('Sieve Data'!$AB$1=1, "",'Sieve Data'!AC31) | N33: =IF('Sieve Data'!$AB$1=1, "",'Sieve Data'!AD31) | P33: =P32+0.001 -> 0.063424473 | Q33: =$V$10*P33^2+$V$9*P33+$V$8 -> 130.54538 | R33: =Q33*16.02 -> 2091.337 | S33: =(62.43*$B$13)/(P33*$B$13+1) -> 150.6873
J34: Specs: | M34: Meets Specs? | N34: ='Sieve Data'!K9 -> Yes | P34: =P33+0.001 -> 0.064424473 | Q34: =$V$10*P34^2+$V$9*P34+$V$8 -> 131.05415 | R34: =Q34*16.02 -> 2099.4875 | S34: =(62.43*$B$13)/(P34*$B$13+1) -> 150.32446
J35: ='Sieve Data'!AG1 -> No Specs | P35: =P34+0.001 -> 0.065424473 | Q35: =$V$10*P35^2+$V$9*P35+$V$8 -> 131.54457 | R35: =Q35*16.02 -> 2107.3441 | S35: =(62.43*$B$13)/(P35*$B$13+1) -> 149.96337
B36: ASTM D-4718, Correction for Oversize Particles | H36: % Retained 3/4" | I36: =1-L15 -> #VALUE! | P36: =P35+0.001 -> 0.066424473 | Q36: =$V$10*P36^2+$V$9*P36+$V$8 -> 132.01665 | R36: =Q36*16.02 -> 2114.9067 | S36: =(62.43*$B$13)/(P36*$B$13+1) -> 149.604
B37: % Retained | C37: Corrected | D37: Density | E37: Optimum | F37: % Retained | G37: Corrected | H37: Density | I37: Optimum | K37: % Gravel: | L37: ='Sieve Data'!K38 -> 0 | M37: D(10): | N37: ='Sieve Data'!K32 -> 0.0075 | P37: =P36+0.001 -> 0.067424473 | Q37: =$V$10*P37^2+$V$9*P37+$V$8 -> 132.47037 | R37: =Q37*16.02 -> 2122.1754 | S37: =(62.43*$B$13)/(P37*$B$13+1) -> 149.24636
B38: 3/4" Sieve | C38: lbs/ft3 | D38: Kgs/m3 | E38: Moisture | F38: 3/4" Sieve | G38: lbs/ft3 | H38: Kgs/m3 | I38: Moisture | K38: % Sand: | L38: ='Sieve Data'!K39 -> 0 | M38: D(30): | N38: ='Sieve Data'!K33 -> 0.0225 | P38: =P37+0.001 -> 0.068424473 | Q38: =$V$10*P38^2+$V$9*P38+$V$8 -> 132.90575 | R38: =Q38*16.02 -> 2129.1501 | S38: =(62.43*$B$13)/(P38*$B$13+1) -> 148.89042
B39: 0.05 | C39: =IF((1-B39)>=0.7,Dry_Density*Sp.Gr.*62.42/((Dry_Density*(1-(1-B39))+(Sp.Gr.*62.42*(1-B39)))),Dry_Density*Sp.Gr.*62.42/((Dry_Density*(1-0.7)+(Sp.Gr.*62.42*0.7)))) -> 139.42448 | D39: =C39*16.02 -> 2233.5802 | E39: =((0.005*(B39))+(OptMoist*(1-B39))) -> 0.08710325 | F39: 0.2 | G39: =IF((1-F39)>=0.7,Dry_Density*Sp.Gr.*62.42/((Dry_Density*(1-(1-F39))+(Sp.Gr.*62.42*(1-F39)))),Dry_Density*Sp.Gr.*62.42/((Dry_Density*(1-0.7)+(Sp.Gr.*62.42*0.7)))) -> 144.3537 | H39: =G39*16.02 -> 2312.5462 | I39: =((0.005*(F39))+(OptMoist*(1-F39))) -> 0.074139579 | K39: % Silt&Clay: | L39: ='Sieve Data'!K40 -> 1 | M39: D(60): | N39: ='Sieve Data'!K34 -> 0.045 | P39: =P38+0.001 -> 0.069424473 | Q39: =$V$10*P39^2+$V$9*P39+$V$8 -> 133.32278 | R39: =Q39*16.02 -> 2135.831 | S39: =(62.43*$B$13)/(P39*$B$13+1) -> 148.53617
B40: 0.1 | C40: =IF((1-B40)>=0.7,Dry_Density*Sp.Gr.*62.42/((Dry_Density*(1-(1-B40))+(Sp.Gr.*62.42*(1-B40)))),Dry_Density*Sp.Gr.*62.42/((Dry_Density*(1-0.7)+(Sp.Gr.*62.42*0.7)))) -> 141.02972 | D40: =C40*16.02 -> 2259.2961 | E40: =((0.005*(B40))+(OptMoist*(1-B40))) -> 0.082782026 | F40: 0.25 | G40: =IF((1-F40)>=0.7,Dry_Density*Sp.Gr.*62.42/((Dry_Density*(1-(1-F40))+(Sp.Gr.*62.42*(1-F40)))),Dry_Density*Sp.Gr.*62.42/((Dry_Density*(1-0.7)+(Sp.Gr.*62.42*0.7)))) -> 146.07514 | H40: =G40*16.02 -> 2340.1238 | I40: =((0.005*(F40))+(OptMoist*(1-F40))) -> 0.069818355 | K40: CC: | L40: ='Sieve Data'!K35 -> 1.5 | M40: LL: | N40: ='Sieve Data'!K26 -> 0 | P40: =P39+0.001 -> 0.070424473 | Q40: =$V$10*P40^2+$V$9*P40+$V$8 -> 133.72146 | R40: =Q40*16.02 -> 2142.2179 | S40: =(62.43*$B$13)/(P40*$B$13+1) -> 148.18361
B41: 0.15 | C41: =IF((1-B41)>=0.7,Dry_Density*Sp.Gr.*62.42/((Dry_Density*(1-(1-B41))+(Sp.Gr.*62.42*(1-B41)))),Dry_Density*Sp.Gr.*62.42/((Dry_Density*(1-0.7)+(Sp.Gr.*62.42*0.7)))) -> 142.67235 | D41: =C41*16.02 -> 2285.611 | E41: =((0.005*(B41))+(OptMoist*(1-B41))) -> 0.078460802 | F41: 0.3 | G41: =IF((1-F41)>=0.7,Dry_Density*Sp.Gr.*62.42/((Dry_Density*(1-(1-F41))+(Sp.Gr.*62.42*(1-F41)))),Dry_Density*Sp.Gr.*62.42/((Dry_Density*(1-0.7)+(Sp.Gr.*62.42*0.7)))) -> 147.83814 | H41: =G41*16.02 -> 2368.367 | I41: =((0.005*(F41))+(OptMoist*(1-F41))) -> 0.065497131 | K41: CU: | L41: ='Sieve Data'!K36 -> 6 | M41: PL: | N41: ='Sieve Data'!K27 -> 0 | P41: =P40+0.001 -> 0.071424473 | Q41: =$V$10*P41^2+$V$9*P41+$V$8 -> 134.1018 | R41: =Q41*16.02 -> 2148.3108 | S41: =(62.43*$B$13)/(P41*$B$13+1) -> 147.83271
K42: FM: | L42: ='Sieve Data'!K30 -> 0 | M42: PI: | N42: ='Sieve Data'!K28 -> 0 | P42: =P41+0.001 -> 0.072424473 | Q42: =$V$10*P42^2+$V$9*P42+$V$8 -> 134.46378 | R42: =Q42*16.02 -> 2154.1098 | S42: =(62.43*$B$13)/(P42*$B$13+1) -> 147.48347
B43: Copyright | C43: Spears Engineering & Technical Services PS, 1996-2004 | P43: =P42+0.001 -> 0.073424473 | Q43: =$V$10*P43^2+$V$9*P43+$V$8 -> 134.80742 | R43: =Q43*16.02 -> 2159.6149 | S43: =(62.43*$B$13)/(P43*$B$13+1) -> 147.13588
P44: =P43+0.001 -> 0.074424473 | Q44: =$V$10*P44^2+$V$9*P44+$V$8 -> 135.13271 | R44: =Q44*16.02 -> 2164.826 | S44: =(62.43*$B$13)/(P44*$B$13+1) -> 146.78993
P45: =P44+0.001 -> 0.075424473 | Q45: =$V$10*P45^2+$V$9*P45+$V$8 -> 135.43965 | R45: =Q45*16.02 -> 2169.7432 | S45: =(62.43*$B$13)/(P45*$B$13+1) -> 146.44559
P46: =P45+0.001 -> 0.076424473 | Q46: =$V$10*P46^2+$V$9*P46+$V$8 -> 135.72825 | R46: =Q46*16.02 -> 2174.3665 | S46: =(62.43*$B$13)/(P46*$B$13+1) -> 146.10287
P47: =P46+0.001 -> 0.077424473 | Q47: =$V$10*P47^2+$V$9*P47+$V$8 -> 135.99849 | R47: =Q47*16.02 -> 2178.6958 | S47: =(62.43*$B$13)/(P47*$B$13+1) -> 145.76175
P48: =P47+0.001 -> 0.078424473 | Q48: =$V$10*P48^2+$V$9*P48+$V$8 -> 136.25039 | R48: =Q48*16.02 -> 2182.7312 | S48: =(62.43*$B$13)/(P48*$B$13+1) -> 145.42222
P49: =P48+0.001 -> 0.079424473 | Q49: =$V$10*P49^2+$V$9*P49+$V$8 -> 136.48394 | R49: =Q49*16.02 -> 2186.4727 | S49: =(62.43*$B$13)/(P49*$B$13+1) -> 145.08426
P50: =P49+0.001 -> 0.080424473 | Q50: =$V$10*P50^2+$V$9*P50+$V$8 -> 136.69914 | R50: =Q50*16.02 -> 2189.9202 | S50: =(62.43*$B$13)/(P50*$B$13+1) -> 144.74788
P51: =P50+0.001 -> 0.081424473 | Q51: =$V$10*P51^2+$V$9*P51+$V$8 -> 136.89599 | R51: =Q51*16.02 -> 2193.0738 | S51: =(62.43*$B$13)/(P51*$B$13+1) -> 144.41305
P52: =P51+0.001 -> 0.082424473 | Q52: =$V$10*P52^2+$V$9*P52+$V$8 -> 137.0745 | R52: =Q52*16.02 -> 2195.9335 | S52: =(62.43*$B$13)/(P52*$B$13+1) -> 144.07976
P53: =P52+0.001 -> 0.083424473 | Q53: =$V$10*P53^2+$V$9*P53+$V$8 -> 137.23465 | R53: =Q53*16.02 -> 2198.4992 | S53: =(62.43*$B$13)/(P53*$B$13+1) -> 143.74801
P54: =P53+0.001 -> 0.084424473 | Q54: =$V$10*P54^2+$V$9*P54+$V$8 -> 137.37646 | R54: =Q54*16.02 -> 2200.7709 | S54: =(62.43*$B$13)/(P54*$B$13+1) -> 143.41778
P55: =P54+0.001 -> 0.085424473 | Q55: =$V$10*P55^2+$V$9*P55+$V$8 -> 137.49992 | R55: =Q55*16.02 -> 2202.7488 | S55: =(62.43*$B$13)/(P55*$B$13+1) -> 143.08907
... P240: =P239+0.001 -> 0.27042447 | Q240: =$V$10*P240^2+$V$9*P240+$V$8 -> -155.33886 | R240: =Q240*16.02 -> -2488.5286 | S240: =(62.43*$B$13)/(P240*$B$13+1) -> 100.48259

Sheet Moisture Content
B1: Date Received: | C1: =IF('Sieve Data'!H2="","",'Sieve Data'!H2) | E1: Project: | F1: =IF('Sieve Data'!K2="","",'Sieve Data'!K2)
B2: Sample #: | C2: =IF('Sieve Data'!H3="","",'Sieve Data'!H3) | E2: Location: | F2: =IF('Sieve Data'!K3="","",'Sieve Data'!K3)
B3: Sample ID: | C3: =IF('Sieve Data'!H4="","",'Sieve Data'!H4) | E3: Boring #: | F3: =IF('Sieve Data'!K4="","",'Sieve Data'!K4)
B4: Source: | C4: =IF('Sieve Data'!H5="","",'Sieve Data'!H5) | E4: Depth: | F4: =IF('Sieve Data'!K5="","",'Sieve Data'!K5)
C6: Wet Weight of Soils + Pan
C7: Dry Weight of Soils + Pan
C8: Weight of Pan
C9: Weight of Moisture | D9: =D6-D7 -> 0
C10: Dry Weight of Soils | D10: =D7-D8 -> 0
C11: % Moisture | D11: =D9/D10 -> #DIV/0!
C12: Copyright | D12: Spears Engineering & Technical Services PS, 1996-2004

Sheet Hydrometer
A1: Date Received: | B1: =IF('Sieve Data'!H2="","",'Sieve Data'!H2) | F1: Project: | G1: =IF('Sieve Data'!K2="","",'Sieve Data'!K2)
A2: Sample #: | B2: =IF('Sieve Data'!H3="","",'Sieve Data'!H3) | F2: Location: | G2: =IF('Sieve Data'!K3="","",'Sieve Data'!K3)
A3: Sample ID: | B3: =IF('Sieve Data'!H4="","",'Sieve Data'!H4) | F3: Boring #: | G3: =IF('Sieve Data'!K4="","",'Sieve Data'!K4)
A4: Source: | B4: =IF('Sieve Data'!H5="","",'Sieve Data'!H5) | F4: Depth: | G4: =IF('Sieve Data'!K5="","",'Sieve Data'!K5)
F5: Sieve Analysis | J5: Sieve | K5: Percent | L5: Soils Particle
A6: Assumed Sp Gr : | B6: 2.5 | F6: Grain Size Distribution | J6: Size | K6: Passing | L6: Diameter | P6: Sieve | Q6: Sieve | R6: Sp.Gr. | S6: "a" | T6: "K" | U6: Reading | V6: "L"
A7: Sample Weight: | B7: 100 | C7: grams | J7: 3.0" | K7: ='Sieve Data'!AB5 -> 1 | L7: =CHOOSE(MATCH(J7,$P$8:$P$29,0),75,50,37.5,31.5,25,19,16,12.5,9.5,6.3,4.75,2.36,2,1.18,0.85,0.6,0.425,0.3,0.25,0.18,0.15,0.075) -> 75 | M7: mm | P7: Designation | Q7: Size (mm) | R7: 2.45 | S7: 1.05 | T7: 0.01456 | U7: 1 | V7: 16.1
A8: Hydroscopic Moisture: | B8: 0.0215 | J8: 2.0" | K8: ='Sieve Data'!AB7 -> 1 | L8: =CHOOSE(MATCH(J8,$P$8:$P$29,0),75,50,37.5,31.5,25,19,16,12.5,9.5,6.3,4.75,2.36,2,1.18,0.85,0.6,0.425,0.3,0.25,0.18,0.15,0.075) -> 50 | M8: mm | P8: 3.0" | Q8: 75 | R8: 2.5 | S8: 1.03 | T8: 0.01431 | U8: =U7+1 -> 2 | V8: 16
A9: Adjusted Sample Wgt : | B9: =B7/(1+B8) -> 97.895252 | C9: grams | J9: 1.5" | K9: ='Sieve Data'!AB9 -> 1 | L9: =CHOOSE(MATCH(J9,$P$8:$P$29,0),75,50,37.5,31.5,25,19,16,12.5,9.5,6.3,4.75,2.36,2,1.18,0.85,0.6,0.425,0.3,0.25,0.18,0.15,0.075) -> 37.5 | M9: mm | P9: 2.0" | Q9: 50 | R9: 2.55 | S9: 1.02 | T9: 0.01408 | U9: =U8+1 -> 3 | V9: 15.8
J10: 1.25" | K10: ='Sieve Data'!AB10 -> 1 | L10: =CHOOSE(MATCH(J10,$P$8:$P$29,0),75,50,37.5,31.5,25,19,16,12.5,9.5,6.3,4.75,2.36,2,1.18,0.85,0.6,0.425,0.3,0.25,0.18,0.15,0.075) -> 31.5 | M10: mm | P10: 1.5" | Q10: 37.5 | R10: 2.6 | S10: 1.01 | T10: 0.01386 | U10: =U9+1 -> 4 | V10: 15.6
A11: Hydrometer | J11: 1.0" | K11: ='Sieve Data'!AB11 -> 1 | L11: =CHOOSE(MATCH(J11,$P$8:$P$29,0),75,50,37.5,31.5,25,19,16,12.5,9.5,6.3,4.75,2.36,2,1.18,0.85,0.6,0.425,0.3,0.25,0.18,0.15,0.075) -> 25 | M11: mm | P11: 1.25" | Q11: 31.5 | R11: 2.65 | S11: 1 | T11: 0.01365 | U11: =U10+1 -> 5 | V11: 15.5
A12: Reading | B12: Corrected | C12: Percent | D12: Soils Particle | J12: 3/4" | K12: ='Sieve Data'!AB13 -> 1 | L12: =CHOOSE(MATCH(J12,$P$8:$P$29,0),75,50,37.5,31.5,25,19,16,12.5,9.5,6.3,4.75,2.36,2,1.18,0.85,0.6,0.425,0.3,0.25,0.18,0.15,0.075) -> 19 | M12: mm | P12: 1.0" | Q12: 25 | R12: 2.7 | S12: 0.99 | T12: 0.01344 | U12: =U11+1 -> 6 | V12: 15.3
A13: Minutes | B13: Reading | C13: Passing | D13: Diameter | J13: 5/8" | K13: ='Sieve Data'!AB14 -> 1 | L13: =CHOOSE(MATCH(J13,$P$8:$P$29,0),75,50,37.5,31.5,25,19,16,12.5,9.5,6.3,4.75,2.36,2,1.18,0.85,0.6,0.425,0.3,0.25,0.18,0.15,0.075) -> 16 | M13: mm | P13: 3/4" | Q13: 19 | R13: 2.75 | S13: 0.98 | T13: 0.01325 | U13: =U12+1 -> 7 | V13: 15.2
A14: 2 | C14: =B14/$B$9*(VLOOKUP($B$6,$R$7:$S$15,2))*$K$22 -> 0 | D14: =(VLOOKUP($B$6,$R$7:$T$16,3))*(SQRT(VLOOKUP(B14,$U$7:$V$66,2)/A14)) -> #N/A | E14: mm | J14: 1/2" | K14: ='Sieve Data'!AB15 -> 1 | L14: =CHOOSE(MATCH(J14,$P$8:$P$29,0),75,50,37.5,31.5,25,19,16,12.5,9.5,6.3,4.75,2.36,2,1.18,0.85,0.6,0.425,0.3,0.25,0.18,0.15,0.075) -> 12.5 | M14: mm | P14: 5/8" | Q14: 16 | R14: 2.8 | S14: 0.97 | T14: 0.01307 | U14: =U13+1 -> 8 | V14: 15
A15: 5 | C15: =B15/$B$9*(VLOOKUP($B$6,$R$7:$S$15,2))*$K$22 -> 0 | D15: =(VLOOKUP($B$6,$R$7:$T$16,3))*(SQRT(VLOOKUP(B15,$U$7:$V$66,2)/A15)) -> #N/A | E15: mm | J15: 3/8" | K15: ='Sieve Data'!AB16 -> 1 | L15: =CHOOSE(MATCH(J15,$P$8:$P$29,0),75,50,37.5,31.5,25,19,16,12.5,9.5,6.3,4.75,2.36,2,1.18,0.85,0.6,0.425,0.3,0.25,0.18,0.15,0.075) -> 9.5 | M15: mm | P15: 1/2" | Q15: 12.5 | R15: 2.85 | S15: 0.96 | T15: 0.01289 | U15: =U14+1 -> 9 | V15: 14.8
A16: 15 | C16: =B16/$B$9*(VLOOKUP($B$6,$R$7:$S$15,2))*$K$22 -> 0 | D16: =(VLOOKUP($B$6,$R$7:$T$16,3))*(SQRT(VLOOKUP(B16,$U$7:$V$66,2)/A16)) -> #N/A | E16: mm | J16: 1/4" | K16: ='Sieve Data'!AB17 -> 1 | L16: =CHOOSE(MATCH(J16,$P$8:$P$29,0),75,50,37.5,31.5,25,19,16,12.5,9.5,6.3,4.75,2.36,2,1.18,0.85,0.6,0.425,0.3,0.25,0.18,0.15,0.075) -> 6.3 | M16: mm | N16: =L28 -> 0.001 | O16: =K28 -> #N/A | P16: 3/8" | Q16: 9.5 | U16: =U15+1 -> 10 | V16: 14.7
A17: 30 | C17: =B17/$B$9*(VLOOKUP($B$6,$R$7:$S$15,2))*$K$22 -> 0 | D17: =(VLOOKUP($B$6,$R$7:$T$16,3))*(SQRT(VLOOKUP(B17,$U$7:$V$66,2)/A17)) -> #N/A | E17: mm | J17: #4 | K17: ='Sieve Data'!AB18 -> 1 | L17: =CHOOSE(MATCH(J17,$P$8:$P$29,0),75,50,37.5,31.5,25,19,16,12.5,9.5,6.3,4.75,2.36,2,1.18,0.85,0.6,0.425,0.3,0.25,0.18,0.15,0.075) -> 4.75 | M17: mm | N17: =L27 -> 0.002 | O17: =K27 -> #N/A | P17: 1/4" | Q17: 6.3 | U17: =U16+1 -> 11 | V17: 14.5
A18: 60 | C18: =B18/$B$9*(VLOOKUP($B$6,$R$7:$S$15,2))*$K$22 -> 0 | D18: =(VLOOKUP($B$6,$R$7:$T$16,3))*(SQRT(VLOOKUP(B18,$U$7:$V$66,2)/A18)) -> #N/A | E18: mm | J18: #10 | K18: ='Sieve Data'!AB20 -> 1 | L18: =CHOOSE(MATCH(J18,$P$8:$P$29,0),75,50,37.5,31.5,25,19,16,12.5,9.5,6.3,4.75,2.36,2,1.18,0.85,0.6,0.425,0.3,0.25,0.18,0.15,0.075) -> 2 | M18: mm | N18: =L26 -> 0.005 | O18: =K26 -> #N/A | P18: #4 | Q18: 4.75 | U18: =U17+1 -> 12 | V18: 14.3
A19: 250 | C19: =B19/$B$9*(VLOOKUP($B$6,$R$7:$S$15,2))*$K$22 -> 0 | D19: =(VLOOKUP($B$6,$R$7:$T$16,3))*(SQRT(VLOOKUP(B19,$U$7:$V$66,2)/A19)) -> #N/A | E19: mm | J19: #20 | K19: ='Sieve Data'!AB22 -> 1 | L19: =CHOOSE(MATCH(J19,$P$8:$P$29,0),75,50,37.5,31.5,25,19,16,12.5,9.5,6.3,4.75,2.36,2,1.18,0.85,0.6,0.425,0.3,0.25,0.18,0.15,0.075) -> 0.85 | M19: mm | N19: =L25 -> 0.02 | O19: =K25 -> #N/A | P19: #8 | Q19: 2.36 | U19: =U18+1 -> 13 | V19: 14.2
A20: 1440 | C20: =B20/$B$9*(VLOOKUP($B$6,$R$7:$S$15,2))*$K$22 -> 0 | D20: =(VLOOKUP($B$6,$R$7:$T$16,3))*(SQRT(VLOOKUP(B20,$U$7:$V$66,2)/A20)) -> #N/A | E20: mm | J20: #40 | K20: ='Sieve Data'!AB24 -> 1 | L20: =CHOOSE(MATCH(J20,$P$8:$P$29,0),75,50,37.5,31.5,25,19,16,12.5,9.5,6.3,4.75,2.36,2,1.18,0.85,0.6,0.425,0.3,0.25,0.18,0.15,0.075) -> 0.425 | M20: mm | N20: =L24 -> 0.05 | O20: =K24 -> #N/A | P20: #10 | Q20: 2 | U20: =U19+1 -> 14 | V20: 14
J21: #100 | K21: ='Sieve Data'!AB28 -> 1 | L21: =CHOOSE(MATCH(J21,$P$8:$P$29,0),75,50,37.5,31.5,25,19,16,12.5,9.5,6.3,4.75,2.36,2,1.18,0.85,0.6,0.425,0.3,0.25,0.18,0.15,0.075) -> 0.15 | M21: mm | N21: =L23 -> 0.074 | O21: =K23 -> #N/A | P21: #16 | Q21: 1.18 | U21: =U20+1 -> 15 | V21: 13.8
A22: % Gravel: | B22: ='Sieve Data'!K38 -> 0 | E22: Liquid Limit: | F22: ='Sieve Data'!K26 -> 0 | J22: #200 | K22: ='Sieve Data'!AB31 -> 1 | L22: =CHOOSE(MATCH(J22,$P$8:$P$29,0),75,50,37.5,31.5,25,19,16,12.5,9.5,6.3,4.75,2.36,2,1.18,0.85,0.6,0.425,0.3,0.25,0.18,0.15,0.075) -> 0.075 | M22: mm | N22: =L22 -> 0.075 | O22: =K22 -> 1 | P22: #20 | Q22: 0.85 | U22: =U21+1 -> 16 | V22: 13.7
A23: % Sand: | B23: ='Sieve Data'!K39 -> 0 | E23: Plastic Limit: | F23: ='Sieve Data'!K27 -> 0 | J23: Silts | K23: =P31 -> #N/A | L23: 0.074 | M23: mm | N23: =L23 -> 0.074 | O23: =K23 -> #N/A | P23: #30 | Q23: 0.6 | U23: =U22+1 -> 17 | V23: 13.5
A24: % Silt: | B24: =K22-P34 -> #N/A | E24: Plasticity Index: | F24: ='Sieve Data'!K28 -> 0 | K24: =P32 -> #N/A | L24: 0.05 | M24: mm | N24: =L24 -> 0.05 | O24: =K24 -> #N/A | P24: #40 | Q24: 0.425 | U24: =U23+1 -> 18 | V24: 13.3
A25: % Clay: | B25: =P34 -> #N/A | K25: =P33 -> #N/A | L25: 0.02 | M25: mm | N25: =L25 -> 0.02 | O25: =K25 -> #N/A | P25: #50 | Q25: 0.3 | U25: =U24+1 -> 19 | V25: 13.2
J26: Clays | K26: =P34 -> #N/A | L26: 0.005 | M26: mm | N26: =L26 -> 0.005 | O26: =K26 -> #N/A | P26: #60 | Q26: 0.25 | U26: =U25+1 -> 20 | V26: 13
B27: ASTM D 2487 Soils Classification | K27: =P35 -> #N/A | L27: 0.002 | M27: mm | N27: =L27 -> 0.002 | O27: =K27 -> #N/A | P27: #80 | Q27: 0.18 | U27: =U26+1 -> 21 | V27: 12.9
B28: ='Sieve Data'!I13 -> No Data Provided | J28: Colloids | K28: =P36 -> #N/A | L28: 0.001 | M28: mm | N28: =L28 -> 0.001 | O28: =K28 -> #N/A | P28: #100 | Q28: 0.15 | U28: =U27+1 -> 22 | V28: 12.7
P29: #200 | Q29: 0.075 | U29: =U28+1 -> 23 | V29: 12.5
A30: Copyright | B30: Spears Engineering & Technical Services PS, 1996-2004 | U30: =U29+1 -> 24 | V30: 12.4
P31: =K22-(0.001/(L22-D14)*(K22-C14)) -> #N/A | U31: =U30+1 -> 25 | V31: 12.2
P32: =IF($D$14<L24,$K$22-($L$22-L24)/($L$22-$D$14)*($K$22-$C$14),IF($D$15<L24,$C$14-($D$14-L24)/($D$14-$D$15)*($C$14-$C$15),IF($D$16<L24,$C$15-($D$15-L24)/($D$15-$D$16)*($C$15-$C$16),IF($D$17<L24,$C$16-($D$16-L24)/($D$16-$D$17)*($C$16-$C$17),IF($D$18<L24,$C$17-($D$17-L24)/($D$17-$D$18)*($C$17-$C$18),IF($D$19<L24,$C$18-($D$18-L24)/($D$18-$D$19)*($C$18-$C$19),IF($D$20<L24,$C$19-($D$19-L24)/($D$19-$D$20)*($C$19-$C$20),$C$20-($D$20-L24)/$D$20*$C$20))))))) -> #N/A | U32: =U31+1 -> 26 | V32: 12
P33: =IF($D$14<L25,$K$22-($L$22-L25)/($L$22-$D$14)*($K$22-$C$14),IF($D$15<L25,$C$14-($D$14-L25)/($D$14-$D$15)*($C$14-$C$15),IF($D$16<L25,$C$15-($D$15-L25)/($D$15-$D$16)*($C$15-$C$16),IF($D$17<L25,$C$16-($D$16-L25)/($D$16-$D$17)*($C$16-$C$17),IF($D$18<L25,$C$17-($D$17-L25)/($D$17-$D$18)*($C$17-$C$18),IF($D$19<L25,$C$18-($D$18-L25)/($D$18-$D$19)*($C$18-$C$19),IF($D$20<L25,$C$19-($D$19-L25)/($D$19-$D$20)*($C$19-$C$20),$C$20-($D$20-L25)/$D$20*$C$20))))))) -> #N/A | U33: =U32+1 -> 27 | V33: 11.9
P34: =IF($D$14<L26,$K$22-($L$22-L26)/($L$22-$D$14)*($K$22-$C$14),IF($D$15<L26,$C$14-($D$14-L26)/($D$14-$D$15)*($C$14-$C$15),IF($D$16<L26,$C$15-($D$15-L26)/($D$15-$D$16)*($C$15-$C$16),IF($D$17<L26,$C$16-($D$16-L26)/($D$16-$D$17)*($C$16-$C$17),IF($D$18<L26,$C$17-($D$17-L26)/($D$17-$D$18)*($C$17-$C$18),IF($D$19<L26,$C$18-($D$18-L26)/($D$18-$D$19)*($C$18-$C$19),IF($D$20<L26,$C$19-($D$19-L26)/($D$19-$D$20)*($C$19-$C$20),$C$20-($D$20-L26)/$D$20*$C$20))))))) -> #N/A | U34: =U33+1 -> 28 | V34: 11.7
P35: =IF($D$14<L27,$K$22-($L$22-L27)/($L$22-$D$14)*($K$22-$C$14),IF($D$15<L27,$C$14-($D$14-L27)/($D$14-$D$15)*($C$14-$C$15),IF($D$16<L27,$C$15-($D$15-L27)/($D$15-$D$16)*($C$15-$C$16),IF($D$17<L27,$C$16-($D$16-L27)/($D$16-$D$17)*($C$16-$C$17),IF($D$18<L27,$C$17-($D$17-L27)/($D$17-$D$18)*($C$17-$C$18),IF($D$19<L27,$C$18-($D$18-L27)/($D$18-$D$19)*($C$18-$C$19),IF($D$20<L27,$C$19-($D$19-L27)/($D$19-$D$20)*($C$19-$C$20),$C$20-($D$20-L27)/$D$20*$C$20))))))) -> #N/A | U35: =U34+1 -> 29 | V35: 11.5
P36: =IF($D$14<L28,$K$22-($L$22-L28)/($L$22-$D$14)*($K$22-$C$14),IF($D$15<L28,$C$14-($D$14-L28)/($D$14-$D$15)*($C$14-$C$15),IF($D$16<L28,$C$15-($D$15-L28)/($D$15-$D$16)*($C$15-$C$16),IF($D$17<L28,$C$16-($D$16-L28)/($D$16-$D$17)*($C$16-$C$17),IF($D$18<L28,$C$17-($D$17-L28)/($D$17-$D$18)*($C$17-$C$18),IF($D$19<L28,$C$18-($D$18-L28)/($D$18-$D$19)*($C$18-$C$19),IF($D$20<L28,$C$19-($D$19-L28)/($D$19-$D$20)*($C$19-$C$20),$C$20-($D$20-L28)/$D$20*$C$20))))))) -> #N/A | U36: =U35+1 -> 30 | V36: 11.4
U37: =U36+1 -> 31 | V37: 11.2
U38: =U37+1 -> 32 | V38: 11.1
U39: =U38+1 -> 33 | V39: 10.9
U40: =U39+1 -> 34 | V40: 10.7
U41: =U40+1 -> 35 | V41: 10.6
U42: =U41+1 -> 36 | V42: 10.4
U43: =U42+1 -> 37 | V43: 10.2
U44: =U43+1 -> 38 | V44: 10.1
U45: =U44+1 -> 39 | V45: 9.9
U46: =U45+1 -> 40 | V46: 9.7
U47: =U46+1 -> 41 | V47: 9.6
U48: =U47+1 -> 42 | V48: 9.4
... U66: =U65+1 -> 60 | V66: 6.5

Sheet Atterberg Limits
A1: Copyright | B1: Spears Engineering & Technical Services PS, 1996-2004
B2: Date Received: | C2: =IF('Sieve Data'!H2="","",'Sieve Data'!H2) | E2: Project: | F2: =IF('Sieve Data'!K2="","",'Sieve Data'!K2)
B3: Sample #: | C3: =IF('Sieve Data'!H3="","",'Sieve Data'!H3) | E3: Location: | F3: =IF('Sieve Data'!K3="","",'Sieve Data'!K3)
B4: Sample ID: | C4: =IF('Sieve Data'!H4="","",'Sieve Data'!H4) | E4: Boring #: | F4: =IF('Sieve Data'!K4="","",'Sieve Data'!K4)
B5: Source: | C5: =IF('Sieve Data'!H5="","",'Sieve Data'!H5) | E5: Depth: | F5: =IF('Sieve Data'!K5="","",'Sieve Data'!K5) | M5: {=LINEST(CHOOSE(O5,C15:C15,C15:D15,C15:E15,C15:F15,C15:G15,C15:H15),CHOOSE(O5,C16:C16,C16:D16,C16:E16,C16:F16,C16:G16,C16:H16))} -> #VALUE! | N5: #VALUE! | O5: =COUNT(C10:H10) -> 0
B6: ASTM D-2487, Unified Soils Classification System
B7: ='Sieve Data'!I13 -> No Data Provided | M7: 0 | N7: 0.07 | O7: =IF(M7<=0.255,0.04,0.73*(M7-0.2)) -> 0.04 | P7: 0.16 | Q7: 0.5 | R7: =M7 -> 0
B8: Liquid Limit Determination | M8: =M7+0.5/100 -> 0.005 | N8: 0.07 | O8: =IF(M8<=0.255,0.04,0.73*(M8-0.2)) -> 0.04 | P8: 0.16 | Q8: 0.5 | R8: =M8 -> 0.005
C9: #1 | D9: #2 | E9: #3 | F9: #4 | G9: #5 | H9: #6 | M9: =M8+0.5/100 -> 0.01 | N9: 0.07 | O9: =IF(M9<=0.255,0.04,0.73*(M9-0.2)) -> 0.04 | P9: 0.16 | Q9: 0.5 | R9: =M9 -> 0.01
B10: Weight of Wet Soils + Pan: | M10: =M9+0.5/100 -> 0.015 | N10: 0.07 | O10: =IF(M10<=0.255,0.04,0.73*(M10-0.2)) -> 0.04 | P10: 0.16 | Q10: 0.5 | R10: =M10 -> 0.015
B11: Weight of Dry Soils + Pan: | M11: =M10+0.5/100 -> 0.02 | N11: 0.07 | O11: =IF(M11<=0.255,0.04,0.73*(M11-0.2)) -> 0.04 | P11: 0.16 | Q11: 0.5 | R11: =M11 -> 0.02
B12: Weight of Pan: | M12: =M11+0.5/100 -> 0.025 | N12: 0.07 | O12: =IF(M12<=0.255,0.04,0.73*(M12-0.2)) -> 0.04 | P12: 0.16 | Q12: 0.5 | R12: =M12 -> 0.025
B13: Weight of Dry Soils: | C13: =IF(C10>0,ROUND(C11-C12,3),"") | D13: =IF(D10>0,ROUND(D11-D12,3),"") | E13: =IF(E10>0,ROUND(E11-E12,3),"") | F13: =IF(F10>0,ROUND(F11-F12,3),"") | G13: =IF(G10>0,ROUND(G11-G12,3),"") | H13: =IF(H10>0,ROUND(H11-H12,3),"") | M13: =M12+0.5/100 -> 0.03 | N13: 0.07 | O13: =IF(M13<=0.255,0.04,0.73*(M13-0.2)) -> 0.04 | P13: 0.16 | Q13: 0.5 | R13: =M13 -> 0.03
B14: Weight of Moisture: | C14: =IF(C10>0,ROUND(C10-C11,3),"") | D14: =IF(D10>0,ROUND(D10-D11,3),"") | E14: =IF(E10>0,ROUND(E10-E11,3),"") | F14: =IF(F10>0,ROUND(F10-F11,3),"") | G14: =IF(G10>0,ROUND(G10-G11,3),"") | H14: =IF(H10>0,ROUND(H10-H11,3),"") | M14: =M13+0.5/100 -> 0.035 | N14: 0.07 | O14: =IF(M14<=0.255,0.04,0.73*(M14-0.2)) -> 0.04 | P14: 0.16 | Q14: 0.5 | R14: =M14 -> 0.035
B15: % Moisture: | C15: =IF(C10>0,ROUND(C14/C13,4),"") | D15: =IF(D10>0,ROUND(D14/D13,4),"") | E15: =IF(E10>0,ROUND(E14/E13,4),"") | F15: =IF(F10>0,ROUND(F14/F13,4),"") | G15: =IF(G10>0,ROUND(G14/G13,4),"") | H15: =IF(H10>0,ROUND(H14/H13,4),"") | M15: =M14+0.5/100 -> 0.04 | N15: 0.07 | O15: =IF(M15<=0.255,0.04,0.73*(M15-0.2)) -> 0.04 | P15: 0.16 | Q15: 0.5 | R15: =M15 -> 0.04
B16: N: | C16: 17 | D16: 32 | E16: 48 | M16: =M15+0.5/100 -> 0.045 | N16: 0.07 | O16: =IF(M16<=0.255,0.04,0.73*(M16-0.2)) -> 0.04 | P16: 0.16 | Q16: 0.5 | R16: =M16 -> 0.045
M17: =M16+0.5/100 -> 0.05 | N17: 0.07 | O17: =IF(M17<=0.255,0.04,0.73*(M17-0.2)) -> 0.04 | P17: 0.16 | Q17: 0.5 | R17: =M17 -> 0.05
M18: =M17+0.5/100 -> 0.055 | N18: 0.07 | O18: =IF(M18<=0.255,0.04,0.73*(M18-0.2)) -> 0.04 | P18: 0.16 | Q18: 0.5 | R18: =M18 -> 0.055
C19: Liquid Limit @ 25 Blows: | D19: =IF(ISERR((M5*25+N5)),"N/A",(M5*25+N5)) -> N/A | M19: =M18+0.5/100 -> 0.06 | N19: 0.07 | O19: =IF(M19<=0.255,0.04,0.73*(M19-0.2)) -> 0.04 | P19: 0.16 | Q19: 0.5 | R19: =M19 -> 0.06
C20: Plastic Limit: | D20: =IF(ISERR(AVERAGE(C30:H30)),"N/A",AVERAGE(C30:H30)) -> N/A | M20: =M19+0.5/100 -> 0.065 | N20: 0.07 | O20: =IF(M20<=0.255,0.04,0.73*(M20-0.2)) -> 0.04 | P20: 0.16 | Q20: 0.5 | R20: =M20 -> 0.065
C21: Plasticity Index, IP: | D21: =IF(D19="n/a",D19,D19-D20) -> N/A | M21: =M20+0.5/100 -> 0.07 | N21: 0.07 | O21: =IF(M21<=0.255,0.04,0.73*(M21-0.2)) -> 0.04 | P21: 0.16 | Q21: 0.5 | R21: =M21 -> 0.07
M22: =M21+0.5/100 -> 0.075 | N22: 0.07 | O22: =IF(M22<=0.255,0.04,0.73*(M22-0.2)) -> 0.04 | P22: 0.16 | Q22: 0.5 | R22: =M22 -> 0.075
B23: Plastic Limit Determination | M23: =M22+0.5/100 -> 0.08 | N23: 0.07 | O23: =IF(M23<=0.255,0.04,0.73*(M23-0.2)) -> 0.04 | P23: 0.16 | Q23: 0.5 | R23: =M23 -> 0.08
C24: #1 | D24: #2 | E24: #3 | F24: #4 | G24: #5 | H24: #6 | M24: =M23+0.5/100 -> 0.085 | N24: 0.07 | O24: =IF(M24<=0.255,0.04,0.73*(M24-0.2)) -> 0.04 | P24: 0.16 | Q24: 0.5 | R24: =M24 -> 0.085
B25: Weight of Wet Soils + Pan: | M25: =M24+0.5/100 -> 0.09 | N25: 0.07 | O25: =IF(M25<=0.255,0.04,0.73*(M25-0.2)) -> 0.04 | P25: 0.16 | Q25: 0.5 | R25: =M25 -> 0.09
B26: Weight of Dry Soils + Pan: | M26: =M25+0.5/100 -> 0.095 | N26: 0.07 | O26: =IF(M26<=0.255,0.04,0.73*(M26-0.2)) -> 0.04 | P26: 0.16 | Q26: 0.5 | R26: =M26 -> 0.095
B27: Weight of Pan: | M27: =M26+0.5/100 -> 0.1 | N27: 0.07 | O27: =IF(M27<=0.255,0.04,0.73*(M27-0.2)) -> 0.04 | P27: 0.16 | Q27: 0.5 | R27: =M27 -> 0.1
B28: Weight of Dry Soils: | C28: =IF(C25>0,ROUND(C26-C27,3),"") | D28: =IF(D25>0,ROUND(D26-D27,3),"") | E28: =IF(E25>0,ROUND(E26-E27,3),"") | F28: =IF(F25>0,ROUND(F26-F27,3),"") | G28: =IF(G25>0,ROUND(G26-G27,3),"") | H28: =IF(H25>0,ROUND(H26-H27,3),"") | M28: =M27+0.5/100 -> 0.105 | N28: 0.07 | O28: =IF(M28<=0.255,0.04,0.73*(M28-0.2)) -> 0.04 | P28: 0.16 | Q28: 0.5 | R28: =M28 -> 0.105
B29: Weight of Moisture: | C29: =IF(C25>0,ROUND(C25-C26,3),"") | D29: =IF(D25>0,ROUND(D25-D26,3),"") | E29: =IF(E25>0,ROUND(E25-E26,3),"") | F29: =IF(F25>0,ROUND(F25-F26,3),"") | G29: =IF(G25>0,ROUND(G25-G26,3),"") | H29: =IF(H25>0,ROUND(H25-H26,3),"") | M29: =M28+0.5/100 -> 0.11 | N29: 0.07 | O29: =IF(M29<=0.255,0.04,0.73*(M29-0.2)) -> 0.04 | P29: 0.16 | Q29: 0.5 | R29: =M29 -> 0.11
B30: % Moisture: | C30: =IF(C25>0,ROUND(C29/C28,4),"") | D30: =IF(D25>0,ROUND(D29/D28,4),"") | E30: =IF(E25>0,ROUND(E29/E28,4),"") | F30: =IF(F25>0,ROUND(F29/F28,4),"") | G30: =IF(G25>0,ROUND(G29/G28,4),"") | H30: =IF(H25>0,ROUND(H29/H28,4),"") | M30: =M29+0.5/100 -> 0.115 | N30: 0.07 | O30: =IF(M30<=0.255,0.04,0.73*(M30-0.2)) -> 0.04 | P30: 0.16 | Q30: 0.5 | R30: =M30 -> 0.115
M31: =M30+0.5/100 -> 0.12 | N31: 0.07 | O31: =IF(M31<=0.255,0.04,0.73*(M31-0.2)) -> 0.04 | P31: 0.16 | Q31: 0.5 | R31: =M31 -> 0.12
M32: =M31+0.5/100 -> 0.125 | N32: 0.07 | O32: =IF(M32<=0.255,0.04,0.73*(M32-0.2)) -> 0.04 | P32: 0.16 | Q32: 0.5 | R32: =M32 -> 0.125
M33: =M32+0.5/100 -> 0.13 | N33: 0.07 | O33: =IF(M33<=0.255,0.04,0.73*(M33-0.2)) -> 0.04 | P33: 0.16 | Q33: 0.5 | R33: =M33 -> 0.13
M34: =M33+0.5/100 -> 0.135 | N34: 0.07 | O34: =IF(M34<=0.255,0.04,0.73*(M34-0.2)) -> 0.04 | P34: 0.16 | Q34: 0.5 | R34: =M34 -> 0.135
M35: =M34+0.5/100 -> 0.14 | N35: 0.07 | O35: =IF(M35<=0.255,0.04,0.73*(M35-0.2)) -> 0.04 | P35: 0.16 | Q35: 0.5 | R35: =M35 -> 0.14
M36: =M35+0.5/100 -> 0.145 | N36: 0.07 | O36: =IF(M36<=0.255,0.04,0.73*(M36-0.2)) -> 0.04 | P36: 0.16 | Q36: 0.5 | R36: =M36 -> 0.145
M37: =M36+0.5/100 -> 0.15 | N37: 0.07 | O37: =IF(M37<=0.255,0.04,0.73*(M37-0.2)) -> 0.04 | P37: 0.16 | Q37: 0.5 | R37: =M37 -> 0.15
M38: =M37+0.5/100 -> 0.155 | N38: 0.07 | O38: =IF(M38<=0.255,0.04,0.73*(M38-0.2)) -> 0.04 | P38: 0.16 | Q38: 0.5 | R38: =M38 -> 0.155
M39: =M38+0.5/100 -> 0.16 | N39: 0.07 | O39: =IF(M39<=0.255,0.04,0.73*(M39-0.2)) -> 0.04 | P39: 0.16 | Q39: 0.5 | R39: =M39 -> 0.16
M40: =M39+0.5/100 -> 0.165 | N40: 0.07 | O40: =IF(M40<=0.255,0.04,0.73*(M40-0.2)) -> 0.04 | P40: =0.9*(M40-0.08) -> 0.0765 | Q40: 0.5 | R40: =M40 -> 0.165
M41: =M40+0.5/100 -> 0.17 | N41: 0.07 | O41: =IF(M41<=0.255,0.04,0.73*(M41-0.2)) -> 0.04 | P41: =0.9*(M41-0.08) -> 0.081 | Q41: 0.5 | R41: =M41 -> 0.17
M42: =M41+0.5/100 -> 0.175 | N42: 0.07 | O42: =IF(M42<=0.255,0.04,0.73*(M42-0.2)) -> 0.04 | P42: =0.9*(M42-0.08) -> 0.0855 | Q42: 0.5 | R42: =M42 -> 0.175
M43: =M42+0.5/100 -> 0.18 | N43: 0.07 | O43: =IF(M43<=0.255,0.04,0.73*(M43-0.2)) -> 0.04 | P43: =0.9*(M43-0.08) -> 0.09 | Q43: 0.5 | R43: =M43 -> 0.18
M44: =M43+0.5/100 -> 0.185 | N44: 0.07 | O44: =IF(M44<=0.255,0.04,0.73*(M44-0.2)) -> 0.04 | P44: =0.9*(M44-0.08) -> 0.0945 | Q44: 0.5 | R44: =M44 -> 0.185
M45: =M44+0.5/100 -> 0.19 | N45: 0.07 | O45: =IF(M45<=0.255,0.04,0.73*(M45-0.2)) -> 0.04 | P45: =0.9*(M45-0.08) -> 0.099 | Q45: 0.5 | R45: =M45 -> 0.19
M46: =M45+0.5/100 -> 0.195 | N46: 0.07 | O46: =IF(M46<=0.255,0.04,0.73*(M46-0.2)) -> 0.04 | P46: =0.9*(M46-0.08) -> 0.1035 | Q46: 0.5 | R46: =M46 -> 0.195
M47: =M46+0.5/100 -> 0.2 | N47: 0.07 | O47: =IF(M47<=0.255,0.04,0.73*(M47-0.2)) -> 0.04 | P47: =0.9*(M47-0.08) -> 0.108 | Q47: 0.5 | R47: =M47 -> 0.2
M48: =M47+0.5/100 -> 0.205 | N48: 0.07 | O48: =IF(M48<=0.255,0.04,0.73*(M48-0.2)) -> 0.04 | P48: =0.9*(M48-0.08) -> 0.1125 | Q48: 0.5 | R48: =M48 -> 0.205
M49: =M48+0.5/100 -> 0.21 | N49: 0.07 | O49: =IF(M49<=0.255,0.04,0.73*(M49-0.2)) -> 0.04 | P49: =0.9*(M49-0.08) -> 0.117 | Q49: 0.5 | R49: =M49 -> 0.21
M50: =M49+0.5/100 -> 0.215 | N50: 0.07 | O50: =IF(M50<=0.255,0.04,0.73*(M50-0.2)) -> 0.04 | P50: =0.9*(M50-0.08) -> 0.1215 | Q50: 0.5 | R50: =M50 -> 0.215
M51: =M50+0.5/100 -> 0.22 | N51: 0.07 | O51: =IF(M51<=0.255,0.04,0.73*(M51-0.2)) -> 0.04 | P51: =0.9*(M51-0.08) -> 0.126 | Q51: 0.5 | R51: =M51 -> 0.22
... M66: =M65+0.5/100 -> 0.295 | N66: 0.07 | O66: =IF(M66<=0.255,0.04,0.73*(M66-0.2)) -> 0.06935 | P66: =0.9*(M66-0.08) -> 0.1935 | Q66: 0.5 | R66: =M66 -> 0.295
M67: =M66+0.5/100 -> 0.3 | O67: =IF(M67<=0.255,0.04,0.73*(M67-0.2)) -> 0.073 | P67: =0.9*(M67-0.08) -> 0.198 | Q67: 0.5 | R67: =M67 -> 0.3
M68: =M67+0.5/100 -> 0.305 | O68: =IF(M68<=0.255,0.04,0.73*(M68-0.2)) -> 0.07665 | P68: =0.9*(M68-0.08) -> 0.2025 | Q68: 0.5 | R68: =M68 -> 0.305
M69: =M68+0.5/100 -> 0.31 | O69: =IF(M69<=0.255,0.04,0.73*(M69-0.2)) -> 0.0803 | P69: =0.9*(M69-0.08) -> 0.207 | Q69: 0.5 | R69: =M69 -> 0.31
M70: =M69+0.5/100 -> 0.315 | O70: =IF(M70<=0.255,0.04,0.73*(M70-0.2)) -> 0.08395 | P70: =0.9*(M70-0.08) -> 0.2115 | Q70: 0.5 | R70: =M70 -> 0.315
M71: =M70+0.5/100 -> 0.32 | O71: =IF(M71<=0.255,0.04,0.73*(M71-0.2)) -> 0.0876 | P71: =0.9*(M71-0.08) -> 0.216 | Q71: 0.5 | R71: =M71 -> 0.32
M72: =M71+0.5/100 -> 0.325 | O72: =IF(M72<=0.255,0.04,0.73*(M72-0.2)) -> 0.09125 | P72: =0.9*(M72-0.08) -> 0.2205 | Q72: 0.5 | R72: =M72 -> 0.325
M73: =M72+0.5/100 -> 0.33 | O73: =IF(M73<=0.255,0.04,0.73*(M73-0.2)) -> 0.0949 | P73: =0.9*(M73-0.08) -> 0.225 | Q73: 0.5 | R73: =M73 -> 0.33
M74: =M73+0.5/100 -> 0.335 | O74: =IF(M74<=0.255,0.04,0.73*(M74-0.2)) -> 0.09855 | P74: =0.9*(M74-0.08) -> 0.2295 | Q74: 0.5 | R74: =M74 -> 0.335
M75: =M74+0.5/100 -> 0.34 | O75: =IF(M75<=0.255,0.04,0.73*(M75-0.2)) -> 0.1022 | P75: =0.9*(M75-0.08) -> 0.234 | Q75: 0.5 | R75: =M75 -> 0.34
M76: =M75+0.5/100 -> 0.345 | O76: =IF(M76<=0.255,0.04,0.73*(M76-0.2)) -> 0.10585 | P76: =0.9*(M76-0.08) -> 0.2385 | Q76: 0.5 | R76: =M76 -> 0.345
M77: =M76+0.5/100 -> 0.35 | O77: =IF(M77<=0.255,0.04,0.73*(M77-0.2)) -> 0.1095 | P77: =0.9*(M77-0.08) -> 0.243 | Q77: 0.5 | R77: =M77 -> 0.35
M78: =M77+0.5/100 -> 0.355 | O78: =IF(M78<=0.255,0.04,0.73*(M78-0.2)) -> 0.11315 | P78: =0.9*(M78-0.08) -> 0.2475 | Q78: 0.5 | R78: =M78 -> 0.355
... M107: =M106+0.5/100 -> 0.5 | O107: =IF(M107<=0.255,0.04,0.73*(M107-0.2)) -> 0.219 | P107: =0.9*(M107-0.08) -> 0.378 | Q107: 0.5 | R107: =M107 -> 0.5
M108: =M107+0.5/100 -> 0.505 | O108: =IF(M108<=0.255,0.04,0.73*(M108-0.2)) -> 0.22265 | P108: =0.9*(M108-0.08) -> 0.3825 | R108: =M108 -> 0.505
M109: =M108+0.5/100 -> 0.51 | O109: =IF(M109<=0.255,0.04,0.73*(M109-0.2)) -> 0.2263 | P109: =0.9*(M109-0.08) -> 0.387 | R109: =M109 -> 0.51
M110: =M109+0.5/100 -> 0.515 | O110: =IF(M110<=0.255,0.04,0.73*(M110-0.2)) -> 0.22995 | P110: =0.9*(M110-0.08) -> 0.3915 | R110: =M110 -> 0.515
M111: =M110+0.5/100 -> 0.52 | O111: =IF(M111<=0.255,0.04,0.73*(M111-0.2)) -> 0.2336 | P111: =0.9*(M111-0.08) -> 0.396 | R111: =M111 -> 0.52
M112: =M111+0.5/100 -> 0.525 | O112: =IF(M112<=0.255,0.04,0.73*(M112-0.2)) -> 0.23725 | P112: =0.9*(M112-0.08) -> 0.4005 | R112: =M112 -> 0.525
M113: =M112+0.5/100 -> 0.53 | O113: =IF(M113<=0.255,0.04,0.73*(M113-0.2)) -> 0.2409 | P113: =0.9*(M113-0.08) -> 0.405 | R113: =M113 -> 0.53
M114: =M113+0.5/100 -> 0.535 | O114: =IF(M114<=0.255,0.04,0.73*(M114-0.2)) -> 0.24455 | P114: =0.9*(M114-0.08) -> 0.4095 | R114: =M114 -> 0.535
M115: =M114+0.5/100 -> 0.54 | O115: =IF(M115<=0.255,0.04,0.73*(M115-0.2)) -> 0.2482 | P115: =0.9*(M115-0.08) -> 0.414 | R115: =M115 -> 0.54
M116: =M115+0.5/100 -> 0.545 | O116: =IF(M116<=0.255,0.04,0.73*(M116-0.2)) -> 0.25185 | P116: =0.9*(M116-0.08) -> 0.4185 | R116: =M116 -> 0.545
M117: =M116+0.5/100 -> 0.55 | O117: =IF(M117<=0.255,0.04,0.73*(M117-0.2)) -> 0.2555 | P117: =0.9*(M117-0.08) -> 0.423 | R117: =M117 -> 0.55
M118: =M117+0.5/100 -> 0.555 | O118: =IF(M118<=0.255,0.04,0.73*(M118-0.2)) -> 0.25915 | P118: =0.9*(M118-0.08) -> 0.4275 | R118: =M118 -> 0.555
M119: =M118+0.5/100 -> 0.56 | O119: =IF(M119<=0.255,0.04,0.73*(M119-0.2)) -> 0.2628 | P119: =0.9*(M119-0.08) -> 0.432 | R119: =M119 -> 0.56
... M227: =M226+0.5/100 -> 1.1 | O227: =IF(M227<=0.255,0.04,0.73*(M227-0.2)) -> 0.657 | P227: =0.9*(M227-0.08) -> 0.918 | R227: =M227 -> 1.1

Sheet Specs
A1: Copyright | B1: Spears Engineering & Technical Services PS, 1996-2004 | G1: 150 | H1: 100 | I1: 75 | J1: 63 | K1: 50 | L1: 45 | M1: 37.5 | N1: 31.5 | O1: 25 | P1: 22.4 | Q1: 19 | R1: 16 | S1: 12.5 | T1: 9.5 | U1: 6.3 | V1: 4.75 | W1: 2.36 | X1: 2 | Y1: 1.18 | Z1: 0.85 | AA1: 0.6 | AB1: 0.425 | AC1: 0.3 | AD1: 0.25 | AE1: 0.18 | AF1: 0.15 | AG1: 0.106 | AH1: 0.09 | AI1: 0.075
A2: Agency | B2: Specs | C2: Type | D2: Range | G2: 6.00" | H2: 4.00" | I2: 3.00" | J2: 2.50" | K2: 2.00" | L2: 1.75" | M2: 1.50" | N2: 1.25" | O2: 1.00" | P2: 7/8" | Q2: 3/4" | R2: 5/8" | S2: 1/2" | T2: 3/8" | U2: 1/4" | V2: #4 | W2: #8 | X2: #10 | Y2: #16 | Z2: #20 | AA2: #30 | AB2: #40 | AC2: #50 | AD2: #60 | AE2: #80 | AF2: #100 | AG2: #140 | AH2: #170 | AI2: #200
A3: No Specs | D3: Max | E3: =A3&" "&B3&" "&C3 -> No Specs | F3: =A3&" "&B3&" "&C3&" "&D3 -> No Specs Max | G3: 1 | H3: 1 | I3: 1 | J3: 1 | K3: 1 | L3: 1 | M3: 1 | N3: 1 | O3: 1 | P3: 1 | Q3: 1 | R3: 1 | S3: 1 | T3: 1 | U3: 1 | V3: 1 | W3: 1 | X3: 1 | Y3: 1 | Z3: 1 | AA3: 1 | AB3: 1 | AC3: 1 | AD3: 1 | AE3: 1 | AF3: 1 | AG3: 1 | AH3: 1 | AI3: 1
A4: No Specs | D4: Min | F4: =A4&" "&B4&" "&C4&" "&D4 -> No Specs Min | G4: 0 | H4: 0 | I4: 0 | J4: 0 | K4: 0 | L4: 0 | M4: 0 | N4: 0 | O4: 0 | P4: 0 | Q4: 0 | R4: 0 | S4: 0 | T4: 0 | U4: 0 | V4: 0 | W4: 0 | X4: 0 | Y4: 0 | Z4: 0 | AA4: 0 | AB4: 0 | AC4: 0 | AD4: 0 | AE4: 0 | AF4: 0 | AG4: 0 | AH4: 0 | AI4: 0
A5: Other | D5: Max | E5: =A5&" "&B5&" "&C5 -> Other | F5: =A5&" "&B5&" "&C5&" "&D5 -> Other Max
A6: Other | D6: Min | F6: =A6&" "&B6&" "&C6&" "&D6 -> Other Min
A7: APWA | B7: Class A | C7: Pit Run | D7: Max | E7: =A7&" "&B7&" "&C7 -> APWA Class A Pit Run | F7: =A7&" "&B7&" "&C7&" "&D7 -> APWA Class A Pit Run Max | G7: 1 | U7: 0.75 | AI7: 0.05
A8: APWA | B8: Class A | C8: Pit Run | D8: Min | F8: =A8&" "&B8&" "&C8&" "&D8 -> APWA Class A Pit Run Min | G8: 1 | U8: 0.25 | AI8: 0
A9: APWA | B9: Class B | C9: Pit Run | D9: Max | E9: =A9&" "&B9&" "&C9 -> APWA Class B Pit Run | F9: =A9&" "&B9&" "&C9&" "&D9 -> APWA Class B Pit Run Max | G9: 1 | U9: 0.75 | AI9: 0.1
A10: APWA | B10: Class B | C10: Pit Run | D10: Min | F10: =A10&" "&B10&" "&C10&" "&D10 -> APWA Class B Pit Run Min | G10: 1 | U10: 0.25 | AI10: 0
A11: ASTM | B11: C-33 | C11: Sand | D11: Max | E11: =A11&" "&B11&" "&C11 -> ASTM C-33 Sand | F11: =A11&" "&B11&" "&C11&" "&D11 -> ASTM C-33 Sand Max | T11: 1 | V11: 1 | W11: 1 | Y11: 0.85 | AA11: 0.6 | AC11: 0.3 | AF11: 0.1 | AI11: 0.03
A12: ASTM | B12: C-33 | C12: Sand | D12: Min | F12: =A12&" "&B12&" "&C12&" "&D12 -> ASTM C-33 Sand Min | T12: 1 | V12: 0.95 | W12: 0.8 | Y12: 0.5 | AA12: 0.25 | AC12: 0.1 | AF12: 0.02 | AI12: 0
A13: ASTM | B13: C-33 | C13: Size #1 | D13: Max | E13: =A13&" "&B13&" "&C13 -> ASTM C-33 Size #1 | F13: =A13&" "&B13&" "&C13&" "&D13 -> ASTM C-33 Size #1 Max | H13: 1 | J13: 0.6 | M13: 0.15 | Q13: 0.05
A14: ASTM | B14: C-33 | C14: Size #1 | D14: Min | F14: =A14&" "&B14&" "&C14&" "&D14 -> ASTM C-33 Size #1 Min | H14: 1 | J14: 0.25 | M14: 0 | Q14: 0
A15: ASTM | B15: C-33 | C15: Size #2 | D15: Max | E15: =A15&" "&B15&" "&C15 -> ASTM C-33 Size #2 | F15: =A15&" "&B15&" "&C15&" "&D15 -> ASTM C-33 Size #2 Max | I15: 1 | J15: 1 | K15: 0.7 | M15: 0.15 | Q15: 0.05
A16: ASTM | B16: C-33 | C16: Size #2 | D16: Min | F16: =A16&" "&B16&" "&C16&" "&D16 -> ASTM C-33 Size #2 Min | I16: 1 | J16: 0.9 | K16: 0.35 | M16: 0 | Q16: 0
A17: ASTM | B17: C-33 | C17: Size #3 | D17: Max | E17: =A17&" "&B17&" "&C17 -> ASTM C-33 Size #3 | F17: =A17&" "&B17&" "&C17&" "&D17 -> ASTM C-33 Size #3 Max | J17: 1 | K17: 1 | M17: 0.7 | O17: 0.15 | S17: 0.05
A18: ASTM | B18: C-33 | C18: Size #3 | D18: Min | F18: =A18&" "&B18&" "&C18&" "&D18 -> ASTM C-33 Size #3 Min | J18: 1 | K18: 0.9 | M18: 0.35 | O18: 0 | S18: 0
A19: ASTM | B19: C-33 | C19: Size #357 | D19: Max | E19: =A19&" "&B19&" "&C19 -> ASTM C-33 Size #357 | F19: =A19&" "&B19&" "&C19&" "&D19 -> ASTM C-33 Size #357 Max | J19: 1 | K19: 1 | O19: 0.7 | S19: 0.3 | V19: 0.05
A20: ASTM | B20: C-33 | C20: Size #357 | D20: Min | F20: =A20&" "&B20&" "&C20&" "&D20 -> ASTM C-33 Size #357 Min | J20: 1 | K20: 0.95 | O20: 0.35 | S20: 0.1 | V20: 0
A21: ASTM | B21: C-33 | C21: Size #4 | D21: Max | E21: =A21&" "&B21&" "&C21 -> ASTM C-33 Size #4 | F21: =A21&" "&B21&" "&C21&" "&D21 -> ASTM C-33 Size #4 Max | K21: 1 | M21: 1 | O21: 0.55 | Q21: 0.15 | T21: 0.05
A22: ASTM | B22: C-33 | C22: Size #4 | D22: Min | F22: =A22&" "&B22&" "&C22&" "&D22 -> ASTM C-33 Size #4 Min | K22: 1 | M22: 0.9 | O22: 0.2 | Q22: 0 | T22: 0
A23: ASTM | B23: C-33 | C23: Size #467 | D23: Max | E23: =A23&" "&B23&" "&C23 -> ASTM C-33 Size #467 | F23: =A23&" "&B23&" "&C23&" "&D23 -> ASTM C-33 Size #467 Max | K23: 1 | M23: 1 | Q23: 0.7 | T23: 0.3 | V23: 0.05
A24: ASTM | B24: C-33 | C24: Size #467 | D24: Min | F24: =A24&" "&B24&" "&C24&" "&D24 -> ASTM C-33 Size #467 Min | K24: 1 | M24: 0.95 | Q24: 0.35 | T24: 0.1 | V24: 0
A25: ASTM | B25: C-33 | C25: Size #5 | D25: Max | E25: =A25&" "&B25&" "&C25 -> ASTM C-33 Size #5 | F25: =A25&" "&B25&" "&C25&" "&D25 -> ASTM C-33 Size #5 Max | M25: 1 | O25: 1 | Q25: 0.55 | S25: 0.1 | T25: 0.05
A26: ASTM | B26: C-33 | C26: Size #5 | D26: Min | F26: =A26&" "&B26&" "&C26&" "&D26 -> ASTM C-33 Size #5 Min | M26: 1 | O26: 0.9 | Q26: 0.2 | S26: 0 | T26: 0
A27: ASTM | B27: C-33 | C27: Size #56 | D27: Max | E27: =A27&" "&B27&" "&C27 -> ASTM C-33 Size #56 | F27: =A27&" "&B27&" "&C27&" "&D27 -> ASTM C-33 Size #56 Max | M27: 1 | O27: 1 | Q27: 0.85 | S27: 0.4 | T27: 0.15 | V27: 0.05
A28: ASTM | B28: C-33 | C28: Size #56 | D28: Min | F28: =A28&" "&B28&" "&C28&" "&D28 -> ASTM C-33 Size #56 Min | M28: 1 | O28: 0.9 | Q28: 0.4 | S28: 0.1 | T28: 0 | V28: 0
A29: ASTM | B29: C-33 | C29: Size #57 | D29: Max | E29: =A29&" "&B29&" "&C29 -> ASTM C-33 Size #57 | F29: =A29&" "&B29&" "&C29&" "&D29 -> ASTM C-33 Size #57 Max | M29: 1 | O29: 1 | S29: 0.6 | V29: 0.1 | W29: 0.05
A30: ASTM | B30: C-33 | C30: Size #57 | D30: Min | F30: =A30&" "&B30&" "&C30&" "&D30 -> ASTM C-33 Size #57 Min | M30: 1 | O30: 0.95 | S30: 0.25 | V30: 0 | W30: 0
A31: ASTM | B31: C-33 | C31: Size #6 | D31: Max | E31: =A31&" "&B31&" "&C31 -> ASTM C-33 Size #6 | F31: =A31&" "&B31&" "&C31&" "&D31 -> ASTM C-33 Size #6 Max | O31: 1 | Q31: 1 | S31: 0.55 | T31: 0.15 | V31: 0.05
A32: ASTM | B32: C-33 | C32: Size #6 | D32: Min | F32: =A32&" "&B32&" "&C32&" "&D32 -> ASTM C-33 Size #6 Min | O32: 1 | Q32: 0.9 | S32: 0.2 | T32: 0 | V32: 0
A33: ASTM | B33: C-33 | C33: Size #67 | D33: Max | E33: =A33&" "&B33&" "&C33 -> ASTM C-33 Size #67 | F33: =A33&" "&B33&" "&C33&" "&D33 -> ASTM C-33 Size #67 Max | O33: 1 | Q33: 1 | T33: 0.55 | V33: 0.1 | W33: 0.05
A34: ASTM | B34: C-33 | C34: Size #67 | D34: Min | F34: =A34&" "&B34&" "&C34&" "&D34 -> ASTM C-33 Size #67 Min | O34: 1 | Q34: 0.9 | T34: 0.2 | V34: 0 | W34: 0
A35: ASTM | B35: C-33 | C35: Size #7 | D35: Max | E35: =A35&" "&B35&" "&C35 -> ASTM C-33 Size #7 | F35: =A35&" "&B35&" "&C35&" "&D35 -> ASTM C-33 Size #7 Max | Q35: 1 | S35: 1 | T35: 0.7 | V35: 0.15 | W35: 0.05
A36: ASTM | B36: C-33 | C36: Size #7 | D36: Min | F36: =A36&" "&B36&" "&C36&" "&D36 -> ASTM C-33 Size #7 Min | Q36: 1 | S36: 0.9 | T36: 0.4 | V36: 0 | W36: 0
A37: ASTM | B37: C-33 | C37: Size #8 | D37: Max | E37: =A37&" "&B37&" "&C37 -> ASTM C-33 Size #8 | F37: =A37&" "&B37&" "&C37&" "&D37 -> ASTM C-33 Size #8 Max | S37: 1 | T37: 1 | V37: 0.3 | W37: 0.1 | Y37: 0.05
A38: ASTM | B38: C-33 | C38: Size #8 | D38: Min | F38: =A38&" "&B38&" "&C38&" "&D38 -> ASTM C-33 Size #8 Min | S38: 1 | T38: 0.85 | V38: 0.1 | W38: 0 | Y38: 0
A39: ASTM | B39: C-330 | C39: Lightwgt Coarse & Fine; 1/2" - 0 | D39: Max | E39: =A39&" "&B39&" "&C39 -> ASTM C-330 Lightwgt Coarse & Fine; 1/2" - 0 | F39: =A39&" "&B39&" "&C39&" "&D39 -> ASTM C-330 Lightwgt Coarse & Fine; 1/2" - 0 Max | Q39: 1 | S39: 1 | V39: 0.8 | AC39: 0.2 | AF39: 0.15
A40: ASTM | B40: C-330 | C40: Lightwgt Coarse & Fine; 1/2" - 0 | D40: Min | F40: =A40&" "&B40&" "&C40&" "&D40 -> ASTM C-330 Lightwgt Coarse & Fine; 1/2" - 0 Min | Q40: 1 | S40: 0.95 | V40: 0.5 | AC40: 0.05 | AF40: 0.02
A41: ASTM | B41: C-330 | C41: Lightwgt Coarse & Fine; 3/8" - 0 | D41: Max | E41: =A41&" "&B41&" "&C41 -> ASTM C-330 Lightwgt Coarse & Fine; 3/8" - 0 | F41: =A41&" "&B41&" "&C41&" "&D41 -> ASTM C-330 Lightwgt Coarse & Fine; 3/8" - 0 Max | S41: 1 | T41: 1 | V41: 0.9 | W41: 0.65 | AC41: 0.25 | AF41: 0.15
A42: ASTM | B42: C-330 | C42: Lightwgt Coarse & Fine; 3/8" - 0 | D42: Min | F42: =A42&" "&B42&" "&C42&" "&D42 -> ASTM C-330 Lightwgt Coarse & Fine; 3/8" - 0 Min | S42: 1 | T42: 0.9 | V42: 0.65 | W42: 0.35 | AC42: 0.1 | AF42: 0.05
A43: ASTM | B43: C-330 | C43: Lightwgt Coarse; 1" - #4 | D43: Max | E43: =A43&" "&B43&" "&C43 -> ASTM C-330 Lightwgt Coarse; 1" - #4 | F43: =A43&" "&B43&" "&C43&" "&D43 -> ASTM C-330 Lightwgt Coarse; 1" - #4 Max | O43: 1 | S43: 0.6 | V43: 0.1
A44: ASTM | B44: C-330 | C44: Lightwgt Coarse; 1" - #4 | D44: Min | F44: =A44&" "&B44&" "&C44&" "&D44 -> ASTM C-330 Lightwgt Coarse; 1" - #4 Min | O44: 0.95 | S44: 0.25 | V44: 0
A45: ASTM | B45: C-330 | C45: Lightwgt Coarse; 1/2" - #4 | D45: Max | E45: =A45&" "&B45&" "&C45 -> ASTM C-330 Lightwgt Coarse; 1/2" - #4 | F45: =A45&" "&B45&" "&C45&" "&D45 -> ASTM C-330 Lightwgt Coarse; 1/2" - #4 Max | Q45: 1 | S45: 1 | T45: 0.8 | V45: 0.2 | W45: 0.1
A46: ASTM | B46: C-330 | C46: Lightwgt Coarse; 1/2" - #4 | D46: Min | F46: =A46&" "&B46&" "&C46&" "&D46 -> ASTM C-330 Lightwgt Coarse; 1/2" - #4 Min | Q46: 1 | S46: 0.9 | T46: 0.4 | V46: 0 | W46: 0
A47: ASTM | B47: C-330 | C47: Lightwgt Coarse; 3/4" - #4 | D47: Max | E47: =A47&" "&B47&" "&C47 -> ASTM C-330 Lightwgt Coarse; 3/4" - #4 | F47: =A47&" "&B47&" "&C47&" "&D47 -> ASTM C-330 Lightwgt Coarse; 3/4" - #4 Max | O47: 1 | Q47: 1 | T47: 0.5 | V47: 0.15
A48: ASTM | B48: C-330 | C48: Lightwgt Coarse; 3/4" - #4 | D48: Min | F48: =A48&" "&B48&" "&C48&" "&D48 -> ASTM C-330 Lightwgt Coarse; 3/4" - #4 Min | O48: 1 | Q48: 0.9 | T48: 0.1 | V48: 0
A49: ASTM | B49: C-330 | C49: Lightwgt Coarse; 3/8" - #8 | D49: Max | E49: =A49&" "&B49&" "&C49 -> ASTM C-330 Lightwgt Coarse; 3/8" - #8 | F49: =A49&" "&B49&" "&C49&" "&D49 -> ASTM C-330 Lightwgt Coarse; 3/8" - #8 Max | S49: 1 | T49: 1 | V49: 0.4 | W49: 0.2 | Y49: 0.1
A50: ASTM | B50: C-330 | C50: Lightwgt Coarse; 3/8" - #8 | D50: Min | F50: =A50&" "&B50&" "&C50&" "&D50 -> ASTM C-330 Lightwgt Coarse; 3/8" - #8 Min | S50: 1 | T50: 0.8 | V50: 0.05 | W50: 0 | Y50: 0
A51: ASTM | B51: C-330 | C51: Lightwgt Fines | D51: Max | E51: =A51&" "&B51&" "&C51 -> ASTM C-330 Lightwgt Fines | F51: =A51&" "&B51&" "&C51&" "&D51 -> ASTM C-330 Lightwgt Fines Max | T51: 1 | V51: 1 | Y51: 0.8 | AC51: 0.35 | AF51: 0.25
A52: ASTM | B52: C-330 | C52: Lightwgt Fines | D52: Min | F52: =A52&" "&B52&" "&C52&" "&D52 -> ASTM C-330 Lightwgt Fines Min | T52: 1 | V52: 0.85 | Y52: 0.4 | AC52: 0.1 | AF52: 0.05
A53: WSDOT | B53: 9-03.1(2)B | C53: Sand, Class 1 | D53: Max | E53: =A53&" "&B53&" "&C53 -> WSDOT 9-03.1(2)B Sand, Class 1 | F53: =A53&" "&B53&" "&C53&" "&D53 -> WSDOT 9-03.1(2)B Sand, Class 1 Max | T53: 1 | V53: 1 | W53: 0.86 | Y53: 0.65 | AA53: 0.42 | AC53: 0.2 | AF53: 0.07 | AI53: 0.025
A54: WSDOT | B54: 9-03.1(2)B | C54: Sand, Class 1 | D54: Min | F54: =A54&" "&B54&" "&C54&" "&D54 -> WSDOT 9-03.1(2)B Sand, Class 1 Min | T54: 1 | V54: 0.95 | W54: 0.68 | Y54: 0.47 | AA54: 0.27 | AC54: 0.09 | AF54: 0 | AI54: 0
A55: WSDOT | B55: 9-03.1(2)B | C55: Sand, Class 2 | D55: Max | E55: =A55&" "&B55&" "&C55 -> WSDOT 9-03.1(2)B Sand, Class 2 | F55: =A55&" "&B55&" "&C55&" "&D55 -> WSDOT 9-03.1(2)B Sand, Class 2 Max | T55: 1 | V55: 1 | Y55: 0.8 | AC55: 0.3 | AF55: 0.1 | AI55: 0.025
A56: WSDOT | B56: 9-03.1(2)B | C56: Sand, Class 2 | D56: Min | F56: =A56&" "&B56&" "&C56&" "&D56 -> WSDOT 9-03.1(2)B Sand, Class 2 Min | T56: 1 | V56: 0.95 | Y56: 0.45 | AC56: 0.1 | AF56: 0.02 | AI56: 0
A57: WSDOT | B57: 9-03.1(3)C | C57: Grading #2 | D57: Max | E57: =A57&" "&B57&" "&C57 -> WSDOT 9-03.1(3)C Grading #2 | F57: =A57&" "&B57&" "&C57&" "&D57 -> WSDOT 9-03.1(3)C Grading #2 Max | M57: 1 | N57: 1 | Q57: 0.7 | T57: 0.2 | V57: 0.02 | AI57: 0.005
A58: WSDOT | B58: 9-03.1(3)C | C58: Grading #2 | D58: Min | F58: =A58&" "&B58&" "&C58&" "&D58 -> WSDOT 9-03.1(3)C Grading #2 Min | M58: 1 | N58: 0.95 | Q58: 0.4 | T58: 0.05 | V58: 0 | AI58: 0
A59: WSDOT | B59: 9-03.1(3)C | C59: Grading #4 | D59: Max | E59: =A59&" "&B59&" "&C59 -> WSDOT 9-03.1(3)C Grading #4 | F59: =A59&" "&B59&" "&C59&" "&D59 -> WSDOT 9-03.1(3)C Grading #4 Max | M59: 1 | N59: 1 | Q59: 0.2 | T59: 0.02 | AI59: 0.005
A60: WSDOT | B60: 9-03.1(3)C | C60: Grading #4 | D60: Min | F60: =A60&" "&B60&" "&C60&" "&D60 -> WSDOT 9-03.1(3)C Grading #4 Min | M60: 1 | N60: 0.9 | Q60: 0 | T60: 0 | AI60: 0
A61: WSDOT | B61: 9-03.1(3)C | C61: Grading #5 | D61: Max | E61: =A61&" "&B61&" "&C61 -> WSDOT 9-03.1(3)C Grading #5 | F61: =A61&" "&B61&" "&C61&" "&D61 -> WSDOT 9-03.1(3)C Grading #5 Max | O61: 1 | Q61: 1 | T61: 0.4 | V61: 0.04 | AI61: 0.005
A62: WSDOT | B62: 9-03.1(3)C | C62: Grading #5 | D62: Min | F62: =A62&" "&B62&" "&C62&" "&D62 -> WSDOT 9-03.1(3)C Grading #5 Min | O62: 1 | Q62: 0.8 | T62: 0.1 | V62: 0 | AI62: 0
A63: WSDOT | B63: 9-03.1(3)C | C63: Grading #6 | D63: Max | E63: =A63&" "&B63&" "&C63 -> WSDOT 9-03.1(3)C Grading #6 | F63: =A63&" "&B63&" "&C63&" "&D63 -> WSDOT 9-03.1(3)C Grading #6 Max | Q63: 1 | S63: 1 | T63: 0.9 | V63: 0.3 | AI63: 0.005
A64: WSDOT | B64: 9-03.1(3)C | C64: Grading #6 | D64: Min | F64: =A64&" "&B64&" "&C64&" "&D64 -> WSDOT 9-03.1(3)C Grading #6 Min | Q64: 1 | S64: 0.9 | T64: 0.4 | V64: 0.05 | AI64: 0
A65: WSDOT | B65: 9-03.1(4)C | C65: Grading #467 | D65: Max | E65: =A65&" "&B65&" "&C65 -> WSDOT 9-03.1(4)C Grading #467 | F65: =A65&" "&B65&" "&C65&" "&D65 -> WSDOT 9-03.1(4)C Grading #467 Max | K65: 1 | M65: 1 | Q65: 0.7 | T65: 0.3 | V65: 0.05
A66: WSDOT | B66: 9-03.1(4)C | C66: Grading #467 | D66: Min | F66: =A66&" "&B66&" "&C66&" "&D66 -> WSDOT 9-03.1(4)C Grading #467 Min | K66: 1 | M66: 0.95 | Q66: 0.35 | T66: 0.1 | V66: 0
A67: WSDOT | B67: 9-03.1(4)C | C67: Grading #57 | D67: Max | E67: =A67&" "&B67&" "&C67 -> WSDOT 9-03.1(4)C Grading #57 | F67: =A67&" "&B67&" "&C67&" "&D67 -> WSDOT 9-03.1(4)C Grading #57 Max | M67: 1 | O67: 1 | S67: 0.6 | V67: 0.1 | W67: 0.05
A68: WSDOT | B68: 9-03.1(4)C | C68: Grading #57 | D68: Min | F68: =A68&" "&B68&" "&C68&" "&D68 -> WSDOT 9-03.1(4)C Grading #57 Min | M68: 1 | O68: 0.95 | S68: 0.25 | V68: 0 | W68: 0
A69: WSDOT | B69: 9-03.1(4)C | C69: Grading #67 | D69: Max | E69: =A69&" "&B69&" "&C69 -> WSDOT 9-03.1(4)C Grading #67 | F69: =A69&" "&B69&" "&C69&" "&D69 -> WSDOT 9-03.1(4)C Grading #67 Max | O69: 1 | Q69: 1 | T69: 0.55 | V69: 0.1 | W69: 0.05
A70: WSDOT | B70: 9-03.1(4)C | C70: Grading #67 | D70: Min | F70: =A70&" "&B70&" "&C70&" "&D70 -> WSDOT 9-03.1(4)C Grading #67 Min | O70: 1 | Q70: 0.9 | T70: 0.2 | V70: 0 | W70: 0
A71: WSDOT | B71: 9-03.1(4)C | C71: Grading #7 | D71: Max | E71: =A71&" "&B71&" "&C71 -> WSDOT 9-03.1(4)C Grading #7 | F71: =A71&" "&B71&" "&C71&" "&D71 -> WSDOT 9-03.1(4)C Grading #7 Max | Q71: 1 | S71: 1 | T71: 0.7 | V71: 0.15 | W71: 0.05
A72: WSDOT | B72: 9-03.1(4)C | C72: Grading #7 | D72: Min | F72: =A72&" "&B72&" "&C72&" "&D72 -> WSDOT 9-03.1(4)C Grading #7 Min | Q72: 1 | S72: 0.9 | T72: 0.4 | V72: 0 | W72: 0
A73: WSDOT | B73: 9-03.1(4)C | C73: Grading #8 | D73: Max | E73: =A73&" "&B73&" "&C73 -> WSDOT 9-03.1(4)C Grading #8 | F73: =A73&" "&B73&" "&C73&" "&D73 -> WSDOT 9-03.1(4)C Grading #8 Max | S73: 1 | T73: 1 | V73: 0.3 | W73: 0.1 | Y73: 0.05
A74: WSDOT | B74: 9-03.1(4)C | C74: Grading #8 | D74: Min | F74: =A74&" "&B74&" "&C74&" "&D74 -> WSDOT 9-03.1(4)C Grading #8 Min | S74: 1 | T74: 0.85 | V74: 0.1 | W74: 0 | Y74: 0
A75: WSDOT | B75: 9-03.4(2) | C75: Crushed Cover Stone | D75: Max | E75: =A75&" "&B75&" "&C75 -> WSDOT 9-03.4(2) Crushed Cover Stone | F75: =A75&" "&B75&" "&C75&" "&D75 -> WSDOT 9-03.4(2) Crushed Cover Stone Max | Q75: 1 | R75: 1 | V75: 0.45 | AI75: 0.075
A76: WSDOT | B76: 9-03.4(2) | C76: Crushed Cover Stone | D76: Min | F76: =A76&" "&B76&" "&C76&" "&D76 -> WSDOT 9-03.4(2) Crushed Cover Stone Min | Q76: 1 | R76: 0.95 | V76: 0.2 | AI76: 0
A77: WSDOT | B77: 9-03.4(2) | C77: Crushed, 1/2" - #4 | D77: Max | E77: =A77&" "&B77&" "&C77 -> WSDOT 9-03.4(2) Crushed, 1/2" - #4 | F77: =A77&" "&B77&" "&C77&" "&D77 -> WSDOT 9-03.4(2) Crushed, 1/2" - #4 Max | R77: 1 | S77: 1 | X77: 0.03 | AI77: 0.01
A78: WSDOT | B78: 9-03.4(2) | C78: Crushed, 1/2" - #4 | D78: Min | F78: =A78&" "&B78&" "&C78&" "&D78 -> WSDOT 9-03.4(2) Crushed, 1/2" - #4 Min | R78: 1 | S78: 0.95 | X78: 0 | AI78: 0
A79: WSDOT | B79: 9-03.4(2) | C79: Crushed, #4 - 0" | D79: Max | E79: =A79&" "&B79&" "&C79 -> WSDOT 9-03.4(2) Crushed, #4 - 0" | F79: =A79&" "&B79&" "&C79&" "&D79 -> WSDOT 9-03.4(2) Crushed, #4 - 0" Max | T79: 1 | V79: 1 | X79: 0.6 | AI79: 0.1
A80: WSDOT | B80: 9-03.4(2) | C80: Crushed, #4 - 0" | D80: Min | F80: =A80&" "&B80&" "&C80&" "&D80 -> WSDOT 9-03.4(2) Crushed, #4 - 0" Min | T80: 1 | V80: 0.76 | X80: 0.3 | AI80: 0
A81: WSDOT | B81: 9-03.4(2) | C81: Crushed, 3/4" - 1/2" | D81: Max | E81: =A81&" "&B81&" "&C81 -> WSDOT 9-03.4(2) Crushed, 3/4" - 1/2" | F81: =A81&" "&B81&" "&C81&" "&D81 -> WSDOT 9-03.4(2) Crushed, 3/4" - 1/2" Max | O81: 1 | Q81: 1 | S81: 0.2 | T81: 0.05 | AI81: 0.01
A82: WSDOT | B82: 9-03.4(2) | C82: Crushed, 3/4" - 1/2" | D82: Min | F82: =A82&" "&B82&" "&C82&" "&D82 -> WSDOT 9-03.4(2) Crushed, 3/4" - 1/2" Min | O82: 1 | Q82: 0.95 | S82: 0 | T82: 0 | AI82: 0
A83: WSDOT | B83: 9-03.4(2) | C83: Crushed, 3/8" - #10 | D83: Min | E83: =A83&" "&B83&" "&C83 -> WSDOT 9-03.4(2) Crushed, 3/8" - #10 | F83: =A83&" "&B83&" "&C83&" "&D83 -> WSDOT 9-03.4(2) Crushed, 3/8" - #10 Min | S83: 1 | T83: 0.9 | V83: 0.56 | X83: 0 | AI83: 0
A84: WSDOT | B84: 9-03.4(2) | C84: Crushed, 3/8" - #11 | D84: Max | F84: =A84&" "&B84&" "&C84&" "&D84 -> WSDOT 9-03.4(2) Crushed, 3/8" - #11 Max | S84: 1 | T84: 1 | V84: 0.3 | X84: 0.1 | AI84: 0.1
A85: WSDOT | B85: 9-03.4(2) | C85: Crushed, 5/8" - #4 | D85: Max | E85: =A85&" "&B85&" "&C85 -> WSDOT 9-03.4(2) Crushed, 5/8" - #4 | F85: =A85&" "&B85&" "&C85&" "&D85 -> WSDOT 9-03.4(2) Crushed, 5/8" - #4 Max | Q85: 1 | R85: 1 | V85: 0.1 | X85: 0.03 | AI85: 0.01
A86: WSDOT | B86: 9-03.4(2) | C86: Crushed, 5/8" - #4 | D86: Min | F86: =A86&" "&B86&" "&C86&" "&D86 -> WSDOT 9-03.4(2) Crushed, 5/8" - #4 Min | Q86: 1 | R86: 0.95 | V86: 0 | X86: 0 | AI86: 0
A87: WSDOT | B87: 9-03.6(2) | C87: Asphalt Treated Base | D87: Max | E87: =A87&" "&B87&" "&C87 -> WSDOT 9-03.6(2) Asphalt Treated Base | F87: =A87&" "&B87&" "&C87&" "&D87 -> WSDOT 9-03.6(2) Asphalt Treated Base Max | K87: 1 | S87: 1 | V87: 0.72 | X87: 0.57 | AB87: 0.32 | AI87: 0.09
A88: WSDOT | B88: 9-03.6(2) | C88: Asphalt Treated Base | D88: Min | F88: =A88&" "&B88&" "&C88&" "&D88 -> WSDOT 9-03.6(2) Asphalt Treated Base Min | K88: 1 | S88: 0.56 | V88: 0.32 | X88: 0.22 | AB88: 0.08 | AI88: 0.02
A89: WSDOT | B89: 9-03.8(6) | C89: Class A Asphalt | D89: Max | E89: =A89&" "&B89&" "&C89 -> WSDOT 9-03.8(6) Class A Asphalt | F89: =A89&" "&B89&" "&C89&" "&D89 -> WSDOT 9-03.8(6) Class A Asphalt Max | Q89: 1 | S89: 1 | T89: 0.9 | V89: 0.66 | X89: 0.42 | AB89: 0.24 | AI89: 0.07
A90: WSDOT | B90: 9-03.8(6) | C90: Class A Asphalt | D90: Min | F90: =A90&" "&B90&" "&C90&" "&D90 -> WSDOT 9-03.8(6) Class A Asphalt Min | Q90: 1 | S90: 0.9 | T90: 0.75 | V90: 0.46 | X90: 0.3 | AB90: 0.11 | AI90: 0.03
A91: WSDOT | B91: 9-03.8(6) | C91: Class B Asphalt | D91: Max | E91: =A91&" "&B91&" "&C91 -> WSDOT 9-03.8(6) Class B Asphalt | F91: =A91&" "&B91&" "&C91&" "&D91 -> WSDOT 9-03.8(6) Class B Asphalt Max | Q91: 1 | S91: 1 | T91: 0.9 | V91: 0.66 | X91: 0.42 | AB91: 0.24 | AI91: 0.07
A92: WSDOT | B92: 9-03.8(6) | C92: Class B Asphalt | D92: Min | F92: =A92&" "&B92&" "&C92&" "&D92 -> WSDOT 9-03.8(6) Class B Asphalt Min | Q92: 1 | S92: 0.9 | T92: 0.75 | V92: 0.46 | X92: 0.3 | AB92: 0.11 | AI92: 0.03
A93: WSDOT | B93: 9-03.8(6) | C93: Class D Asphalt | D93: Max | E93: =A93&" "&B93&" "&C93 -> WSDOT 9-03.8(6) Class D Asphalt | F93: =A93&" "&B93&" "&C93&" "&D93 -> WSDOT 9-03.8(6) Class D Asphalt Max | S93: 1 | T93: 1 | V93: 0.5 | W93: 0.15 | AI93: 0.05
A94: WSDOT | B94: 9-03.8(6) | C94: Class D Asphalt | D94: Min | F94: =A94&" "&B94&" "&C94&" "&D94 -> WSDOT 9-03.8(6) Class D Asphalt Min | S94: 1 | T94: 0.97 | V94: 0.3 | W94: 0.05 | AI94: 0.02
A95: WSDOT | B95: 9-03.8(6) | C95: Class E Asphalt | D95: Max | E95: =A95&" "&B95&" "&C95 -> WSDOT 9-03.8(6) Class E Asphalt | F95: =A95&" "&B95&" "&C95&" "&D95 -> WSDOT 9-03.8(6) Class E Asphalt Max | N95: 1 | O95: 1 | R95: 0.86 | S95: 0.8 | V95: 0.56 | X95: 0.4 | AB95: 0.23 | AI95: 0.09
A96: WSDOT | B96: 9-03.8(6) | C96: Class E Asphalt | D96: Min | F96: =A96&" "&B96&" "&C96&" "&D96 -> WSDOT 9-03.8(6) Class E Asphalt Min | N96: 1 | O96: 0.9 | R96: 0.67 | S96: 0.6 | V96: 0.34 | X96: 0.25 | AB96: 0.1 | AI96: 0.02
A97: WSDOT | B97: 9-03.8(6) | C97: Class F Asphalt | D97: Max | E97: =A97&" "&B97&" "&C97 -> WSDOT 9-03.8(6) Class F Asphalt | F97: =A97&" "&B97&" "&C97&" "&D97 -> WSDOT 9-03.8(6) Class F Asphalt Max | Q97: 1 | S97: 1 | V97: 0.7 | X97: 0.5 | AI97: 0.08
A98: WSDOT | B98: 9-03.8(6) | C98: Class F Asphalt | D98: Min | F98: =A98&" "&B98&" "&C98&" "&D98 -> WSDOT 9-03.8(6) Class F Asphalt Min | Q98: 1 | S98: 0.8 | V98: 0.38 | X98: 0.3 | AI98: 0.02
A99: WSDOT | B99: 9-03.8(6) | C99: Class G Asphalt | D99: Max | E99: =A99&" "&B99&" "&C99 -> WSDOT 9-03.8(6) Class G Asphalt | F99: =A99&" "&B99&" "&C99&" "&D99 -> WSDOT 9-03.8(6) Class G Asphalt Max | S99: 1 | T99: 1 | V99: 0.78 | X99: 0.53 | AB99: 0.24 | AI99: 0.07
A100: WSDOT | B100: 9-03.8(6) | C100: Class G Asphalt | D100: Min | F100: =A100&" "&B100&" "&C100&" "&D100 -> WSDOT 9-03.8(6) Class G Asphalt Min | S100: 1 | T100: 0.97 | V100: 0.5 | X100: 0.32 | AB100: 0.11 | AI100: 0.03
...
