Workbook
Name CC: 'Sieve Data'!$K$35
Name Clay: 'Sieve Data'!$K$19
Name Coarse_Cummalitive: 'Sieve Data'!$E$7
Name Crushed: 'Sieve Data'!$K$20
Name CU: 'Sieve Data'!$K$36
Name Dry_Density: 'Proctor Report'!$G$14
Name Fineness_Modulus: 'Sieve Data'!$K$30
Name Fines_Cumulative: 'Sieve Data'!$E$30
Name Gravel: 'Sieve Data'!$K$38
Name Liquid_Limit: 'Sieve Data'!$K$26
Name Non_Plastic: 'Sieve Data'!$K$24
Name OptMoist: 'Proctor Report'!$I$14
Name Organic: 'Sieve Data'!$K$17
Name Plastic_Limit: 'Sieve Data'!$K$27
Name Plasticity_Index: 'Sieve Data'!$K$28
Name Sand: 'Sieve Data'!$K$39
Name Silt: 'Sieve Data'!$K$18
Name Silt_Clay: 'Sieve Data'!$K$40
Name Sp.Gr.: 'Proctor Report'!$B$13
Name Split: 'Sieve Data'!$E$3
Name Split_Percent: 'Sieve Data'!$R$18
Name Split_Weight: 'Sieve Data'!$D$31
Name Total_Weight: 'Sieve Data'!$R$1

Sheet Sieve Data
A1: Copyright | B1: Spears Engineering & Technical Services PS, 1996-2004 | O1: Sieve | P1: Size | Q1: Total Weight= | R1: =IF(Split="x",D31,C28) -> 0 | AB1: 1 | AC1: =INDEX(Specs!F3:F398,AB1,1) -> No Specs Max | AF1: =COUNT(AE3:AE31) -> 29 | AG1: =INDEX(Specs!$E$3:$E$222,AB1,1) -> No Specs
D2: Input an "x" if applicable | G2: Date Received: | J2: Project: | O2: US | P2: mm | Q2: Weight | AC2: =INDEX(Specs!F3:F398,AB1+1,1) -> No Specs Min | AF2: =IF(MAX(AE3:AE31)=1,"Yes","No") -> Yes | AH2: Size | AI2: Max | AJ2: Min
D3: ONE SET OF SIEVES ONLY: | G3: Sample #: | J3: Location: | M3: 1 | N3: =IF(AF3="","",AF3) -> 1 | O3: =A11 -> 6.00" | P3: =B11 -> 150 | Q3: =IF(C11="","",C11) | R3: =IF(Q3="","",IF(Coarse_Cummalitive="x",Q3/Total_Weight,SUM(Q$3:Q3)/Total_Weight)) | S3: =IF(R3="","",1-R3) | T3: =IF(AND(Q3="",SUM($R$3:S3)>0),S4+((S2-S4)*(P3-P4)/(P2-P4)),S3) | U3: =TYPE(T3) -> 2 | V3: =IF(OR(U3=1,U3=2),"",P3) | W3: =IF(V3="",IF(OR(AND(U4=16,U2<16),AND(U4<16,U2=16),AND(U4=16,U2=16)),P3,""),"") | X3: =IF(W3="","",S3) | Y3: =IF(V3="","",MIN($X$3:X3)-MAX(X4:$X$31)) | Z3: =IF(V3="","",MIN($W$3:W3)-MAX(W4:$W$31)) | AA3: =IF(V3="","",(V3-MAX(W4:$W$31))/Z3*Y3+MAX(X4:$X$31)) | AB3: =IF(AA3="",IF(T3="",1,T3),AA3) -> 1 | AC3: =IF(VLOOKUP($AC$1,Specs!$F$3:$AI$398,2,FALSE)="","",VLOOKUP($AC$1,Specs!$F$3:$AI$398,2,FALSE)) -> 1 | AD3: =IF(VLOOKUP($AC$2,Specs!$F$3:$AI$398,2,FALSE)="","",VLOOKUP($AC$2,Specs!$F$3:$AI$398,2,FALSE)) -> 0 | AE3: =IF(AC3="","",IF(AND(AB3<=AC3,AB3>=AD3),1,2)) -> 1 | AF3: =IF(AE3="","",1) -> 1 | AG3: =VLOOKUP(MAX($AF$3:$AF$31),AF3:AF31,1) -> 29 | AH3: =IF(AG3="",200,VLOOKUP(AG3,$N$3:$AD$31,3,FALSE)) -> 0.075 | AI3: =IF(AG3="",1,VLOOKUP(AG3,$N$3:$AD$31,16,FALSE)) -> 1 | AJ3: =IF(AG3="",1,VLOOKUP(AG3,$N$3:$AD$31,17,FALSE)) -> 0 | AK3: 1 | AL3: 1 | AM3: =P31 -> 0.075 | AN3: =AB31 -> 1 | AO3: =1-AN3 -> 0 | AP3: =IF(AR3="","",1) | AQ3: =P3 -> 150 | AR3: =S3 | AS3: =VLOOKUP(MAX(AP3:AP31),AP3:AP31,1) -> #N/A | AT3: =IF(AS3="",150,VLOOKUP(AS3,$AP$3:$AR$31,2,FALSE)) -> #N/A | AU3: =IF(AS3="",1,VLOOKUP(AS3,$AP$3:$AR$31,3,FALSE)) -> #N/A | AX3: Size | AY3: %
D4: Input an "x" here if the sample analysis is performed | G4: Sample ID: | J4: Boring #: | M4: 2 | N4: =IF(AF4="","",AF4) -> 2 | O4: =A12 -> 4.00" | P4: =B12 -> 100 | Q4: =IF(C12="","",C12) | R4: =IF(Q4="","",IF(Coarse_Cummalitive="x",Q4/Total_Weight,SUM(Q$3:Q4)/Total_Weight)) | S4: =IF(R4="","",1-R4) | T4: =IF(AND(Q4="",SUM($R$3:S4)>0),S5+((S3-S5)*(P4-P5)/(P3-P5)),S4) | U4: =TYPE(T4) -> 2 | V4: =IF(OR(U4=1,U4=2),"",P4) | W4: =IF(V4="",IF(OR(AND(U5=16,U3<16),AND(U5<16,U3=16),AND(U5=16,U3=16)),P4,""),"") | X4: =IF(W4="","",S4) | Y4: =IF(V4="","",MIN(X3:X4)-MAX(X5:X31)) | Z4: =IF(V4="","",MIN($W$3:W4)-MAX(W5:$W$31)) | AA4: =IF(V4="","",(V4-MAX(W5:$W$31))/Z4*Y4+MAX(X5:$X$31)) | AB4: =IF(AA4="",IF(T4="",1,T4),AA4) -> 1 | AC4: =IF(VLOOKUP($AC$1,Specs!$F$3:$AI$398,3,FALSE)="","",VLOOKUP($AC$1,Specs!$F$3:$AI$398,3,FALSE)) -> 1 | AD4: =IF(VLOOKUP($AC$2,Specs!$F$3:$AI$398,3,FALSE)="","",VLOOKUP($AC$2,Specs!$F$3:$AI$398,3,FALSE)) -> 0 | AE4: =IF(AC4="","",IF(AND(AB4<=AC4,AB4>=AD4),1,2)) -> 1 | AF4: =IF(AE4="","",MAX($AF$3:AF3)+1) -> 2 | AG4: =IF(MIN($AG$3:AG3)-1<=0,"",AG3-1) -> 28 | AH4: =IF(AG4="",200,VLOOKUP(AG4,$N$3:$AD$31,3,FALSE)) -> 0.09 | AI4: =IF(AG4="",1,VLOOKUP(AG4,$N$3:$AD$31,16,FALSE)) -> 1 | AJ4: =IF(AG4="",1,VLOOKUP(AG4,$N$3:$AD$31,17,FALSE)) -> 0 | AK4: 1 | AL4: 2 | AM4: =P30 -> 0.09 | AN4: =AB30 -> 1 | AO4: =1-AN4 -> 0 | AP4: =IF(AR4="","",MAX($AP$3:AP3)+1) | AQ4: =P4 -> 100 | AR4: =S4 | AS4: =IF(MIN($AS$3:AS3)-1<=0,"",AS3-1) -> #N/A | AT4: =IF(AS4="",150,VLOOKUP(AS4,$AP$3:$AR$31,2,FALSE)) -> #N/A | AU4: =IF(AS4="",1,VLOOKUP(AS4,$AP$3:$AR$31,3,FALSE)) -> #N/A | AW4: =MATCH(0.1,AB3:AB31,-1) -> 29 | AX4: =VLOOKUP(AW4,M3:P31,4) -> 0.075 | AY4: =VLOOKUP(AW4,M3:AB31,16) -> 1
D5: using only one set of sieves and it is not a split sample! | G5: Source: | J5: Depth: | M5: 3 | N5: =IF(AF5="","",AF5) -> 3 | O5: =A13 -> 3.00" | P5: =B13 -> 75 | Q5: =IF(C13="","",C13) | R5: =IF(Q5="","",IF(Coarse_Cummalitive="x",Q5/Total_Weight,SUM(Q$3:Q5)/Total_Weight)) | S5: =IF(R5="","",1-R5) | T5: =IF(AND(Q5="",SUM($R$3:S5)>0),S6+((S4-S6)*(P5-P6)/(P4-P6)),S5) | U5: =TYPE(T5) -> 2 | V5: =IF(OR(U5=1,U5=2),"",P5) | W5: =IF(V5="",IF(OR(AND(U6=16,U4<16),AND(U6<16,U4=16),AND(U6=16,U4=16)),P5,""),"") | X5: =IF(W5="","",S5) | Y5: =IF(V5="","",MIN($X$3:X5)-MAX(X6:$X$31)) | Z5: =IF(V5="","",MIN($W$3:W5)-MAX(W6:$W$31)) | AA5: =IF(V5="","",(V5-MAX(W6:$W$31))/Z5*Y5+MAX(X6:$X$31)) | AB5: =IF(AA5="",IF(T5="",1,T5),AA5) -> 1 | AC5: =IF(VLOOKUP($AC$1,Specs!$F$3:$AI$398,4,FALSE)="","",VLOOKUP($AC$1,Specs!$F$3:$AI$398,4,FALSE)) -> 1 | AD5: =IF(VLOOKUP($AC$2,Specs!$F$3:$AI$398,4,FALSE)="","",VLOOKUP($AC$2,Specs!$F$3:$AI$398,4,FALSE)) -> 0 | AE5: =IF(AC5="","",IF(AND(AB5<=AC5,AB5>=AD5),1,2)) -> 1 | AF5: =IF(AE5="","",MAX($AF$3:AF4)+1) -> 3 | AG5: =IF(MIN($AG$3:AG4)-1<=0,"",AG4-1) -> 27 | AH5: =IF(AG5="",200,VLOOKUP(AG5,$N$3:$AD$31,3,FALSE)) -> 0.106 | AI5: =IF(AG5="",1,VLOOKUP(AG5,$N$3:$AD$31,16,FALSE)) -> 1 | AJ5: =IF(AG5="",1,VLOOKUP(AG5,$N$3:$AD$31,17,FALSE)) -> 0 | AK5: 1 | AL5: 3 | AM5: =P29 -> 0.106 | AN5: =AB29 -> 1 | AO5: =1-AN5 -> 0 | AP5: =IF(AR5="","",MAX($AP$3:AP4)+1) | AQ5: =P5 -> 75 | AR5: =S5 | AS5: =IF(MIN($AS$3:AS4)-1<=0,"",AS4-1) -> #N/A | AT5: =IF(AS5="",150,VLOOKUP(AS5,$AP$3:$AR$31,2,FALSE)) -> #N/A | AU5: =IF(AS5="",1,VLOOKUP(AS5,$AP$3:$AR$31,3,FALSE)) -> #N/A | AW5: =MATCH(0.1,AN3:AN31,1) -> #N/A | AX5: =IF(ISNA(MATCH(0.1,AN3:AN31,1)),0,VLOOKUP(AW5,AL3:AN31,2)) -> 0 | AY5: =IF(ISNA(MATCH(0.1,AN3:AN31,1)),0,VLOOKUP(AW5,AL3:AN31,3)) -> 0
C6: Gravel Section | M6: 4 | N6: =IF(AF6="","",AF6) -> 4 | O6: =A14 -> 2.50" | P6: =B14 -> 63 | Q6: =IF(C14="","",C14) | R6: =IF(Q6="","",IF(Coarse_Cummalitive="x",Q6/Total_Weight,SUM(Q$3:Q6)/Total_Weight)) | S6: =IF(R6="","",1-R6) | T6: =IF(AND(Q6="",SUM($R$3:S6)>0),S7+((S5-S7)*(P6-P7)/(P5-P7)),S6) | U6: =TYPE(T6) -> 2 | V6: =IF(OR(U6=1,U6=2),"",P6) | W6: =IF(V6="",IF(OR(AND(U7=16,U5<16),AND(U7<16,U5=16),AND(U7=16,U5=16)),P6,""),"") | X6: =IF(W6="","",S6) | Y6: =IF(V6="","",MIN($X$3:X6)-MAX(X7:$X$31)) | Z6: =IF(V6="","",MIN($W$3:W6)-MAX(W7:$W$31)) | AA6: =IF(V6="","",(V6-MAX(W7:$W$31))/Z6*Y6+MAX(X7:$X$31)) | AB6: =IF(AA6="",IF(T6="",1,T6),AA6) -> 1 | AC6: =IF(VLOOKUP($AC$1,Specs!$F$3:$AI$398,5,FALSE)="","",VLOOKUP($AC$1,Specs!$F$3:$AI$398,5,FALSE)) -> 1 | AD6: =IF(VLOOKUP($AC$2,Specs!$F$3:$AI$398,5,FALSE)="","",VLOOKUP($AC$2,Specs!$F$3:$AI$398,5,FALSE)) -> 0 | AE6: =IF(AC6="","",IF(AND(AB6<=AC6,AB6>=AD6),1,2)) -> 1 | AF6: =IF(AE6="","",MAX($AF$3:AF5)+1) -> 4 | AG6: =IF(MIN($AG$3:AG5)-1<=0,"",AG5-1) -> 26 | AH6: =IF(AG6="",200,VLOOKUP(AG6,$N$3:$AD$31,3,FALSE)) -> 0.15 | AI6: =IF(AG6="",1,VLOOKUP(AG6,$N$3:$AD$31,16,FALSE)) -> 1 | AJ6: =IF(AG6="",1,VLOOKUP(AG6,$N$3:$AD$31,17,FALSE)) -> 0 | AK6: 1 | AL6: 4 | AM6: =P28 -> 0.15 | AN6: =AB28 -> 1 | AO6: =1-AN6 -> 0 | AP6: =IF(AR6="","",MAX($AP$3:AP5)+1) | AQ6: =P6 -> 63 | AR6: =S6 | AS6: =IF(MIN($AS$3:AS5)-1<=0,"",AS5-1) -> #N/A | AT6: =IF(AS6="",150,VLOOKUP(AS6,$AP$3:$AR$31,2,FALSE)) -> #N/A | AU6: =IF(AS6="",1,VLOOKUP(AS6,$AP$3:$AR$31,3,FALSE)) -> #N/A | AW6: =MATCH(0.3,AB3:AB31,-1) -> 29 | AX6: =VLOOKUP(AW6,M3:P31,4) -> 0.075 | AY6: =VLOOKUP(AW6,M3:AB31,16) -> 1
D7: Weights are Cumulative: | M7: 5 | N7: =IF(AF7="","",AF7) -> 5 | O7: =A15 -> 2.00" | P7: =B15 -> 50 | Q7: =IF(C15="","",C15) | R7: =IF(Q7="","",IF(Coarse_Cummalitive="x",Q7/Total_Weight,SUM(Q$3:Q7)/Total_Weight)) | S7: =IF(R7="","",1-R7) | T7: =IF(AND(Q7="",SUM($R$3:S7)>0),S8+((S6-S8)*(P7-P8)/(P6-P8)),S7) | U7: =TYPE(T7) -> 2 | V7: =IF(OR(U7=1,U7=2),"",P7) | W7: =IF(V7="",IF(OR(AND(U8=16,U6<16),AND(U8<16,U6=16),AND(U8=16,U6=16)),P7,""),"") | X7: =IF(W7="","",S7) | Y7: =IF(V7="","",MIN($X$3:X7)-MAX(X8:$X$31)) | Z7: =IF(V7="","",MIN($W$3:W7)-MAX(W8:$W$31)) | AA7: =IF(V7="","",(V7-MAX(W8:$W$31))/Z7*Y7+MAX(X8:$X$31)) | AB7: =IF(AA7="",IF(T7="",1,T7),AA7) -> 1 | AC7: =IF(VLOOKUP($AC$1,Specs!$F$3:$AI$398,6,FALSE)="","",VLOOKUP($AC$1,Specs!$F$3:$AI$398,6,FALSE)) -> 1 | AD7: =IF(VLOOKUP($AC$2,Specs!$F$3:$AI$398,6,FALSE)="","",VLOOKUP($AC$2,Specs!$F$3:$AI$398,6,FALSE)) -> 0 | AE7: =IF(AC7="","",IF(AND(AB7<=AC7,AB7>=AD7),1,2)) -> 1 | AF7: =IF(AE7="","",MAX($AF$3:AF6)+1) -> 5 | AG7: =IF(MIN($AG$3:AG6)-1<=0,"",AG6-1) -> 25 | AH7: =IF(AG7="",200,VLOOKUP(AG7,$N$3:$AD$31,3,FALSE)) -> 0.18 | AI7: =IF(AG7="",1,VLOOKUP(AG7,$N$3:$AD$31,16,FALSE)) -> 1 | AJ7: =IF(AG7="",1,VLOOKUP(AG7,$N$3:$AD$31,17,FALSE)) -> 0 | AK7: 1 | AL7: 5 | AM7: =P27 -> 0.18 | AN7: =AB27 -> 1 | AO7: =1-AN7 -> 0 | AP7: =IF(AR7="","",MAX($AP$3:AP6)+1) | AQ7: =P7 -> 50 | AR7: =S7 | AS7: =IF(MIN($AS$3:AS6)-1<=0,"",AS6-1) -> #N/A | AT7: =IF(AS7="",150,VLOOKUP(AS7,$AP$3:$AR$31,2,FALSE)) -> #N/A | AU7: =IF(AS7="",1,VLOOKUP(AS7,$AP$3:$AR$31,3,FALSE)) -> #N/A | AW7: =MATCH(0.3,AN3:AN31,1) -> #N/A | AX7: =IF(ISNA(MATCH(0.3,AN3:AN31,1)),0,VLOOKUP(AW7,AL3:AN31,2)) -> 0 | AY7: =IF(ISNA(MATCH(0.3,AN3:AN31,1)),0,VLOOKUP(AW7,AL3:AN31,3)) -> 0
C8: =IF(Coarse_Cummalitive="x","Cumulative","Individual") -> Individual | D8: Cumulative | E8: Cumulative | F8: Interpolated | M8: 6 | N8: =IF(AF8="","",AF8) -> 6 | O8: =A16 -> 1.75" | P8: =B16 -> 45 | Q8: =IF(C16="","",C16) | R8: =IF(Q8="","",IF(Coarse_Cummalitive="x",Q8/Total_Weight,SUM(Q$3:Q8)/Total_Weight)) | S8: =IF(R8="","",1-R8) | T8: =IF(AND(Q8="",SUM($R$3:S8)>0),S9+((S7-S9)*(P8-P9)/(P7-P9)),S8) | U8: =TYPE(T8) -> 2 | V8: =IF(OR(U8=1,U8=2),"",P8) | W8: =IF(V8="",IF(OR(AND(U9=16,U7<16),AND(U9<16,U7=16),AND(U9=16,U7=16)),P8,""),"") | X8: =IF(W8="","",S8) | Y8: =IF(V8="","",MIN($X$3:X8)-MAX(X9:$X$31)) | Z8: =IF(V8="","",MIN($W$3:W8)-MAX(W9:$W$31)) | AA8: =IF(V8="","",(V8-MAX(W9:$W$31))/Z8*Y8+MAX(X9:$X$31)) | AB8: =IF(AA8="",IF(T8="",1,T8),AA8) -> 1 | AC8: =IF(VLOOKUP($AC$1,Specs!$F$3:$AI$398,7,FALSE)="","",VLOOKUP($AC$1,Specs!$F$3:$AI$398,7,FALSE)) -> 1 | AD8: =IF(VLOOKUP($AC$2,Specs!$F$3:$AI$398,7,FALSE)="","",VLOOKUP($AC$2,Specs!$F$3:$AI$398,7,FALSE)) -> 0 | AE8: =IF(AC8="","",IF(AND(AB8<=AC8,AB8>=AD8),1,2)) -> 1 | AF8: =IF(AE8="","",MAX($AF$3:AF7)+1) -> 6 | AG8: =IF(MIN($AG$3:AG7)-1<=0,"",AG7-1) -> 24 | AH8: =IF(AG8="",200,VLOOKUP(AG8,$N$3:$AD$31,3,FALSE)) -> 0.25 | AI8: =IF(AG8="",1,VLOOKUP(AG8,$N$3:$AD$31,16,FALSE)) -> 1 | AJ8: =IF(AG8="",1,VLOOKUP(AG8,$N$3:$AD$31,17,FALSE)) -> 0 | AK8: 1 | AL8: 6 | AM8: =P26 -> 0.25 | AN8: =AB26 -> 1 | AO8: =1-AN8 -> 0 | AP8: =IF(AR8="","",MAX($AP$3:AP7)+1) | AQ8: =P8 -> 45 | AR8: =S8 | AS8: =IF(MIN($AS$3:AS7)-1<=0,"",AS7-1) -> #N/A | AT8: =IF(AS8="",150,VLOOKUP(AS8,$AP$3:$AR$31,2,FALSE)) -> #N/A | AU8: =IF(AS8="",1,VLOOKUP(AS8,$AP$3:$AR$31,3,FALSE)) -> #N/A | AW8: =MATCH(0.6,AB3:AB31,-1) -> 29 | AX8: =VLOOKUP(AW8,M3:P31,4) -> 0.075 | AY8: =VLOOKUP(AW8,M3:AB31,16) -> 1
A9: Sieve | B9: Size | C9: Retained | D9: Percent | E9: Percent | F9: Percent | G9: Specs | J9: Sample Meets Specs ? | K9: =IF(ISERROR(AF2),"No Data",AF2) -> Yes | M9: 7 | N9: =IF(AF9="","",AF9) -> 7 | O9: =A17 -> 1.50" | P9: =B17 -> 37.5 | Q9: =IF(C17="","",C17) | R9: =IF(Q9="","",IF(Coarse_Cummalitive="x",Q9/Total_Weight,SUM(Q$3:Q9)/Total_Weight)) | S9: =IF(R9="","",1-R9) | T9: =IF(AND(Q9="",SUM($R$3:S9)>0),S10+((S8-S10)*(P9-P10)/(P8-P10)),S9) | U9: =TYPE(T9) -> 2 | V9: =IF(OR(U9=1,U9=2),"",P9) | W9: =IF(V9="",IF(OR(AND(U10=16,U8<16),AND(U10<16,U8=16),AND(U10=16,U8=16)),P9,""),"") | X9: =IF(W9="","",S9) | Y9: =IF(V9="","",MIN($X$3:X9)-MAX(X10:$X$31)) | Z9: =IF(V9="","",MIN($W$3:W9)-MAX(W10:$W$31)) | AA9: =IF(V9="","",(V9-MAX(W10:$W$31))/Z9*Y9+MAX(X10:$X$31)) | AB9: =IF(AA9="",IF(T9="",1,T9),AA9) -> 1 | AC9: =IF(VLOOKUP($AC$1,Specs!$F$3:$AI$398,8,FALSE)="","",VLOOKUP($AC$1,Specs!$F$3:$AI$398,8,FALSE)) -> 1 | AD9: =IF(VLOOKUP($AC$2,Specs!$F$3:$AI$398,8,FALSE)="","",VLOOKUP($AC$2,Specs!$F$3:$AI$398,8,FALSE)) -> 0 | AE9: =IF(AC9="","",IF(AND(AB9<=AC9,AB9>=AD9),1,2)) -> 1 | AF9: =IF(AE9="","",MAX($AF$3:AF8)+1) -> 7 | AG9: =IF(MIN($AG$3:AG8)-1<=0,"",AG8-1) -> 23 | AH9: =IF(AG9="",200,VLOOKUP(AG9,$N$3:$AD$31,3,FALSE)) -> 0.3 | AI9: =IF(AG9="",1,VLOOKUP(AG9,$N$3:$AD$31,16,FALSE)) -> 1 | AJ9: =IF(AG9="",1,VLOOKUP(AG9,$N$3:$AD$31,17,FALSE)) -> 0 | AK9: 1 | AL9: 7 | AM9: =P25 -> 0.3 | AN9: =AB25 -> 1 | AO9: =1-AN9 -> 0 | AP9: =IF(AR9="","",MAX($AP$3:AP8)+1) | AQ9: =P9 -> 37.5 | AR9: =S9 | AS9: =IF(MIN($AS$3:AS8)-1<=0,"",AS8-1) -> #N/A | AT9: =IF(AS9="",150,VLOOKUP(AS9,$AP$3:$AR$31,2,FALSE)) -> #N/A | AU9: =IF(AS9="",1,VLOOKUP(AS9,$AP$3:$AR$31,3,FALSE)) -> #N/A | AW9: =MATCH(0.6,AN3:AN31,1) -> #N/A | AX9: =IF(ISNA(MATCH(0.6,AN3:AN31,1)),0,VLOOKUP(AW9,AL3:AN31,2)) -> 0 | AY9: =IF(ISNA(MATCH(0.6,AN3:AN31,1)),0,VLOOKUP(AW9,AL3:AN31,3)) -> 0
A10: US | B10: mm | C10: Weight | D10: Retained | E10: Passing | F10: Passing | G10: Max | H10: Min | M10: 8 | N10: =IF(AF10="","",AF10) -> 8 | O10: =A18 -> 1.25" | P10: =B18 -> 31.5 | Q10: =IF(C18="","",C18) | R10: =IF(Q10="","",IF(Coarse_Cummalitive="x",Q10/Total_Weight,SUM(Q$3:Q10)/Total_Weight)) | S10: =IF(R10="","",1-R10) | T10: =IF(AND(Q10="",SUM($R$3:S10)>0),S11+((S9-S11)*(P10-P11)/(P9-P11)),S10) | U10: =TYPE(T10) -> 2 | V10: =IF(OR(U10=1,U10=2),"",P10) | W10: =IF(V10="",IF(OR(AND(U11=16,U9<16),AND(U11<16,U9=16),AND(U11=16,U9=16)),P10,""),"") | X10: =IF(W10="","",S10) | Y10: =IF(V10="","",MIN($X$3:X10)-MAX(X11:$X$31)) | Z10: =IF(V10="","",MIN($W$3:W10)-MAX(W11:$W$31)) | AA10: =IF(V10="","",(V10-MAX(W11:$W$31))/Z10*Y10+MAX(X11:$X$31)) | AB10: =IF(AA10="",IF(T10="",1,T10),AA10) -> 1 | AC10: =IF(VLOOKUP($AC$1,Specs!$F$3:$AI$398,9,FALSE)="","",VLOOKUP($AC$1,Specs!$F$3:$AI$398,9,FALSE)) -> 1 | AD10: =IF(VLOOKUP($AC$2,Specs!$F$3:$AI$398,9,FALSE)="","",VLOOKUP($AC$2,Specs!$F$3:$AI$398,9,FALSE)) -> 0 | AE10: =IF(AC10="","",IF(AND(AB10<=AC10,AB10>=AD10),1,2)) -> 1 | AF10: =IF(AE10="","",MAX($AF$3:AF9)+1) -> 8 | AG10: =IF(MIN($AG$3:AG9)-1<=0,"",AG9-1) -> 22 | AH10: =IF(AG10="",200,VLOOKUP(AG10,$N$3:$AD$31,3,FALSE)) -> 0.425 | AI10: =IF(AG10="",1,VLOOKUP(AG10,$N$3:$AD$31,16,FALSE)) -> 1 | AJ10: =IF(AG10="",1,VLOOKUP(AG10,$N$3:$AD$31,17,FALSE)) -> 0 | AK10: 1 | AL10: 8 | AM10: =P24 -> 0.425 | AN10: =AB24 -> 1 | AO10: =1-AN10 -> 0 | AP10: =IF(AR10="","",MAX($AP$3:AP9)+1) | AQ10: =P10 -> 31.5 | AR10: =S10 | AS10: =IF(MIN($AS$3:AS9)-1<=0,"",AS9-1) -> #N/A | AT10: =IF(AS10="",150,VLOOKUP(AS10,$AP$3:$AR$31,2,FALSE)) -> #N/A | AU10: =IF(AS10="",1,VLOOKUP(AS10,$AP$3:$AR$31,3,FALSE)) -> #N/A | AW10: Delta | AX10: Delta | AY10: Delta
A11: 6.00" | B11: 150 | D11: =IF(ISERROR(R3),"",R3) | E11: =IF(ISERROR(S3),"",IF(S3=0,"",S3)) | F11: =IF(ISERROR(AB3),"",AB3) -> 1 | G11: =IF($AB$1=1, "",AC3) | H11: =IF($AB$1=1, "",AD3) | K11: ASTM D-2487 | M11: 9 | N11: =IF(AF11="","",AF11) -> 9 | O11: =A19 -> 1.00" | P11: =B19 -> 25 | Q11: =IF(C19="","",C19) | R11: =IF(Q11="","",IF(Coarse_Cummalitive="x",Q11/Total_Weight,SUM(Q$3:Q11)/Total_Weight)) | S11: =IF(R11="","",1-R11) | T11: =IF(AND(Q11="",SUM($R$3:S11)>0),S12+((S10-S12)*(P11-P12)/(P10-P12)),S11) | U11: =TYPE(T11) -> 2 | V11: =IF(OR(U11=1,U11=2),"",P11) | W11: =IF(V11="",IF(OR(AND(U12=16,U10<16),AND(U12<16,U10=16),AND(U12=16,U10=16)),P11,""),"") | X11: =IF(W11="","",S11) | Y11: =IF(V11="","",MIN($X$3:X11)-MAX(X12:$X$31)) | Z11: =IF(V11="","",MIN($W$3:W11)-MAX(W12:$W$31)) | AA11: =IF(V11="","",(V11-MAX(W12:$W$31))/Z11*Y11+MAX(X12:$X$31)) | AB11: =IF(AA11="",IF(T11="",1,T11),AA11) -> 1 | AC11: =IF(VLOOKUP($AC$1,Specs!$F$3:$AI$398,10,FALSE)="","",VLOOKUP($AC$1,Specs!$F$3:$AI$398,10,FALSE)) -> 1 | AD11: =IF(VLOOKUP($AC$2,Specs!$F$3:$AI$398,10,FALSE)="","",VLOOKUP($AC$2,Specs!$F$3:$AI$398,10,FALSE)) -> 0 | AE11: =IF(AC11="","",IF(AND(AB11<=AC11,AB11>=AD11),1,2)) -> 1 | AF11: =IF(AE11="","",MAX($AF$3:AF10)+1) -> 9 | AG11: =IF(MIN($AG$3:AG10)-1<=0,"",AG10-1) -> 21 | AH11: =IF(AG11="",200,VLOOKUP(AG11,$N$3:$AD$31,3,FALSE)) -> 0.6 | AI11: =IF(AG11="",1,VLOOKUP(AG11,$N$3:$AD$31,16,FALSE)) -> 1 | AJ11: =IF(AG11="",1,VLOOKUP(AG11,$N$3:$AD$31,17,FALSE)) -> 0 | AK11: 1 | AL11: 9 | AM11: =P23 -> 0.6 | AN11: =AB23 -> 1 | AO11: =1-AN11 -> 0 | AP11: =IF(AR11="","",MAX($AP$3:AP10)+1) | AQ11: =P11 -> 25 | AR11: =S11 | AS11: =IF(MIN($AS$3:AS10)-1<=0,"",AS10-1) -> #N/A | AT11: =IF(AS11="",150,VLOOKUP(AS11,$AP$3:$AR$31,2,FALSE)) -> #N/A | AU11: =IF(AS11="",1,VLOOKUP(AS11,$AP$3:$AR$31,3,FALSE)) -> #N/A | AW11: Given % | AX11: Size | AY11: %
A12: 4.00" | B12: 100 | D12: =IF(ISERROR(R4),"",R4) | E12: =IF(ISERROR(S4),"",IF(S4=0,"",S4)) | F12: =IF(ISERROR(AB4),"",AB4) -> 1 | G12: =IF($AB$1=1, "",AC4) | H12: =IF($AB$1=1, "",AD4) | K12: Unified Soils Classification System | M12: 10 | N12: =IF(AF12="","",AF12) -> 10 | O12: =A20 -> 7/8" | P12: =B20 -> 22.4 | Q12: =IF(C20="","",C20) | R12: =IF(Q12="","",IF(Coarse_Cummalitive="x",Q12/Total_Weight,SUM(Q$3:Q12)/Total_Weight)) | S12: =IF(R12="","",1-R12) | T12: =IF(AND(Q12="",SUM($R$3:S12)>0),S13+((S11-S13)*(P12-P13)/(P11-P13)),S12) | U12: =TYPE(T12) -> 2 | V12: =IF(OR(U12=1,U12=2),"",P12) | W12: =IF(V12="",IF(OR(AND(U13=16,U11<16),AND(U13<16,U11=16),AND(U13=16,U11=16)),P12,""),"") | X12: =IF(W12="","",S12) | Y12: =IF(V12="","",MIN($X$3:X12)-MAX(X13:$X$31)) | Z12: =IF(V12="","",MIN($W$3:W12)-MAX(W13:$W$31)) | AA12: =IF(V12="","",(V12-MAX(W13:$W$31))/Z12*Y12+MAX(X13:$X$31)) | AB12: =IF(AA12="",IF(T12="",1,T12),AA12) -> 1 | AC12: =IF(VLOOKUP($AC$1,Specs!$F$3:$AI$398,11,FALSE)="","",VLOOKUP($AC$1,Specs!$F$3:$AI$398,11,FALSE)) -> 1 | AD12: =IF(VLOOKUP($AC$2,Specs!$F$3:$AI$398,11,FALSE)="","",VLOOKUP($AC$2,Specs!$F$3:$AI$398,11,FALSE)) -> 0 | AE12: =IF(AC12="","",IF(AND(AB12<=AC12,AB12>=AD12),1,2)) -> 1 | AF12: =IF(AE12="","",MAX($AF$3:AF11)+1) -> 10 | AG12: =IF(MIN($AG$3:AG11)-1<=0,"",AG11-1) -> 20 | AH12: =IF(AG12="",200,VLOOKUP(AG12,$N$3:$AD$31,3,FALSE)) -> 0.85 | AI12: =IF(AG12="",1,VLOOKUP(AG12,$N$3:$AD$31,16,FALSE)) -> 1 | AJ12: =IF(AG12="",1,VLOOKUP(AG12,$N$3:$AD$31,17,FALSE)) -> 0 | AK12: 1 | AL12: 10 | AM12: =P22 -> 0.85 | AN12: =AB22 -> 1 | AO12: =1-AN12 -> 0 | AP12: =IF(AR12="","",MAX($AP$3:AP11)+1) | AQ12: =P12 -> 22.4 | AR12: =S12 | AS12: =IF(MIN($AS$3:AS11)-1<=0,"",AS11-1) -> #N/A | AT12: =IF(AS12="",150,VLOOKUP(AS12,$AP$3:$AR$31,2,FALSE)) -> #N/A | AU12: =IF(AS12="",1,VLOOKUP(AS12,$AP$3:$AR$31,3,FALSE)) -> #N/A | AV12: D(10)= | AW12: =0.1-AY5 -> 0.1 | AX12: =AX4-AX5 -> 0.075 | AY12: =AY4-AY5 -> 1
A13: 3.00" | B13: 75 | D13: =IF(ISERROR(R5),"",R5) | E13: =IF(ISERROR(S5),"",IF(S5=0,"",S5)) | F13: =IF(ISERROR(AB5),"",AB5) -> 1 | G13: =IF($AB$1=1, "",AC5) | H13: =IF($AB$1=1, "",AD5) | I13: =IF(SUM(C11:C27,C37:C50)=0,"No Data Provided",IF(Crushed="x",VLOOKUP(1,S33:T35,2,FALSE)&", Crushed",VLOOKUP(1,S33:T35,2,FALSE))) -> No Data Provided | M13: 11 | N13: =IF(AF13="","",AF13) -> 11 | O13: =A21 -> 3/4" | P13: =B21 -> 19 | Q13: =IF(C21="","",C21) | R13: =IF(Q13="","",IF(Coarse_Cummalitive="x",Q13/Total_Weight,SUM(Q$3:Q13)/Total_Weight)) | S13: =IF(R13="","",1-R13) | T13: =IF(AND(Q13="",SUM($R$3:S13)>0),S14+((S12-S14)*(P13-P14)/(P12-P14)),S13) | U13: =TYPE(T13) -> 2 | V13: =IF(OR(U13=1,U13=2),"",P13) | W13: =IF(V13="",IF(OR(AND(U14=16,U12<16),AND(U14<16,U12=16),AND(U14=16,U12=16)),P13,""),"") | X13: =IF(W13="","",S13) | Y13: =IF(V13="","",MIN($X$3:X13)-MAX(X14:$X$31)) | Z13: =IF(V13="","",MIN($W$3:W13)-MAX(W14:$W$31)) | AA13: =IF(V13="","",(V13-MAX(W14:$W$31))/Z13*Y13+MAX(X14:$X$31)) | AB13: =IF(AA13="",IF(T13="",1,T13),AA13) -> 1 | AC13: =IF(VLOOKUP($AC$1,Specs!$F$3:$AI$398,12,FALSE)="","",VLOOKUP($AC$1,Specs!$F$3:$AI$398,12,FALSE)) -> 1 | AD13: =IF(VLOOKUP($AC$2,Specs!$F$3:$AI$398,12,FALSE)="","",VLOOKUP($AC$2,Specs!$F$3:$AI$398,12,FALSE)) -> 0 | AE13: =IF(AC13="","",IF(AND(AB13<=AC13,AB13>=AD13),1,2)) -> 1 | AF13: =IF(AE13="","",MAX($AF$3:AF12)+1) -> 11 | AG13: =IF(MIN($AG$3:AG12)-1<=0,"",AG12-1) -> 19 | AH13: =IF(AG13="",200,VLOOKUP(AG13,$N$3:$AD$31,3,FALSE)) -> 1.18 | AI13: =IF(AG13="",1,VLOOKUP(AG13,$N$3:$AD$31,16,FALSE)) -> 1 | AJ13: =IF(AG13="",1,VLOOKUP(AG13,$N$3:$AD$31,17,FALSE)) -> 0 | AK13: 1 | AL13: 11 | AM13: =P21 -> 1.18 | AN13: =AB21 -> 1 | AO13: =1-AN13 -> 0 | AP13: =IF(AR13="","",MAX($AP$3:AP12)+1) | AQ13: =P13 -> 19 | AR13: =S13 | AS13: =IF(MIN($AS$3:AS12)-1<=0,"",AS12-1) -> #N/A | AT13: =IF(AS13="",150,VLOOKUP(AS13,$AP$3:$AR$31,2,FALSE)) -> #N/A | AU13: =IF(AS13="",1,VLOOKUP(AS13,$AP$3:$AR$31,3,FALSE)) -> #N/A | AV13: D(30)= | AW13: =0.3-AY7 -> 0.3 | AX13: =AX6-AX7 -> 0.075 | AY13: =AY6-AY7 -> 1
A14: 2.50" | B14: 63 | D14: =IF(ISERROR(R6),"",R6) | E14: =IF(ISERROR(S6),"",IF(S6=0,"",S6)) | F14: =IF(ISERROR(AB6),"",AB6) -> 1 | G14: =IF($AB$1=1, "",AC6) | H14: =IF($AB$1=1, "",AD6) | M14: 12 | N14: =IF(AF14="","",AF14) -> 12 | O14: =A22 -> 5/8" | P14: =B22 -> 16 | Q14: =IF(C22="","",C22) | R14: =IF(Q14="","",IF(Coarse_Cummalitive="x",Q14/Total_Weight,SUM(Q$3:Q14)/Total_Weight)) | S14: =IF(R14="","",1-R14) | T14: =IF(AND(Q14="",SUM($R$3:S14)>0),S15+((S13-S15)*(P14-P15)/(P13-P15)),S14) | U14: =TYPE(T14) -> 2 | V14: =IF(OR(U14=1,U14=2),"",P14) | W14: =IF(V14="",IF(OR(AND(U15=16,U13<16),AND(U15<16,U13=16),AND(U15=16,U13=16)),P14,""),"") | X14: =IF(W14="","",S14) | Y14: =IF(V14="","",MIN($X$3:X14)-MAX(X15:$X$31)) | Z14: =IF(V14="","",MIN($W$3:W14)-MAX(W15:$W$31)) | AA14: =IF(V14="","",(V14-MAX(W15:$W$31))/Z14*Y14+MAX(X15:$X$31)) | AB14: =IF(AA14="",IF(T14="",1,T14),AA14) -> 1 | AC14: =IF(VLOOKUP($AC$1,Specs!$F$3:$AI$398,13,FALSE)="","",VLOOKUP($AC$1,Specs!$F$3:$AI$398,13,FALSE)) -> 1 | AD14: =IF(VLOOKUP($AC$2,Specs!$F$3:$AI$398,13,FALSE)="","",VLOOKUP($AC$2,Specs!$F$3:$AI$398,13,FALSE)) -> 0 | AE14: =IF(AC14="","",IF(AND(AB14<=AC14,AB14>=AD14),1,2)) -> 1 | AF14: =IF(AE14="","",MAX($AF$3:AF13)+1) -> 12 | AG14: =IF(MIN($AG$3:AG13)-1<=0,"",AG13-1) -> 18 | AH14: =IF(AG14="",200,VLOOKUP(AG14,$N$3:$AD$31,3,FALSE)) -> 2 | AI14: =IF(AG14="",1,VLOOKUP(AG14,$N$3:$AD$31,16,FALSE)) -> 1 | AJ14: =IF(AG14="",1,VLOOKUP(AG14,$N$3:$AD$31,17,FALSE)) -> 0 | AK14: 1 | AL14: 12 | AM14: =P20 -> 2 | AN14: =AB20 -> 1 | AO14: =1-AN14 -> 0 | AP14: =IF(AR14="","",MAX($AP$3:AP13)+1) | AQ14: =P14 -> 16 | AR14: =S14 | AS14: =IF(MIN($AS$3:AS13)-1<=0,"",AS13-1) -> #N/A | AT14: =IF(AS14="",150,VLOOKUP(AS14,$AP$3:$AR$31,2,FALSE)) -> #N/A | AU14: =IF(AS14="",1,VLOOKUP(AS14,$AP$3:$AR$31,3,FALSE)) -> #N/A | AV14: D(60)= | AW14: =0.6-AY9 -> 0.6 | AX14: =AX8-AX9 -> 0.075 | AY14: =AY8-AY9 -> 1
A15: 2.00" | B15: 50 | D15: =IF(ISERROR(R7),"",R7) | E15: =IF(ISERROR(S7),"",IF(S7=0,"",S7)) | F15: =IF(ISERROR(AB7),"",AB7) -> 1 | G15: =IF($AB$1=1, "",AC7) | H15: =IF($AB$1=1, "",AD7) | K15: Input an "x" | M15: 13 | N15: =IF(AF15="","",AF15) -> 13 | O15: =A23 -> 1/2" | P15: =B23 -> 12.5 | Q15: =IF(C23="","",C23) | R15: =IF(Q15="","",IF(Coarse_Cummalitive="x",Q15/Total_Weight,SUM(Q$3:Q15)/Total_Weight)) | S15: =IF(R15="","",1-R15) | T15: =IF(AND(Q15="",SUM($R$3:S15)>0),S16+((S14-S16)*(P15-P16)/(P14-P16)),S15) | U15: =TYPE(T15) -> 2 | V15: =IF(OR(U15=1,U15=2),"",P15) | W15: =IF(V15="",IF(OR(AND(U16=16,U14<16),AND(U16<16,U14=16),AND(U16=16,U14=16)),P15,""),"") | X15: =IF(W15="","",S15) | Y15: =IF(V15="","",MIN($X$3:X15)-MAX(X16:$X$31)) | Z15: =IF(V15="","",MIN($W$3:W15)-MAX(W16:$W$31)) | AA15: =IF(V15="","",(V15-MAX(W16:$W$31))/Z15*Y15+MAX(X16:$X$31)) | AB15: =IF(AA15="",IF(T15="",1,T15),AA15) -> 1 | AC15: =IF(VLOOKUP($AC$1,Specs!$F$3:$AI$398,14,FALSE)="","",VLOOKUP($AC$1,Specs!$F$3:$AI$398,14,FALSE)) -> 1 | AD15: =IF(VLOOKUP($AC$2,Specs!$F$3:$AI$398,14,FALSE)="","",VLOOKUP($AC$2,Specs!$F$3:$AI$398,14,FALSE)) -> 0 | AE15: =IF(AC15="","",IF(AND(AB15<=AC15,AB15>=AD15),1,2)) -> 1 | AF15: =IF(AE15="","",MAX($AF$3:AF14)+1) -> 13 | AG15: =IF(MIN($AG$3:AG14)-1<=0,"",AG14-1) -> 17 | AH15: =IF(AG15="",200,VLOOKUP(AG15,$N$3:$AD$31,3,FALSE)) -> 2.36 | AI15: =IF(AG15="",1,VLOOKUP(AG15,$N$3:$AD$31,16,FALSE)) -> 1 | AJ15: =IF(AG15="",1,VLOOKUP(AG15,$N$3:$AD$31,17,FALSE)) -> 0 | AK15: 1 | AL15: 13 | AM15: =P19 -> 2.36 | AN15: =AB19 -> 1 | AO15: =1-AN15 -> 0 | AP15: =IF(AR15="","",MAX($AP$3:AP14)+1) | AQ15: =P15 -> 12.5 | AR15: =S15 | AS15: =IF(MIN($AS$3:AS14)-1<=0,"",AS14-1) -> #N/A | AT15: =IF(AS15="",150,VLOOKUP(AS15,$AP$3:$AR$31,2,FALSE)) -> #N/A | AU15: =IF(AS15="",1,VLOOKUP(AS15,$AP$3:$AR$31,3,FALSE)) -> #N/A | AW15: D(10)= | AX15: =IF(AW12=0,AX7,AX5+(AX12*AW12/AY12)) -> 0.0075 | AY15: mm
A16: 1.75" | B16: 45 | D16: =IF(ISERROR(R8),"",R8) | E16: =IF(ISERROR(S8),"",IF(S8=0,"",S8)) | F16: =IF(ISERROR(AB8),"",AB8) -> 1 | G16: =IF($AB$1=1, "",AC8) | H16: =IF($AB$1=1, "",AD8) | J16: Visual Classification | K16: if applicable | M16: 14 | N16: =IF(AF16="","",AF16) -> 14 | O16: =A24 -> 3/8" | P16: =B24 -> 9.5 | Q16: =IF(C24="","",C24) | R16: =IF(Q16="","",IF(Coarse_Cummalitive="x",Q16/Total_Weight,SUM(Q$3:Q16)/Total_Weight)) | S16: =IF(R16="","",1-R16) | T16: =IF(AND(Q16="",SUM($R$3:S16)>0),S17+((S15-S17)*(P16-P17)/(P15-P17)),S16) | U16: =TYPE(T16) -> 2 | V16: =IF(OR(U16=1,U16=2),"",P16) | W16: =IF(V16="",IF(OR(AND(U17=16,U15<16),AND(U17<16,U15=16),AND(U17=16,U15=16)),P16,""),"") | X16: =IF(W16="","",S16) | Y16: =IF(V16="","",MIN($X$3:X16)-MAX(X17:$X$31)) | Z16: =IF(V16="","",MIN($W$3:W16)-MAX(W17:$W$31)) | AA16: =IF(V16="","",(V16-MAX(W17:$W$31))/Z16*Y16+MAX(X17:$X$31)) | AB16: =IF(AA16="",IF(T16="",1,T16),AA16) -> 1 | AC16: =IF(VLOOKUP($AC$1,Specs!$F$3:$AI$398,15,FALSE)="","",VLOOKUP($AC$1,Specs!$F$3:$AI$398,15,FALSE)) -> 1 | AD16: =IF(VLOOKUP($AC$2,Specs!$F$3:$AI$398,15,FALSE)="","",VLOOKUP($AC$2,Specs!$F$3:$AI$398,15,FALSE)) -> 0 | AE16: =IF(AC16="","",IF(AND(AB16<=AC16,AB16>=AD16),1,2)) -> 1 | AF16: =IF(AE16="","",MAX($AF$3:AF15)+1) -> 14 | AG16: =IF(MIN($AG$3:AG15)-1<=0,"",AG15-1) -> 16 | AH16: =IF(AG16="",200,VLOOKUP(AG16,$N$3:$AD$31,3,FALSE)) -> 4.75 | AI16: =IF(AG16="",1,VLOOKUP(AG16,$N$3:$AD$31,16,FALSE)) -> 1 | AJ16: =IF(AG16="",1,VLOOKUP(AG16,$N$3:$AD$31,17,FALSE)) -> 0 | AK16: 1 | AL16: 14 | AM16: =P18 -> 4.75 | AN16: =AB18 -> 1 | AO16: =1-AN16 -> 0 | AP16: =IF(AR16="","",MAX($AP$3:AP15)+1) | AQ16: =P16 -> 9.5 | AR16: =S16 | AS16: =IF(MIN($AS$3:AS15)-1<=0,"",AS15-1) -> #N/A | AT16: =IF(AS16="",150,VLOOKUP(AS16,$AP$3:$AR$31,2,FALSE)) -> #N/A | AU16: =IF(AS16="",1,VLOOKUP(AS16,$AP$3:$AR$31,3,FALSE)) -> #N/A | AW16: D(30)= | AX16: =IF(AW13=0,AX8,AX7+(AX13*AW13/AY13)) -> 0.0225 | AY16: mm
A17: 1.50" | B17: 37.5 | D17: =IF(ISERROR(R9),"",R9) | E17: =IF(ISERROR(S9),"",IF(S9=0,"",S9)) | F17: =IF(ISERROR(AB9),"",AB9) -> 1 | G17: =IF($AB$1=1, "",AC9) | H17: =IF($AB$1=1, "",AD9) | J17: Sample is an Organic Soils: | M17: 15 | N17: =IF(AF17="","",AF17) -> 15 | O17: =A25 -> 1/4" | P17: =B25 -> 6.3 | Q17: =IF(C25="","",C25) | R17: =IF(Q17="","",IF(Coarse_Cummalitive="x",Q17/Total_Weight,SUM(Q$3:Q17)/Total_Weight)) | S17: =IF(R17="","",1-R17) | T17: =IF(AND(Q17="",SUM($R$3:S17)>0),S18+((S16-S18)*(P17-P18)/(P16-P18)),S17) | U17: =TYPE(T17) -> 2 | V17: =IF(OR(U17=1,U17=2),"",P17) | W17: =IF(V17="",IF(OR(AND(U18=16,U16<16),AND(U18<16,U16=16),AND(U18=16,U16=16)),P17,""),"") | X17: =IF(W17="","",S17) | Y17: =IF(V17="","",MIN($X$3:X17)-MAX(X18:$X$31)) | Z17: =IF(V17="","",MIN($W$3:W17)-MAX(W18:$W$31)) | AA17: =IF(V17="","",(V17-MAX(W18:$W$31))/Z17*Y17+MAX(X18:$X$31)) | AB17: =IF(AA17="",IF(T17="",1,T17),AA17) -> 1 | AC17: =IF(VLOOKUP($AC$1,Specs!$F$3:$AI$398,16,FALSE)="","",VLOOKUP($AC$1,Specs!$F$3:$AI$398,16,FALSE)) -> 1 | AD17: =IF(VLOOKUP($AC$2,Specs!$F$3:$AI$398,16,FALSE)="","",VLOOKUP($AC$2,Specs!$F$3:$AI$398,16,FALSE)) -> 0 | AE17: =IF(AC17="","",IF(AND(AB17<=AC17,AB17>=AD17),1,2)) -> 1 | AF17: =IF(AE17="","",MAX($AF$3:AF16)+1) -> 15 | AG17: =IF(MIN($AG$3:AG16)-1<=0,"",AG16-1) -> 15 | AH17: =IF(AG17="",200,VLOOKUP(AG17,$N$3:$AD$31,3,FALSE)) -> 6.3 | AI17: =IF(AG17="",1,VLOOKUP(AG17,$N$3:$AD$31,16,FALSE)) -> 1 | AJ17: =IF(AG17="",1,VLOOKUP(AG17,$N$3:$AD$31,17,FALSE)) -> 0 | AK17: 1 | AL17: 15 | AM17: =P17 -> 6.3 | AN17: =AB17 -> 1 | AO17: =1-AN17 -> 0 | AP17: =IF(AR17="","",MAX($AP$3:AP16)+1) | AQ17: =P17 -> 6.3 | AR17: =S17 | AS17: =IF(MIN($AS$3:AS16)-1<=0,"",AS16-1) -> #N/A | AT17: =IF(AS17="",150,VLOOKUP(AS17,$AP$3:$AR$31,2,FALSE)) -> #N/A | AU17: =IF(AS17="",1,VLOOKUP(AS17,$AP$3:$AR$31,3,FALSE)) -> #N/A | AW17: D(60)= | AX17: =IF(AW14=0,AX9,AX9+(AX14*AW14/AY14)) -> 0.045 | AY17: mm
A18: 1.25" | B18: 31.5 | D18: =IF(ISERROR(R10),"",R10) | E18: =IF(ISERROR(S10),"",IF(S10=0,"",S10)) | F18: =IF(ISERROR(AB10),"",AB10) -> 1 | G18: =IF($AB$1=1, "",AC10) | H18: =IF($AB$1=1, "",AD10) | J18: Sample contains Silt: | M18: 16 | N18: =IF(AF18="","",AF18) -> 16 | O18: =A26 -> #4 | P18: =B26 -> 4.75 | Q18: =IF(C26="","",C26) | R18: =IF(Q18="","",IF(Coarse_Cummalitive="x",Q18/Total_Weight,SUM(Q$3:Q18)/Total_Weight)) | S18: =IF(R18="","",1-R18) | T18: =IF(AND(Q18="",SUM($R$3:S18)>0),S19+((S17-S19)*(P18-P19)/(P17-P19)),S18) | U18: =TYPE(T18) -> 2 | V18: =IF(OR(U18=1,U18=2),"",P18) | W18: =IF(V18="",IF(OR(AND(U19=16,U17<16),AND(U19<16,U17=16),AND(U19=16,U17=16)),P18,""),"") | X18: =IF(W18="","",S18) | Y18: =IF(V18="","",MIN($X$3:X18)-MAX(X19:$X$31)) | Z18: =IF(V18="","",MIN($W$3:W18)-MAX(W19:$W$31)) | AA18: =IF(V18="","",(V18-MAX(W19:$W$31))/Z18*Y18+MAX(X19:$X$31)) | AB18: =IF(AA18="",IF(T18="",1,T18),AA18) -> 1 | AC18: =IF(VLOOKUP($AC$1,Specs!$F$3:$AI$398,17,FALSE)="","",VLOOKUP($AC$1,Specs!$F$3:$AI$398,17,FALSE)) -> 1 | AD18: =IF(VLOOKUP($AC$2,Specs!$F$3:$AI$398,17,FALSE)="","",VLOOKUP($AC$2,Specs!$F$3:$AI$398,17,FALSE)) -> 0 | AE18: =IF(AC18="","",IF(AND(AB18<=AC18,AB18>=AD18),1,2)) -> 1 | AF18: =IF(AE18="","",MAX($AF$3:AF17)+1) -> 16 | AG18: =IF(MIN($AG$3:AG17)-1<=0,"",AG17-1) -> 14 | AH18: =IF(AG18="",200,VLOOKUP(AG18,$N$3:$AD$31,3,FALSE)) -> 9.5 | AI18: =IF(AG18="",1,VLOOKUP(AG18,$N$3:$AD$31,16,FALSE)) -> 1 | AJ18: =IF(AG18="",1,VLOOKUP(AG18,$N$3:$AD$31,17,FALSE)) -> 0 | AK18: 1 | AL18: 16 | AM18: =P16 -> 9.5 | AN18: =AB16 -> 1 | AO18: =1-AN18 -> 0 | AP18: =IF(AR18="","",MAX($AP$3:AP17)+1) | AQ18: =P18 -> 4.75 | AR18: =S18 | AS18: =IF(MIN($AS$3:AS17)-1<=0,"",AS17-1) -> #N/A | AT18: =IF(AS18="",150,VLOOKUP(AS18,$AP$3:$AR$31,2,FALSE)) -> #N/A | AU18: =IF(AS18="",1,VLOOKUP(AS18,$AP$3:$AR$31,3,FALSE)) -> #N/A
A19: 1.00" | B19: 25 | D19: =IF(ISERROR(R11),"",R11) | E19: =IF(ISERROR(S11),"",IF(S11=0,"",S11)) | F19: =IF(ISERROR(AB11),"",AB11) -> 1 | G19: =IF($AB$1=1, "",AC11) | H19: =IF($AB$1=1, "",AD11) | J19: Sample contains Clay: | M19: 17 | N19: =IF(AF19="","",AF19) -> 17 | O19: =A37 -> #8 | P19: =B37 -> 2.36 | Q19: =IF(C37="","",C37) | R19: =IF(Q19="","",IF(Split="x",IF(Fines_Cumulative="x",Q19/Split_Weight,SUM($Q$19:Q19)/Split_Weight+Split_Percent),IF(Fines_Cumulative="x",Q19/Split_Weight*(1-Split_Percent)+Split_Percent,SUM($Q$19:Q19)/Split_Weight*(1-Split_Percent)+Split_Percent))) | S19: =IF(R19="","",1-R19) | T19: =IF(AND(Q19="",SUM($R$3:S19)>0),S20+((S18-S20)*(P19-P20)/(P18-P20)),S19) | U19: =TYPE(T19) -> 2 | V19: =IF(OR(U19=1,U19=2),"",P19) | W19: =IF(V19="",IF(OR(AND(U20=16,U18<16),AND(U20<16,U18=16),AND(U20=16,U18=16)),P19,""),"") | X19: =IF(W19="","",S19) | Y19: =IF(V19="","",MIN($X$3:X19)-MAX(X20:$X$31)) | Z19: =IF(V19="","",MIN($W$3:W19)-MAX(W20:$W$31)) | AA19: =IF(V19="","",(V19-MAX(W20:$W$31))/Z19*Y19+MAX(X20:$X$31)) | AB19: =IF(AA19="",IF(T19="",1,T19),AA19) -> 1 | AC19: =IF(VLOOKUP($AC$1,Specs!$F$3:$AI$398,18,FALSE)="","",VLOOKUP($AC$1,Specs!$F$3:$AI$398,18,FALSE)) -> 1 | AD19: =IF(VLOOKUP($AC$2,Specs!$F$3:$AI$398,18,FALSE)="","",VLOOKUP($AC$2,Specs!$F$3:$AI$398,18,FALSE)) -> 0 | AE19: =IF(AC19="","",IF(AND(AB19<=AC19,AB19>=AD19),1,2)) -> 1 | AF19: =IF(AE19="","",MAX($AF$3:AF18)+1) -> 17 | AG19: =IF(MIN($AG$3:AG18)-1<=0,"",AG18-1) -> 13 | AH19: =IF(AG19="",200,VLOOKUP(AG19,$N$3:$AD$31,3,FALSE)) -> 12.5 | AI19: =IF(AG19="",1,VLOOKUP(AG19,$N$3:$AD$31,16,FALSE)) -> 1 | AJ19: =IF(AG19="",1,VLOOKUP(AG19,$N$3:$AD$31,17,FALSE)) -> 0 | AK19: 1 | AL19: 17 | AM19: =P15 -> 12.5 | AN19: =AB15 -> 1 | AO19: =1-AN19 -> 0 | AP19: =IF(AR19="","",MAX($AP$3:AP18)+1) | AQ19: =P19 -> 2.36 | AR19: =S19 | AS19: =IF(MIN($AS$3:AS18)-1<=0,"",AS18-1) -> #N/A | AT19: =IF(AS19="",150,VLOOKUP(AS19,$AP$3:$AR$31,2,FALSE)) -> #N/A | AU19: =IF(AS19="",1,VLOOKUP(AS19,$AP$3:$AR$31,3,FALSE)) -> #N/A
A20: 7/8" | B20: 22.4 | D20: =IF(ISERROR(R12),"",R12) | E20: =IF(ISERROR(S12),"",IF(S12=0,"",S12)) | F20: =IF(ISERROR(AB12),"",AB12) -> 1 | G20: =IF($AB$1=1, "",AC12) | H20: =IF($AB$1=1, "",AD12) | J20: Sample is Crushed: | M20: 18 | N20: =IF(AF20="","",AF20) -> 18 | O20: =A38 -> #10 | P20: =B38 -> 2 | Q20: =IF(C38="","",C38) | R20: =IF(Q20="","",IF(Split="x",IF(Fines_Cumulative="x",Q20/Split_Weight,SUM($Q$19:Q20)/Split_Weight+Split_Percent),IF(Fines_Cumulative="x",Q20/Split_Weight*(1-Split_Percent)+Split_Percent,SUM($Q$19:Q20)/Split_Weight*(1-Split_Percent)+Split_Percent))) | S20: =IF(R20="","",1-R20) | T20: =IF(AND(Q20="",SUM($R$3:S20)>0),S21+((S19-S21)*(P20-P21)/(P19-P21)),S20) | U20: =TYPE(T20) -> 2 | V20: =IF(OR(U20=1,U20=2),"",P20) | W20: =IF(V20="",IF(OR(AND(U21=16,U19<16),AND(U21<16,U19=16),AND(U21=16,U19=16)),P20,""),"") | X20: =IF(W20="","",S20) | Y20: =IF(V20="","",MIN($X$3:X20)-MAX(X21:$X$31)) | Z20: =IF(V20="","",MIN($W$3:W20)-MAX(W21:$W$31)) | AA20: =IF(V20="","",(V20-MAX(W21:$W$31))/Z20*Y20+MAX(X21:$X$31)) | AB20: =IF(AA20="",IF(T20="",1,T20),AA20) -> 1 | AC20: =IF(VLOOKUP($AC$1,Specs!$F$3:$AI$398,19,FALSE)="","",VLOOKUP($AC$1,Specs!$F$3:$AI$398,19,FALSE)) -> 1 | AD20: =IF(VLOOKUP($AC$2,Specs!$F$3:$AI$398,19,FALSE)="","",VLOOKUP($AC$2,Specs!$F$3:$AI$398,19,FALSE)) -> 0 | AE20: =IF(AC20="","",IF(AND(AB20<=AC20,AB20>=AD20),1,2)) -> 1 | AF20: =IF(AE20="","",MAX($AF$3:AF19)+1) -> 18 | AG20: =IF(MIN($AG$3:AG19)-1<=0,"",AG19-1) -> 12 | AH20: =IF(AG20="",200,VLOOKUP(AG20,$N$3:$AD$31,3,FALSE)) -> 16 | AI20: =IF(AG20="",1,VLOOKUP(AG20,$N$3:$AD$31,16,FALSE)) -> 1 | AJ20: =IF(AG20="",1,VLOOKUP(AG20,$N$3:$AD$31,17,FALSE)) -> 0 | AK20: 1 | AL20: 18 | AM20: =P14 -> 16 | AN20: =AB14 -> 1 | AO20: =1-AN20 -> 0 | AP20: =IF(AR20="","",MAX($AP$3:AP19)+1) | AQ20: =P20 -> 2 | AR20: =S20 | AS20: =IF(MIN($AS$3:AS19)-1<=0,"",AS19-1) -> #N/A | AT20: =IF(AS20="",150,VLOOKUP(AS20,$AP$3:$AR$31,2,FALSE)) -> #N/A | AU20: =IF(AS20="",1,VLOOKUP(AS20,$AP$3:$AR$31,3,FALSE)) -> #N/A
A21: 3/4" | B21: 19 | D21: =IF(ISERROR(R13),"",R13) | E21: =IF(ISERROR(S13),"",IF(S13=0,"",S13)) | F21: =IF(ISERROR(AB13),"",AB13) -> 1 | G21: =IF($AB$1=1, "",AC13) | H21: =IF($AB$1=1, "",AD13) | M21: 19 | N21: =IF(AF21="","",AF21) -> 19 | O21: =A39 -> #16 | P21: =B39 -> 1.18 | Q21: =IF(C39="","",C39) | R21: =IF(Q21="","",IF(Split="x",IF(Fines_Cumulative="x",Q21/Split_Weight,SUM($Q$19:Q21)/Split_Weight+Split_Percent),IF(Fines_Cumulative="x",Q21/Split_Weight*(1-Split_Percent)+Split_Percent,SUM($Q$19:Q21)/Split_Weight*(1-Split_Percent)+Split_Percent))) | S21: =IF(R21="","",1-R21) | T21: =IF(AND(Q21="",SUM($R$3:S21)>0),S22+((S20-S22)*(P21-P22)/(P20-P22)),S21) | U21: =TYPE(T21) -> 2 | V21: =IF(OR(U21=1,U21=2),"",P21) | W21: =IF(V21="",IF(OR(AND(U22=16,U20<16),AND(U22<16,U20=16),AND(U22=16,U20=16)),P21,""),"") | X21: =IF(W21="","",S21) | Y21: =IF(V21="","",MIN($X$3:X21)-MAX(X22:$X$31)) | Z21: =IF(V21="","",MIN($W$3:W21)-MAX(W22:$W$31)) | AA21: =IF(V21="","",(V21-MAX(W22:$W$31))/Z21*Y21+MAX(X22:$X$31)) | AB21: =IF(AA21="",IF(T21="",1,T21),AA21) -> 1 | AC21: =IF(VLOOKUP($AC$1,Specs!$F$3:$AI$398,20,FALSE)="","",VLOOKUP($AC$1,Specs!$F$3:$AI$398,20,FALSE)) -> 1 | AD21: =IF(VLOOKUP($AC$2,Specs!$F$3:$AI$398,20,FALSE)="","",VLOOKUP($AC$2,Specs!$F$3:$AI$398,20,FALSE)) -> 0 | AE21: =IF(AC21="","",IF(AND(AB21<=AC21,AB21>=AD21),1,2)) -> 1 | AF21: =IF(AE21="","",MAX($AF$3:AF20)+1) -> 19 | AG21: =IF(MIN($AG$3:AG20)-1<=0,"",AG20-1) -> 11 | AH21: =IF(AG21="",200,VLOOKUP(AG21,$N$3:$AD$31,3,FALSE)) -> 19 | AI21: =IF(AG21="",1,VLOOKUP(AG21,$N$3:$AD$31,16,FALSE)) -> 1 | AJ21: =IF(AG21="",1,VLOOKUP(AG21,$N$3:$AD$31,17,FALSE)) -> 0 | AK21: 1 | AL21: 19 | AM21: =P13 -> 19 | AN21: =AB13 -> 1 | AO21: =1-AN21 -> 0 | AP21: =IF(AR21="","",MAX($AP$3:AP20)+1) | AQ21: =P21 -> 1.18 | AR21: =S21 | AS21: =IF(MIN($AS$3:AS20)-1<=0,"",AS20-1) -> #N/A | AT21: =IF(AS21="",150,VLOOKUP(AS21,$AP$3:$AR$31,2,FALSE)) -> #N/A | AU21: =IF(AS21="",1,VLOOKUP(AS21,$AP$3:$AR$31,3,FALSE)) -> #N/A
A22: 5/8" | B22: 16 | D22: =IF(ISERROR(R14),"",R14) | E22: =IF(ISERROR(S14),"",IF(S14=0,"",S14)) | F22: =IF(ISERROR(AB14),"",AB14) -> 1 | G22: =IF($AB$1=1, "",AC14) | H22: =IF($AB$1=1, "",AD14) | I22: =IF(AND(Silt_Clay>=0.5,K24=""),"Need Atterberg Limits to classify sample!","") | M22: 20 | N22: =IF(AF22="","",AF22) -> 20 | O22: =A40 -> #20 | P22: =B40 -> 0.85 | Q22: =IF(C40="","",C40) | R22: =IF(Q22="","",IF(Split="x",IF(Fines_Cumulative="x",Q22/Split_Weight,SUM($Q$19:Q22)/Split_Weight+Split_Percent),IF(Fines_Cumulative="x",Q22/Split_Weight*(1-Split_Percent)+Split_Percent,SUM($Q$19:Q22)/Split_Weight*(1-Split_Percent)+Split_Percent))) | S22: =IF(R22="","",1-R22) | T22: =IF(AND(Q22="",SUM($R$3:S22)>0),S23+((S21-S23)*(P22-P23)/(P21-P23)),S22) | U22: =TYPE(T22) -> 2 | V22: =IF(OR(U22=1,U22=2),"",P22) | W22: =IF(V22="",IF(OR(AND(U23=16,U21<16),AND(U23<16,U21=16),AND(U23=16,U21=16)),P22,""),"") | X22: =IF(W22="","",S22) | Y22: =IF(V22="","",MIN($X$3:X22)-MAX(X23:$X$31)) | Z22: =IF(V22="","",MIN($W$3:W22)-MAX(W23:$W$31)) | AA22: =IF(V22="","",(V22-MAX(W23:$W$31))/Z22*Y22+MAX(X23:$X$31)) | AB22: =IF(AA22="",IF(T22="",1,T22),AA22) -> 1 | AC22: =IF(VLOOKUP($AC$1,Specs!$F$3:$AI$398,21,FALSE)="","",VLOOKUP($AC$1,Specs!$F$3:$AI$398,21,FALSE)) -> 1 | AD22: =IF(VLOOKUP($AC$2,Specs!$F$3:$AI$398,21,FALSE)="","",VLOOKUP($AC$2,Specs!$F$3:$AI$398,21,FALSE)) -> 0 | AE22: =IF(AC22="","",IF(AND(AB22<=AC22,AB22>=AD22),1,2)) -> 1 | AF22: =IF(AE22="","",MAX($AF$3:AF21)+1) -> 20 | AG22: =IF(MIN($AG$3:AG21)-1<=0,"",AG21-1) -> 10 | AH22: =IF(AG22="",200,VLOOKUP(AG22,$N$3:$AD$31,3,FALSE)) -> 22.4 | AI22: =IF(AG22="",1,VLOOKUP(AG22,$N$3:$AD$31,16,FALSE)) -> 1 | AJ22: =IF(AG22="",1,VLOOKUP(AG22,$N$3:$AD$31,17,FALSE)) -> 0 | AK22: 1 | AL22: 20 | AM22: =P12 -> 22.4 | AN22: =AB12 -> 1 | AO22: =1-AN22 -> 0 | AP22: =IF(AR22="","",MAX($AP$3:AP21)+1) | AQ22: =P22 -> 0.85 | AR22: =S22 | AS22: =IF(MIN($AS$3:AS21)-1<=0,"",AS21-1) -> #N/A | AT22: =IF(AS22="",150,VLOOKUP(AS22,$AP$3:$AR$31,2,FALSE)) -> #N/A | AU22: =IF(AS22="",1,VLOOKUP(AS22,$AP$3:$AR$31,3,FALSE)) -> #N/A
A23: 1/2" | B23: 12.5 | D23: =IF(ISERROR(R15),"",R15) | E23: =IF(ISERROR(S15),"",IF(S15=0,"",S15)) | F23: =IF(ISERROR(AB15),"",AB15) -> 1 | G23: =IF($AB$1=1, "",AC15) | H23: =IF($AB$1=1, "",AD15) | J23: Atterberg Limits | M23: 21 | N23: =IF(AF23="","",AF23) -> 21 | O23: =A41 -> #30 | P23: =B41 -> 0.6 | Q23: =IF(C41="","",C41) | R23: =IF(Q23="","",IF(Split="x",IF(Fines_Cumulative="x",Q23/Split_Weight,SUM($Q$19:Q23)/Split_Weight+Split_Percent),IF(Fines_Cumulative="x",Q23/Split_Weight*(1-Split_Percent)+Split_Percent,SUM($Q$19:Q23)/Split_Weight*(1-Split_Percent)+Split_Percent))) | S23: =IF(R23="","",1-R23) | T23: =IF(AND(Q23="",SUM($R$3:S23)>0),S24+((S22-S24)*(P23-P24)/(P22-P24)),S23) | U23: =TYPE(T23) -> 2 | V23: =IF(OR(U23=1,U23=2),"",P23) | W23: =IF(V23="",IF(OR(AND(U24=16,U22<16),AND(U24<16,U22=16),AND(U24=16,U22=16)),P23,""),"") | X23: =IF(W23="","",S23) | Y23: =IF(V23="","",MIN($X$3:X23)-MAX(X24:$X$31)) | Z23: =IF(V23="","",MIN($W$3:W23)-MAX(W24:$W$31)) | AA23: =IF(V23="","",(V23-MAX(W24:$W$31))/Z23*Y23+MAX(X24:$X$31)) | AB23: =IF(AA23="",IF(T23="",1,T23),AA23) -> 1 | AC23: =IF(VLOOKUP($AC$1,Specs!$F$3:$AI$398,22,FALSE)="","",VLOOKUP($AC$1,Specs!$F$3:$AI$398,22,FALSE)) -> 1 | AD23: =IF(VLOOKUP($AC$2,Specs!$F$3:$AI$398,22,FALSE)="","",VLOOKUP($AC$2,Specs!$F$3:$AI$398,22,FALSE)) -> 0 | AE23: =IF(AC23="","",IF(AND(AB23<=AC23,AB23>=AD23),1,2)) -> 1 | AF23: =IF(AE23="","",MAX($AF$3:AF22)+1) -> 21 | AG23: =IF(MIN($AG$3:AG22)-1<=0,"",AG22-1) -> 9 | AH23: =IF(AG23="",200,VLOOKUP(AG23,$N$3:$AD$31,3,FALSE)) -> 25 | AI23: =IF(AG23="",1,VLOOKUP(AG23,$N$3:$AD$31,16,FALSE)) -> 1 | AJ23: =IF(AG23="",1,VLOOKUP(AG23,$N$3:$AD$31,17,FALSE)) -> 0 | AK23: 1 | AL23: 21 | AM23: =P11 -> 25 | AN23: =AB11 -> 1 | AO23: =1-AN23 -> 0 | AP23: =IF(AR23="","",MAX($AP$3:AP22)+1) | AQ23: =P23 -> 0.6 | AR23: =S23 | AS23: =IF(MIN($AS$3:AS22)-1<=0,"",AS22-1) -> #N/A | AT23: =IF(AS23="",150,VLOOKUP(AS23,$AP$3:$AR$31,2,FALSE)) -> #N/A | AU23: =IF(AS23="",1,VLOOKUP(AS23,$AP$3:$AR$31,3,FALSE)) -> #N/A
A24: 3/8" | B24: 9.5 | D24: =IF(ISERROR(R16),"",R16) | E24: =IF(ISERROR(S16),"",IF(S16=0,"",S16)) | F24: =IF(ISERROR(AB16),"",AB16) -> 1 | G24: =IF($AB$1=1, "",AC16) | H24: =IF($AB$1=1, "",AD16) | J24: Non-Plastic: | K24: x | M24: 22 | N24: =IF(AF24="","",AF24) -> 22 | O24: =A42 -> #40 | P24: =B42 -> 0.425 | Q24: =IF(C42="","",C42) | R24: =IF(Q24="","",IF(Split="x",IF(Fines_Cumulative="x",Q24/Split_Weight,SUM($Q$19:Q24)/Split_Weight+Split_Percent),IF(Fines_Cumulative="x",Q24/Split_Weight*(1-Split_Percent)+Split_Percent,SUM($Q$19:Q24)/Split_Weight*(1-Split_Percent)+Split_Percent))) | S24: =IF(R24="","",1-R24) | T24: =IF(AND(Q24="",SUM($R$3:S24)>0),S25+((S23-S25)*(P24-P25)/(P23-P25)),S24) | U24: =TYPE(T24) -> 2 | V24: =IF(OR(U24=1,U24=2),"",P24) | W24: =IF(V24="",IF(OR(AND(U25=16,U23<16),AND(U25<16,U23=16),AND(U25=16,U23=16)),P24,""),"") | X24: =IF(W24="","",S24) | Y24: =IF(V24="","",MIN($X$3:X24)-MAX(X25:$X$31)) | Z24: =IF(V24="","",MIN($W$3:W24)-MAX(W25:$W$31)) | AA24: =IF(V24="","",(V24-MAX(W25:$W$31))/Z24*Y24+MAX(X25:$X$31)) | AB24: =IF(AA24="",IF(T24="",1,T24),AA24) -> 1 | AC24: =IF(VLOOKUP($AC$1,Specs!$F$3:$AI$398,23,FALSE)="","",VLOOKUP($AC$1,Specs!$F$3:$AI$398,23,FALSE)) -> 1 | AD24: =IF(VLOOKUP($AC$2,Specs!$F$3:$AI$398,23,FALSE)="","",VLOOKUP($AC$2,Specs!$F$3:$AI$398,23,FALSE)) -> 0 | AE24: =IF(AC24="","",IF(AND(AB24<=AC24,AB24>=AD24),1,2)) -> 1 | AF24: =IF(AE24="","",MAX($AF$3:AF23)+1) -> 22 | AG24: =IF(MIN($AG$3:AG23)-1<=0,"",AG23-1) -> 8 | AH24: =IF(AG24="",200,VLOOKUP(AG24,$N$3:$AD$31,3,FALSE)) -> 31.5 | AI24: =IF(AG24="",1,VLOOKUP(AG24,$N$3:$AD$31,16,FALSE)) -> 1 | AJ24: =IF(AG24="",1,VLOOKUP(AG24,$N$3:$AD$31,17,FALSE)) -> 0 | AK24: 1 | AL24: 22 | AM24: =P10 -> 31.5 | AN24: =AB10 -> 1 | AO24: =1-AN24 -> 0 | AP24: =IF(AR24="","",MAX($AP$3:AP23)+1) | AQ24: =P24 -> 0.425 | AR24: =S24 | AS24: =IF(MIN($AS$3:AS23)-1<=0,"",AS23-1) -> #N/A | AT24: =IF(AS24="",150,VLOOKUP(AS24,$AP$3:$AR$31,2,FALSE)) -> #N/A | AU24: =IF(AS24="",1,VLOOKUP(AS24,$AP$3:$AR$31,3,FALSE)) -> #N/A
A25: 1/4" | B25: 6.3 | D25: =IF(ISERROR(R17),"",R17) | E25: =IF(ISERROR(S17),"",IF(S17=0,"",S17)) | F25: =IF(ISERROR(AB17),"",AB17) -> 1 | G25: =IF($AB$1=1, "",AC17) | H25: =IF($AB$1=1, "",AD17) | J25: Liquid Limit, Oven Dried: | K25: =IF('Atterberg Limits'!D19="N/A",IF($K$24="x",0,"n/a"),'Atterberg Limits'!D19) -> 0 | M25: 23 | N25: =IF(AF25="","",AF25) -> 23 | O25: =A43 -> #50 | P25: =B43 -> 0.3 | Q25: =IF(C43="","",C43) | R25: =IF(Q25="","",IF(Split="x",IF(Fines_Cumulative="x",Q25/Split_Weight,SUM($Q$19:Q25)/Split_Weight+Split_Percent),IF(Fines_Cumulative="x",Q25/Split_Weight*(1-Split_Percent)+Split_Percent,SUM($Q$19:Q25)/Split_Weight*(1-Split_Percent)+Split_Percent))) | S25: =IF(R25="","",1-R25) | T25: =IF(AND(Q25="",SUM($R$3:S25)>0),S26+((S24-S26)*(P25-P26)/(P24-P26)),S25) | U25: =TYPE(T25) -> 2 | V25: =IF(OR(U25=1,U25=2),"",P25) | W25: =IF(V25="",IF(OR(AND(U26=16,U24<16),AND(U26<16,U24=16),AND(U26=16,U24=16)),P25,""),"") | X25: =IF(W25="","",S25) | Y25: =IF(V25="","",MIN($X$3:X25)-MAX(X26:$X$31)) | Z25: =IF(V25="","",MIN($W$3:W25)-MAX(W26:$W$31)) | AA25: =IF(V25="","",(V25-MAX(W26:$W$31))/Z25*Y25+MAX(X26:$X$31)) | AB25: =IF(AA25="",IF(T25="",1,T25),AA25) -> 1 | AC25: =IF(VLOOKUP($AC$1,Specs!$F$3:$AI$398,24,FALSE)="","",VLOOKUP($AC$1,Specs!$F$3:$AI$398,24,FALSE)) -> 1 | AD25: =IF(VLOOKUP($AC$2,Specs!$F$3:$AI$398,24,FALSE)="","",VLOOKUP($AC$2,Specs!$F$3:$AI$398,24,FALSE)) -> 0 | AE25: =IF(AC25="","",IF(AND(AB25<=AC25,AB25>=AD25),1,2)) -> 1 | AF25: =IF(AE25="","",MAX($AF$3:AF24)+1) -> 23 | AG25: =IF(MIN($AG$3:AG24)-1<=0,"",AG24-1) -> 7 | AH25: =IF(AG25="",200,VLOOKUP(AG25,$N$3:$AD$31,3,FALSE)) -> 37.5 | AI25: =IF(AG25="",1,VLOOKUP(AG25,$N$3:$AD$31,16,FALSE)) -> 1 | AJ25: =IF(AG25="",1,VLOOKUP(AG25,$N$3:$AD$31,17,FALSE)) -> 0 | AK25: 1 | AL25: 23 | AM25: =P9 -> 37.5 | AN25: =AB9 -> 1 | AO25: =1-AN25 -> 0 | AP25: =IF(AR25="","",MAX($AP$3:AP24)+1) | AQ25: =P25 -> 0.3 | AR25: =S25 | AS25: =IF(MIN($AS$3:AS24)-1<=0,"",AS24-1) -> #N/A | AT25: =IF(AS25="",150,VLOOKUP(AS25,$AP$3:$AR$31,2,FALSE)) -> #N/A | AU25: =IF(AS25="",1,VLOOKUP(AS25,$AP$3:$AR$31,3,FALSE)) -> #N/A
A26: #4 | B26: 4.75 | D26: =IF(ISERROR(R18),"",R18) | E26: =IF(ISERROR(S18),"",IF(S18=0,"",S18)) | F26: =IF(ISERROR(AB18),"",AB18) -> 1 | G26: =IF($AB$1=1, "",AC18) | H26: =IF($AB$1=1, "",AD18) | J26: Liquid Limit, Not Dried: | K26: =IF('Atterberg Limits'!D19="N/A",IF($K$24="x",0,"n/a"),'Atterberg Limits'!D19) -> 0 | M26: 24 | N26: =IF(AF26="","",AF26) -> 24 | O26: =A44 -> #60 | P26: =B44 -> 0.25 | Q26: =IF(C44="","",C44) | R26: =IF(Q26="","",IF(Split="x",IF(Fines_Cumulative="x",Q26/Split_Weight,SUM($Q$19:Q26)/Split_Weight+Split_Percent),IF(Fines_Cumulative="x",Q26/Split_Weight*(1-Split_Percent)+Split_Percent,SUM($Q$19:Q26)/Split_Weight*(1-Split_Percent)+Split_Percent))) | S26: =IF(R26="","",1-R26) | T26: =IF(AND(Q26="",SUM($R$3:S26)>0),S27+((S25-S27)*(P26-P27)/(P25-P27)),S26) | U26: =TYPE(T26) -> 2 | V26: =IF(OR(U26=1,U26=2),"",P26) | W26: =IF(V26="",IF(OR(AND(U27=16,U25<16),AND(U27<16,U25=16),AND(U27=16,U25=16)),P26,""),"") | X26: =IF(W26="","",S26) | Y26: =IF(V26="","",MIN($X$3:X26)-MAX(X27:$X$31)) | Z26: =IF(V26="","",MIN($W$3:W26)-MAX(W27:$W$31)) | AA26: =IF(V26="","",(V26-MAX(W27:$W$31))/Z26*Y26+MAX(X27:$X$31)) | AB26: =IF(AA26="",IF(T26="",1,T26),AA26) -> 1 | AC26: =IF(VLOOKUP($AC$1,Specs!$F$3:$AI$398,25,FALSE)="","",VLOOKUP($AC$1,Specs!$F$3:$AI$398,25,FALSE)) -> 1 | AD26: =IF(VLOOKUP($AC$2,Specs!$F$3:$AI$398,25,FALSE)="","",VLOOKUP($AC$2,Specs!$F$3:$AI$398,25,FALSE)) -> 0 | AE26: =IF(AC26="","",IF(AND(AB26<=AC26,AB26>=AD26),1,2)) -> 1 | AF26: =IF(AE26="","",MAX($AF$3:AF25)+1) -> 24 | AG26: =IF(MIN($AG$3:AG25)-1<=0,"",AG25-1) -> 6 | AH26: =IF(AG26="",200,VLOOKUP(AG26,$N$3:$AD$31,3,FALSE)) -> 45 | AI26: =IF(AG26="",1,VLOOKUP(AG26,$N$3:$AD$31,16,FALSE)) -> 1 | AJ26: =IF(AG26="",1,VLOOKUP(AG26,$N$3:$AD$31,17,FALSE)) -> 0 | AK26: 1 | AL26: 24 | AM26: =P8 -> 45 | AN26: =AB8 -> 1 | AO26: =1-AN26 -> 0 | AP26: =IF(AR26="","",MAX($AP$3:AP25)+1) | AQ26: =P26 -> 0.25 | AR26: =S26 | AS26: =IF(MIN($AS$3:AS25)-1<=0,"",AS25-1) -> #N/A | AT26: =IF(AS26="",150,VLOOKUP(AS26,$AP$3:$AR$31,2,FALSE)) -> #N/A | AU26: =IF(AS26="",1,VLOOKUP(AS26,$AP$3:$AR$31,3,FALSE)) -> #N/A
B27: =IF(E3="x","Leave Blank","Pan Weight") -> Pan Weight | D27: =IF(ISERROR(T18),"",IF(T18=0,"",T18)) | J27: Plastic Limit: | K27: =IF('Atterberg Limits'!D20="N/A",IF($K$24="x",0,"n/a"),'Atterberg Limits'!D20) -> 0 | M27: 25 | N27: =IF(AF27="","",AF27) -> 25 | O27: =A45 -> #80 | P27: =B45 -> 0.18 | Q27: =IF(C45="","",C45) | R27: =IF(Q27="","",IF(Split="x",IF(Fines_Cumulative="x",Q27/Split_Weight,SUM($Q$19:Q27)/Split_Weight+Split_Percent),IF(Fines_Cumulative="x",Q27/Split_Weight*(1-Split_Percent)+Split_Percent,SUM($Q$19:Q27)/Split_Weight*(1-Split_Percent)+Split_Percent))) | S27: =IF(R27="","",1-R27) | T27: =IF(AND(Q27="",SUM($R$3:S27)>0),S28+((S26-S28)*(P27-P28)/(P26-P28)),S27) | U27: =TYPE(T27) -> 2 | V27: =IF(OR(U27=1,U27=2),"",P27) | W27: =IF(V27="",IF(OR(AND(U28=16,U26<16),AND(U28<16,U26=16),AND(U28=16,U26=16)),P27,""),"") | X27: =IF(W27="","",S27) | Y27: =IF(V27="","",MIN($X$3:X27)-MAX(X28:$X$31)) | Z27: =IF(V27="","",MIN($W$3:W27)-MAX(W28:$W$31)) | AA27: =IF(V27="","",(V27-MAX(W28:$W$31))/Z27*Y27+MAX(X28:$X$31)) | AB27: =IF(AA27="",IF(T27="",1,T27),AA27) -> 1 | AC27: =IF(VLOOKUP($AC$1,Specs!$F$3:$AI$398,26,FALSE)="","",VLOOKUP($AC$1,Specs!$F$3:$AI$398,26,FALSE)) -> 1 | AD27: =IF(VLOOKUP($AC$2,Specs!$F$3:$AI$398,26,FALSE)="","",VLOOKUP($AC$2,Specs!$F$3:$AI$398,26,FALSE)) -> 0 | AE27: =IF(AC27="","",IF(AND(AB27<=AC27,AB27>=AD27),1,2)) -> 1 | AF27: =IF(AE27="","",MAX($AF$3:AF26)+1) -> 25 | AG27: =IF(MIN($AG$3:AG26)-1<=0,"",AG26-1) -> 5 | AH27: =IF(AG27="",200,VLOOKUP(AG27,$N$3:$AD$31,3,FALSE)) -> 50 | AI27: =IF(AG27="",1,VLOOKUP(AG27,$N$3:$AD$31,16,FALSE)) -> 1 | AJ27: =IF(AG27="",1,VLOOKUP(AG27,$N$3:$AD$31,17,FALSE)) -> 0 | AK27: 1 | AL27: 25 | AM27: =P7 -> 50 | AN27: =AB7 -> 1 | AO27: =1-AN27 -> 0 | AP27: =IF(AR27="","",MAX($AP$3:AP26)+1) | AQ27: =P27 -> 0.18 | AR27: =S27 | AS27: =IF(MIN($AS$3:AS26)-1<=0,"",AS26-1) -> #N/A | AT27: =IF(AS27="",150,VLOOKUP(AS27,$AP$3:$AR$31,2,FALSE)) -> #N/A | AU27: =IF(AS27="",1,VLOOKUP(AS27,$AP$3:$AR$31,3,FALSE)) -> #N/A
B28: Total Weight | C28: =IF(E3="x",D31,IF(E7="x",(MAX(C11:C26)+C27),SUM(C11:C27))) -> 0 | J28: Plasticity Index: | K28: =IF('Atterberg Limits'!D21="N/A",IF($K$24="x",0,"n/a"),'Atterberg Limits'!D21) -> 0 | M28: 26 | N28: =IF(AF28="","",AF28) -> 26 | O28: =A46 -> #100 | P28: =B46 -> 0.15 | Q28: =IF(C46="","",C46) | R28: =IF(Q28="","",IF(Split="x",IF(Fines_Cumulative="x",Q28/Split_Weight,SUM($Q$19:Q28)/Split_Weight+Split_Percent),IF(Fines_Cumulative="x",Q28/Split_Weight*(1-Split_Percent)+Split_Percent,SUM($Q$19:Q28)/Split_Weight*(1-Split_Percent)+Split_Percent))) | S28: =IF(R28="","",1-R28) | T28: =IF(AND(Q28="",SUM($R$3:S28)>0),S29+((S27-S29)*(P28-P29)/(P27-P29)),S28) | U28: =TYPE(T28) -> 2 | V28: =IF(OR(U28=1,U28=2),"",P28) | W28: =IF(V28="",IF(OR(AND(U29=16,U27<16),AND(U29<16,U27=16),AND(U29=16,U27=16)),P28,""),"") | X28: =IF(W28="","",S28) | Y28: =IF(V28="","",MIN($X$3:X28)-MAX(X29:$X$31)) | Z28: =IF(V28="","",MIN($W$3:W28)-MAX(W29:$W$31)) | AA28: =IF(V28="","",(V28-MAX(W29:$W$31))/Z28*Y28+MAX(X29:$X$31)) | AB28: =IF(AA28="",IF(T28="",1,T28),AA28) -> 1 | AC28: =IF(VLOOKUP($AC$1,Specs!$F$3:$AI$398,27,FALSE)="","",VLOOKUP($AC$1,Specs!$F$3:$AI$398,27,FALSE)) -> 1 | AD28: =IF(VLOOKUP($AC$2,Specs!$F$3:$AI$398,27,FALSE)="","",VLOOKUP($AC$2,Specs!$F$3:$AI$398,27,FALSE)) -> 0 | AE28: =IF(AC28="","",IF(AND(AB28<=AC28,AB28>=AD28),1,2)) -> 1 | AF28: =IF(AE28="","",MAX($AF$3:AF27)+1) -> 26 | AG28: =IF(MIN($AG$3:AG27)-1<=0,"",AG27-1) -> 4 | AH28: =IF(AG28="",200,VLOOKUP(AG28,$N$3:$AD$31,3,FALSE)) -> 63 | AI28: =IF(AG28="",1,VLOOKUP(AG28,$N$3:$AD$31,16,FALSE)) -> 1 | AJ28: =IF(AG28="",1,VLOOKUP(AG28,$N$3:$AD$31,17,FALSE)) -> 0 | AK28: 1 | AL28: 26 | AM28: =P6 -> 63 | AN28: =AB6 -> 1 | AO28: =1-AN28 -> 0 | AP28: =IF(AR28="","",MAX($AP$3:AP27)+1) | AQ28: =P28 -> 0.15 | AR28: =S28 | AS28: =IF(MIN($AS$3:AS27)-1<=0,"",AS27-1) -> #N/A | AT28: =IF(AS28="",150,VLOOKUP(AS28,$AP$3:$AR$31,2,FALSE)) -> #N/A | AU28: =IF(AS28="",1,VLOOKUP(AS28,$AP$3:$AR$31,3,FALSE)) -> #N/A
C29: Fines Section | M29: 27 | N29: =IF(AF29="","",AF29) -> 27 | O29: =A47 -> #140 | P29: =B47 -> 0.106 | Q29: =IF(C47="","",C47) | R29: =IF(Q29="","",IF(Split="x",IF(Fines_Cumulative="x",Q29/Split_Weight,SUM($Q$19:Q29)/Split_Weight+Split_Percent),IF(Fines_Cumulative="x",Q29/Split_Weight*(1-Split_Percent)+Split_Percent,SUM($Q$19:Q29)/Split_Weight*(1-Split_Percent)+Split_Percent))) | S29: =IF(R29="","",1-R29) | T29: =IF(AND(Q29="",SUM($R$3:S29)>0),S30+((S28-S30)*(P29-P30)/(P28-P30)),S29) | U29: =TYPE(T29) -> 2 | V29: =IF(OR(U29=1,U29=2),"",P29) | W29: =IF(V29="",IF(OR(AND(U30=16,U28<16),AND(U30<16,U28=16),AND(U30=16,U28=16)),P29,""),"") | X29: =IF(W29="","",S29) | Y29: =IF(V29="","",MIN($X$3:X29)-MAX(X30:$X$31)) | Z29: =IF(V29="","",MIN($W$3:W29)-MAX(W30:$W$31)) | AA29: =IF(V29="","",(V29-MAX(W30:$W$31))/Z29*Y29+MAX(X30:$X$31)) | AB29: =IF(AA29="",IF(T29="",1,T29),AA29) -> 1 | AC29: =IF(VLOOKUP($AC$1,Specs!$F$3:$AI$398,28,FALSE)="","",VLOOKUP($AC$1,Specs!$F$3:$AI$398,28,FALSE)) -> 1 | AD29: =IF(VLOOKUP($AC$2,Specs!$F$3:$AI$398,28,FALSE)="","",VLOOKUP($AC$2,Specs!$F$3:$AI$398,28,FALSE)) -> 0 | AE29: =IF(AC29="","",IF(AND(AB29<=AC29,AB29>=AD29),1,2)) -> 1 | AF29: =IF(AE29="","",MAX($AF$3:AF28)+1) -> 27 | AG29: =IF(MIN($AG$3:AG28)-1<=0,"",AG28-1) -> 3 | AH29: =IF(AG29="",200,VLOOKUP(AG29,$N$3:$AD$31,3,FALSE)) -> 75 | AI29: =IF(AG29="",1,VLOOKUP(AG29,$N$3:$AD$31,16,FALSE)) -> 1 | AJ29: =IF(AG29="",1,VLOOKUP(AG29,$N$3:$AD$31,17,FALSE)) -> 0 | AK29: 1 | AL29: 27 | AM29: =P5 -> 75 | AN29: =AB5 -> 1 | AO29: =1-AN29 -> 0 | AP29: =IF(AR29="","",MAX($AP$3:AP28)+1) | AQ29: =P29 -> 0.106 | AR29: =S29 | AS29: =IF(MIN($AS$3:AS28)-1<=0,"",AS28-1) -> #N/A | AT29: =IF(AS29="",150,VLOOKUP(AS29,$AP$3:$AR$31,2,FALSE)) -> #N/A | AU29: =IF(AS29="",1,VLOOKUP(AS29,$AP$3:$AR$31,3,FALSE)) -> #N/A
D30: Weights are Cumulative: | E30: x | J30: Fineness Modulus: | K30: =IF(ISERROR((1-AB28+1-AB25+1-AB23+1-AB21+1-AB19+1-AB18+1-AB16+1-AB13+1-AB9+1-AB5)),"",(1-AB28+1-AB25+1-AB23+1-AB21+1-AB19+1-AB18+1-AB16+1-AB13+1-AB9+1-AB5)) -> 0 | M30: 28 | N30: =IF(AF30="","",AF30) -> 28 | O30: =A48 -> #170 | P30: =B48 -> 0.09 | Q30: =IF(C48="","",C48) | R30: =IF(Q30="","",IF(Split="x",IF(Fines_Cumulative="x",Q30/Split_Weight,SUM($Q$19:Q30)/Split_Weight+Split_Percent),IF(Fines_Cumulative="x",Q30/Split_Weight*(1-Split_Percent)+Split_Percent,SUM($Q$19:Q30)/Split_Weight*(1-Split_Percent)+Split_Percent))) | S30: =IF(R30="","",1-R30) | T30: =IF(AND(Q30="",SUM($R$3:S30)>0),S31+((S29-S31)*(P30-P31)/(P29-P31)),S30) | U30: =TYPE(T30) -> 2 | V30: =IF(OR(U30=1,U30=2),"",P30) | W30: =IF(V30="",IF(OR(AND(U31=16,U29<16),AND(U31<16,U29=16),AND(U31=16,U29=16)),P30,""),"") | X30: =IF(W30="","",S30) | Y30: =IF(V30="","",MIN($X$3:X30)-MAX(X31:$X$31)) | Z30: =IF(V30="","",MIN($W$3:W30)-MAX(W31:$W$31)) | AA30: =IF(V30="","",(V30-MAX(W31:$W$31))/Z30*Y30+MAX(X31:$X$31)) | AB30: =IF(AA30="",IF(T30="",1,T30),AA30) -> 1 | AC30: =IF(VLOOKUP($AC$1,Specs!$F$3:$AI$398,29,FALSE)="","",VLOOKUP($AC$1,Specs!$F$3:$AI$398,29,FALSE)) -> 1 | AD30: =IF(VLOOKUP($AC$2,Specs!$F$3:$AI$398,29,FALSE)="","",VLOOKUP($AC$2,Specs!$F$3:$AI$398,29,FALSE)) -> 0 | AE30: =IF(AC30="","",IF(AND(AB30<=AC30,AB30>=AD30),1,2)) -> 1 | AF30: =IF(AE30="","",MAX($AF$3:AF29)+1) -> 28 | AG30: =IF(MIN($AG$3:AG29)-1<=0,"",AG29-1) -> 2 | AH30: =IF(AG30="",200,VLOOKUP(AG30,$N$3:$AD$31,3,FALSE)) -> 100 | AI30: =IF(AG30="",1,VLOOKUP(AG30,$N$3:$AD$31,16,FALSE)) -> 1 | AJ30: =IF(AG30="",1,VLOOKUP(AG30,$N$3:$AD$31,17,FALSE)) -> 0 | AK30: 1 | AL30: 28 | AM30: =P4 -> 100 | AN30: =AB4 -> 1 | AO30: =1-AN30 -> 0 | AP30: =IF(AR30="","",MAX($AP$3:AP29)+1) | AQ30: =P30 -> 0.09 | AR30: =S30 | AS30: =IF(MIN($AS$3:AS29)-1<=0,"",AS29-1) -> #N/A | AT30: =IF(AS30="",150,VLOOKUP(AS30,$AP$3:$AR$31,2,FALSE)) -> #N/A | AU30: =IF(AS30="",1,VLOOKUP(AS30,$AP$3:$AR$31,3,FALSE)) -> #N/A
C31: Before Wash Weight: | E31: =IF(E3="x"," « Enter Total Sample Weight Here!","") | M31: 29 | N31: =IF(AF31="","",AF31) -> 29 | O31: =A49 -> #200 | P31: =B49 -> 0.075 | Q31: =IF(C49="","",C49) | R31: =IF(Q31="","",IF(Split="x",IF(Fines_Cumulative="x",Q31/Split_Weight,SUM($Q$19:Q31)/Split_Weight+Split_Percent),IF(Fines_Cumulative="x",Q31/Split_Weight*(1-Split_Percent)+Split_Percent,SUM($Q$19:Q31)/Split_Weight*(1-Split_Percent)+Split_Percent))) | S31: =IF(R31="","",1-R31) | T31: =IF(AND(Q31="",SUM($R$3:S31)>0),S32+((S30-S32)*(P31-P32)/(P30-P32)),S31) | U31: =TYPE(T31) -> 2 | V31: =IF(OR(U31=1,U31=2),"",P31) | W31: =IF(V31="",IF(OR(AND(U32=16,U30<16),AND(U32<16,U30=16),AND(U32=16,U30=16)),P31,""),"") | X31: =IF(W31="","",S31) | Y31: =IF(V31="","",MIN($X$3:X31)-MAX(X$31:$X32)) | Z31: =IF(V31="","",MIN($W$3:W31)-MAX(W$31:$W32)) | AA31: =IF(V31="","",(V31-MAX(W$31:$W32))/Z31*Y31) | AB31: =IF(AA31="",IF(T31="",1,T31),AA31) -> 1 | AC31: =IF(VLOOKUP($AC$1,Specs!$F$3:$AI$398,30,FALSE)="","",VLOOKUP($AC$1,Specs!$F$3:$AI$398,30,FALSE)) -> 1 | AD31: =IF(VLOOKUP($AC$2,Specs!$F$3:$AI$398,30,FALSE)="","",VLOOKUP($AC$2,Specs!$F$3:$AI$398,30,FALSE)) -> 0 | AE31: =IF(AC31="","",IF(AND(AB31<=AC31,AB31>=AD31),1,2)) -> 1 | AF31: =IF(AE31="","",MAX($AF$3:AF30)+1) -> 29 | AG31: =IF(MIN($AG$3:AG30)-1<=0,"",AG30-1) -> 1 | AH31: =IF(AG31="",200,VLOOKUP(AG31,$N$3:$AD$31,3,FALSE)) -> 150 | AI31: =IF(AG31="",1,VLOOKUP(AG31,$N$3:$AD$31,16,FALSE)) -> 1 | AJ31: =IF(AG31="",1,VLOOKUP(AG31,$N$3:$AD$31,17,FALSE)) -> 0 | AK31: 1 | AL31: 29 | AM31: =P3 -> 150 | AN31: =AB3 -> 1 | AO31: =1-AN31 -> 0 | AP31: =IF(AR31="","",MAX($AP$3:AP30)+1) | AQ31: =P31 -> 0.075 | AR31: =S31 | AS31: =IF(MIN($AS$3:AS30)-1<=0,"",AS30-1) -> #N/A | AT31: =IF(AS31="",150,VLOOKUP(AS31,$AP$3:$AR$31,2,FALSE)) -> #N/A | AU31: =IF(AS31="",1,VLOOKUP(AS31,$AP$3:$AR$31,3,FALSE)) -> #N/A
C32: After Wash Weight: | E32: Accuracy: | F32: =IF(ISERROR(ABS((D32-D33)/D32)),"",ABS((D32-D33)/D32)) | G32: =IF(AND(E3="x",E7="",D31<>C28),"There appears to be a weighing error !","") | J32: D(10)= | K32: =IF(ISERROR(AX15),"",AX15) -> 0.0075 | L32: mm | AF32: =IF(AE32="","",MAX(AF31:AF32)+1)
C33: After Sieving Weight: | D33: =IF(E30="x",C50,SUM(C37:C50)) -> 0 | F33: =IF(F32>0.003,"Invalid, Repeat Test","Valid Test") -> Invalid, Repeat Test | J33: D(30)= | K33: =IF(ISERROR(AX16),"",AX16) -> 0.0225 | L33: mm | S33: =IF(ISNA(T33),ERROR.TYPE(T33),1) -> 7 | T33: =IF(R40="","",VLOOKUP(R40,Q41:W76,3)) -> #N/A | AH33: =AH3 -> 0.075 | AI33: =1-AI3 -> 0 | AJ33: =1-AJ3 -> 1
C34: =IF(Fines_Cumulative="x","Cumulative","Individual") -> Cumulative | D34: Cumulative | E34: Cumulative | F34: Interpolated | J34: D(60)= | K34: =IF(ISERROR(AX17),"",AX17) -> 0.045 | L34: mm | R34: Coarse | S34: =IF(ISNA(T34),ERROR.TYPE(T34),1) -> 1 | T34: =IF(ISERROR(VLOOKUP(T40,Q41:W76,5)),#N/A,IF(T40="","",VLOOKUP(T40,Q41:W76,5))) -> ML, Silt | AH34: =AH4 -> 0.09 | AI34: =1-AI4 -> 0 | AJ34: =1-AJ4 -> 1
A35: Sieve | B35: Size | C35: Retained | D35: Percent | E35: Percent | F35: Percent | G35: Specs | J35: Coeff. of Curvature, CC = | K35: =IF(ISERROR((K33*K33)/(K32*K34)),"",(K33*K33)/(K32*K34)) -> 1.5 | Q35: Type | R35: %Fines | S35: =IF(ISNA(T35),ERROR.TYPE(T35),1) -> 7 | T35: =IF(V40="","",VLOOKUP(V40,Q41:W76,7)) -> #N/A | AH35: =AH5 -> 0.106 | AI35: =1-AI5 -> 0 | AJ35: =1-AJ5 -> 1
A36: US | B36: mm | C36: Weight | D36: Retained | E36: Passing | F36: Passing | G36: Max | H36: Min | J36: Coeff. of Uniformity, CU = | K36: =IF(ISERROR(K34/K32),"",K34/K32) -> 6 | Q36: =IF(Silt_Clay<0.5,"Coarse","") | R36: =IF(K42<0.05,"Yes","") | AH36: =AH6 -> 0.15 | AI36: =1-AI6 -> 0 | AJ36: =1-AJ6 -> 1
A37: #8 | B37: 2.36 | D37: =IF(R19=0,"",R19) | E37: =IF(S19=0,"",S19) | F37: =IF(ISERROR(AB19),"",AB19) -> 1 | G37: =IF($AB$1=1, "",AC19) | H37: =IF($AB$1=1, "",AD19) | Q37: =IF(K42>=0.5,"Fine","") -> Fine | R37: =IF(AND(K42>=0.05,K42<=0.12),"Yes","") | AH37: =AH7 -> 0.18 | AI37: =1-AI7 -> 0 | AJ37: =1-AJ7 -> 1
A38: #10 | B38: 2 | D38: =IF(R20=0,"",R20) | E38: =IF(S20=0,"",S20) | F38: =IF(ISERROR(AB20),"",AB20) -> 1 | G38: =IF($AB$1=1, "",AC20) | H38: =IF($AB$1=1, "",AD20) | J38: % Gravel = | K38: =IF(ISERROR(1-F26),"",1-F26) -> 0 | Q38: =IF(OR(Liquid_Limit=0,Liquid_Limit="",K25=0,K25=""),"",IF(K25/Liquid_Limit<0.75,"Organic","")) | R38: =IF(K42>0.12,"Yes","") -> Yes | AH38: =AH8 -> 0.25 | AI38: =1-AI8 -> 0 | AJ38: =1-AJ8 -> 1
A39: #16 | B39: 1.18 | D39: =IF(R21=0,"",R21) | E39: =IF(S21=0,"",S21) | F39: =IF(ISERROR(AB21),"",AB21) -> 1 | G39: =IF($AB$1=1, "",AC21) | H39: =IF($AB$1=1, "",AD21) | J39: % Sand = | K39: =IF(ISERROR(F26-F49),"",F26-F49) -> 0 | Q39: =COUNT(Q36:Q38) -> 0 | AH39: =AH9 -> 0.3 | AI39: =1-AI9 -> 0 | AJ39: =1-AJ9 -> 1
A40: #20 | B40: 0.85 | D40: =IF(R22=0,"",R22) | E40: =IF(S22=0,"",S22) | F40: =IF(ISERROR(AB22),"",AB22) -> 1 | G40: =IF($AB$1=1, "",AC22) | H40: =IF($AB$1=1, "",AD22) | J40: % Silt & Clay = | K40: =F49 -> 1 | R40: =MAX(R41:R76) -> 0 | S40: COARSE GRAINED SOILS | T40: =MAX(T41:T75) -> 15 | U40: FINE GRAINED SOILS | V40: =MAX(V41:V68) -> 0 | W40: ORGANIC FINE GRAINED SOILS | AH40: =AH10 -> 0.425 | AI40: =1-AI10 -> 0 | AJ40: =1-AJ10 -> 1
...

Sheet Sieve Report
A31: Date : | B31: =IF('Sieve Data'!H2="","",'Sieve Data'!H2) | F31: D10 = | G31: ='Sieve Data'!AX15 -> 0.0075 | H31: Classification | L31: % Gravel
A32: Sample #: | B32: =IF('Sieve Data'!H3="","",'Sieve Data'!H3) | F32: D30 = | G32: ='Sieve Data'!AX16 -> 0.0225 | H32: ='Sieve Data'!I13 -> No Data Provided | L32: =Gravel -> 0
